BEGIN:VCALENDAR
VERSION:2.0
PRODID:-//KielRegion - ECPv6.15.20//NONSGML v1.0//EN
CALSCALE:GREGORIAN
METHOD:PUBLISH
X-WR-CALNAME:KielRegion
X-ORIGINAL-URL:https://www.kielregion.de
X-WR-CALDESC:Veranstaltungen für KielRegion
REFRESH-INTERVAL;VALUE=DURATION:PT1H
X-Robots-Tag:noindex
X-PUBLISHED-TTL:PT1H
BEGIN:VTIMEZONE
TZID:Europe/Berlin
BEGIN:DAYLIGHT
TZOFFSETFROM:+0100
TZOFFSETTO:+0200
TZNAME:CEST
DTSTART:20240331T010000
END:DAYLIGHT
BEGIN:STANDARD
TZOFFSETFROM:+0200
TZOFFSETTO:+0100
TZNAME:CET
DTSTART:20241027T010000
END:STANDARD
BEGIN:DAYLIGHT
TZOFFSETFROM:+0100
TZOFFSETTO:+0200
TZNAME:CEST
DTSTART:20250330T010000
END:DAYLIGHT
BEGIN:STANDARD
TZOFFSETFROM:+0200
TZOFFSETTO:+0100
TZNAME:CET
DTSTART:20251026T010000
END:STANDARD
BEGIN:DAYLIGHT
TZOFFSETFROM:+0100
TZOFFSETTO:+0200
TZNAME:CEST
DTSTART:20260329T010000
END:DAYLIGHT
BEGIN:STANDARD
TZOFFSETFROM:+0200
TZOFFSETTO:+0100
TZNAME:CET
DTSTART:20261025T010000
END:STANDARD
END:VTIMEZONE
BEGIN:VEVENT
DTSTART;TZID=Europe/Berlin:20251031T223000
DTEND;TZID=Europe/Berlin:20251101T030000
DTSTAMP:20260422T214620
CREATED:20251024T093200Z
LAST-MODIFIED:20251024T093200Z
UID:10000244-1761949800-1761966000@www.kielregion.de
SUMMARY:Science Day Party 3
DESCRIPTION:Der krönende Abschluss des Science Day! Wenn die Experimente beendet sind und die Vorträge verstummen\, beginnt die große Feier: Bei der Science Party in der Pumpe wird Wissenschaft tanzbar! DJs und DJanes der Fachhochschule Kiel aus dem Fachbereich Soziale Arbeit sorgen für den passenden Sound\, um den Tag voller Entdeckungen gebührend ausklingen zu lassen.
URL:https://www.kielregion.de/event/science-day-party-3/
LOCATION:Pumpe\, Kiel\, Schleswig-Holstein\, Deutschland
CATEGORIES:Science Day
ATTACH;FMTTYPE=image/jpeg:https://www.kielregion.de/wp-content/uploads/2025/10/waiting-room-with-monitors-scaled.jpg
END:VEVENT
BEGIN:VEVENT
DTSTART;TZID=Europe/Berlin:20251031T223000
DTEND;TZID=Europe/Berlin:20251101T030000
DTSTAMP:20260422T214620
CREATED:20251024T084139Z
LAST-MODIFIED:20251024T084139Z
UID:10000243-1761949800-1761966000@www.kielregion.de
SUMMARY:Science Day Party 2
DESCRIPTION:Der krönende Abschluss des Science Day! Wenn die Experimente beendet sind und die Vorträge verstummen\, beginnt die große Feier: Bei der Science Party in der Pumpe wird Wissenschaft tanzbar! DJs und DJanes der Fachhochschule Kiel aus dem Fachbereich Soziale Arbeit sorgen für den passenden Sound\, um den Tag voller Entdeckungen gebührend ausklingen zu lassen.
URL:https://www.kielregion.de/event/science-day-party-2-2/
LOCATION:Pumpe\, Kiel\, Schleswig-Holstein\, Deutschland
CATEGORIES:Science Day
ATTACH;FMTTYPE=image/jpeg:https://www.kielregion.de/wp-content/uploads/2025/10/waiting-room-with-monitors-scaled.jpg
END:VEVENT
BEGIN:VEVENT
DTSTART;TZID=Europe/Berlin:20250926T223000
DTEND;TZID=Europe/Berlin:20250927T030000
DTSTAMP:20260422T214620
CREATED:20250902T062244Z
LAST-MODIFIED:20251024T075704Z
UID:10000137-1758925800-1758942000@www.kielregion.de
SUMMARY:Science Day Party
DESCRIPTION:Der krönende Abschluss des Science Day! Wenn die Experimente beendet sind und die Vorträge verstummen\, beginnt die große Feier: Bei der Science Party in der Pumpe wird Wissenschaft tanzbar! DJs und DJanes der Fachhochschule Kiel aus dem Fachbereich Soziale Arbeit sorgen für den passenden Sound\, um den Tag voller Entdeckungen gebührend ausklingen zu lassen.
URL:https://www.kielregion.de/event/science-day-party-2/
LOCATION:Pumpe\, Kiel\, Schleswig-Holstein\, Deutschland
CATEGORIES:Science Day
ATTACH;FMTTYPE=image/jpeg:https://www.kielregion.de/wp-content/uploads/2025/10/waiting-room-with-monitors-scaled.jpg
END:VEVENT
BEGIN:VEVENT
DTSTART;TZID=Europe/Berlin:20250926T210000
DTEND;TZID=Europe/Berlin:20250926T220000
DTSTAMP:20260422T214620
CREATED:20250902T142308Z
LAST-MODIFIED:20250902T142308Z
UID:10000197-1758920400-1758924000@www.kielregion.de
SUMMARY:Insekten – Die Meister der Anpassung
DESCRIPTION:Das Reich der Insekten ist eine uns oft verborgene Welt. Dabei besitzen diese kleinen Lebewesen beeindruckende Fähigkeiten. Die\nFlugkunst vieler Insekten übertrifft selbst die der Vögel. Ameisen\nschaffen durch gemeinsame Arbeit Erstaunliches. Nashornkäfer\,\nSchwebfliegen\, Bienen und Termiten sind wahre Meister der Anpassung. Insekten – eine großartige Erfolgsgeschichte der Evolution.
URL:https://www.kielregion.de/event/insekten-die-meister-der-anpassung/
LOCATION:Hansa48\, Kiel\, Schleswig-Holstein\, Deutschland
CATEGORIES:Science Day
END:VEVENT
BEGIN:VEVENT
DTSTART;TZID=Europe/Berlin:20250926T203000
DTEND;TZID=Europe/Berlin:20250926T220000
DTSTAMP:20260422T214620
CREATED:20250904T084225Z
LAST-MODIFIED:20250908T120519Z
UID:10000228-1758918600-1758924000@www.kielregion.de
SUMMARY:Science Pubquiz
DESCRIPTION:Ratespiel zum Thema Wissenschaft mit dem Slam-Poeten Björn Högsdal. Stell dich mit deinem Team diesem Pubquiz mit vielen spannenden und interessanten Facts aus der Wissenschaft
URL:https://www.kielregion.de/event/science-pubquiz/
LOCATION:Pumpe\, Kiel\, Schleswig-Holstein\, Deutschland
CATEGORIES:Science Day
END:VEVENT
BEGIN:VEVENT
DTSTART;TZID=Europe/Berlin:20250926T200000
DTEND;TZID=Europe/Berlin:20250926T210000
DTSTAMP:20260422T214620
CREATED:20250902T141919Z
LAST-MODIFIED:20250902T142020Z
UID:10000195-1758916800-1758920400@www.kielregion.de
SUMMARY:Das Mammut Projekt
DESCRIPTION:Mammut und Beutelwolf sollen zurückkehren\, um bedrohte\nLebensräume zu retten. Weltweit arbeiten Forschende daran\, verschwundene Tierarten neu zu erschaffen. Mit modernen Bio- und\nGentechniken gewinnen sie aus Museumsexemplaren die Baupläne\ndes verloren geglaubten Erbguts. Ist das eine Hoffnung für eine\nintakte Natur oder spielt die Wissenschaft Gott – mit unabsehbaren\nFolgen?
URL:https://www.kielregion.de/event/time-to-act/
LOCATION:Hansa48\, Kiel\, Schleswig-Holstein\, Deutschland
CATEGORIES:Science Day
END:VEVENT
BEGIN:VEVENT
DTSTART;TZID=Europe/Berlin:20250926T200000
DTEND;TZID=Europe/Berlin:20250926T210000
DTSTAMP:20260422T214620
CREATED:20250902T140713Z
LAST-MODIFIED:20250902T140713Z
UID:10000190-1758916800-1758920400@www.kielregion.de
SUMMARY:Pink Floyd - The Dark Side of the Moon Planetarium Experience
DESCRIPTION:Das kultige Album von Pink Floyd wird mit wissenschaftlichen und künstlerischen Visualisierungen wiedergegeben. Die Show basiert auf den 10 Tracks des Albums und zwar in chronologischer Reihenfolge: einige futuristisch nach vorne blickend und andere eine Retro-Bestätigung der visuellen Geschichte von Pink Floyd.\nAlle beziehen sich auf eine Zeit- und Raumerfahrung\, die die modernste Technologie umfasst\, die nur ein Planetarium bieten kann.\nWo? Mediendom der Fachhochschule Kiel\, Sokratesplatz 6
URL:https://www.kielregion.de/event/pink-floyd-the-dark-side-of-the-moon-planetarium-experience/
LOCATION:Fachhochschule Kiel\, Deutschland
CATEGORIES:Science Day
END:VEVENT
BEGIN:VEVENT
DTSTART;TZID=Europe/Berlin:20250926T193000
DTEND;TZID=Europe/Berlin:20250926T193000
DTSTAMP:20260422T214620
CREATED:20250904T092704Z
LAST-MODIFIED:20250908T120537Z
UID:10000240-1758915000-1758915000@www.kielregion.de
SUMMARY:Aus der Wissenschaft in die Gründung – StartUp Pitches
DESCRIPTION:Speed-Pitching #Transfer & #Transformation: Wie verwandelt man Forschungserkenntnisse in Unternehmenskonzepte?
URL:https://www.kielregion.de/event/aus-der-wissenschaft-in-die-gruendung-startup-pitches/
LOCATION:Wissenschaftszentrum\, Fraunhoferstr. 13\, Kiel\, Schleswig-Holstein\, 24118\, Deutschland
CATEGORIES:Science Day
END:VEVENT
BEGIN:VEVENT
DTSTART;TZID=Europe/Berlin:20250926T190000
DTEND;TZID=Europe/Berlin:20250926T200000
DTSTAMP:20260422T214620
CREATED:20250902T142209Z
LAST-MODIFIED:20250902T142209Z
UID:10000196-1758913200-1758916800@www.kielregion.de
SUMMARY:Time to Act
DESCRIPTION:Der Extremsportler und Umweltschützer Miachel Walther macht\nsich auf den Weg nach Island. Mit dem Stand-Up-Paddleboard zwischen Gletschern und Walen erlebt er den Klimawandel so nah wie\nnie zuvor. Hier trifft der Kieler auf Wissenschaftler:innen\, Unternehmer:innen und Vidionär:innen der Blue Economy\, deren lösungsorientierte Haltung sie vereint.\nFilmgespräch im Anschluss in der Kinobar mit\nRegisseur Till Schauder.
URL:https://www.kielregion.de/event/time-to-act-2/
LOCATION:Hansa48\, Kiel\, Schleswig-Holstein\, Deutschland
CATEGORIES:Science Day
END:VEVENT
BEGIN:VEVENT
DTSTART;TZID=Europe/Berlin:20250926T183000
DTEND;TZID=Europe/Berlin:20250926T193000
DTSTAMP:20260422T214620
CREATED:20250902T140540Z
LAST-MODIFIED:20250908T121146Z
UID:10000189-1758911400-1758915000@www.kielregion.de
SUMMARY:Universum für Anfänger - vom Staunen zum Verstehen
DESCRIPTION:Was sehen wir eigentlich alles am Himmel? Was sind Sterne\, und was sind Planeten? Wie ist unsere Sonne entstanden? Warum ist es im Winter kalt? Was sind Schwarze Löcher? Und was können Forschende alles aus dem Licht der Sterne herauslesen?\n\nUnter dem Motto „Vom Staunen zum Verstehen“ gibt „Universum für Anfänger“ gut verständliche Antworten auf all diese Fragen. Sie nimmt die Zuschauerinnen und Zuschauer mit auf eine faszinierende Reise durch das Weltall – anschaulich und unterhaltsam.\nWo? Mediendom der Fachhochschule Kiel\, Sokratesplatz 6
URL:https://www.kielregion.de/event/universum-fuer-anfaenger-vom-staunen-zum-verstehen/
LOCATION:Fachhochschule Kiel\, Deutschland
CATEGORIES:Science Day
END:VEVENT
BEGIN:VEVENT
DTSTART;TZID=Europe/Berlin:20250926T183000
DTEND;TZID=Europe/Berlin:20250926T191500
DTSTAMP:20260422T214620
CREATED:20250904T081910Z
LAST-MODIFIED:20250908T120618Z
UID:10000217-1758911400-1758914100@www.kielregion.de
SUMMARY:Präsentation des Bildbands „ROOTS“
DESCRIPTION:Ausgrabungen\, die nach wenigen Stunden in den Fluten der Nordsee versinken. Geschichten\, die Hirten im anatolischen Tektek-Gebirge bei einem Glas Tee erzählen. Entdeckungen\, die neue Einblicke in den Alltag der antiken Stadt Pompeji gewähren: Die Arbeit der Wissenschaftler:innen im Exzellenzcluster ROOTS ist immer faszinierend. Mehr als 170 packende Fotografien öffnen in einem neuen Bildband ein Fenster in den Arbeitsalltag der ROOTS-Forschenden. Beim Science Day stellen wir ihn vor.
URL:https://www.kielregion.de/event/braucht-dein-lieblingsbaum-wasser-sensorik-zum-selber-ausprobieren/
LOCATION:RBZ Wirtschaft\, Kiel\, Schleswig-Holstein\, Deutschland
CATEGORIES:Science Day
END:VEVENT
BEGIN:VEVENT
DTSTART;TZID=Europe/Berlin:20250926T180000
DTEND;TZID=Europe/Berlin:20250926T200000
DTSTAMP:20260422T214620
CREATED:20250904T083959Z
LAST-MODIFIED:20250908T120813Z
UID:10000227-1758909600-1758916800@www.kielregion.de
SUMMARY:SEA-EU Science Show
DESCRIPTION:Celebrating 10 years‘ European Researchers‘ Night in Kiel:\nYoung researchers from the SEA-EU Alliance share their science\nand their stories in this international Science Show.
URL:https://www.kielregion.de/event/sea-eu-science-show/
LOCATION:Pumpe\, Kiel\, Schleswig-Holstein\, Deutschland
CATEGORIES:Science Day
END:VEVENT
BEGIN:VEVENT
DTSTART;TZID=Europe/Berlin:20250926T180000
DTEND;TZID=Europe/Berlin:20250926T193000
DTSTAMP:20260422T214620
CREATED:20250916T131421Z
LAST-MODIFIED:20250916T131431Z
UID:10000242-1758909600-1758915000@www.kielregion.de
SUMMARY:Braucht dein Lieblingsbaum Wasser? Sensorik zum selber Ausprobieren
DESCRIPTION:Im Workshop geben wir eine konkrete Einführung in das Internet-of-Things (IoT) und die Vernetzung von intelligenten Geräten und Sensoren. Was ist das „Internet der Dinge“\, wie kann es für die Optimierung von Prozessen genutzt werden und welche Rolle spielt dabei das schleswig-holstein-weite LoRaWan-Netz? Im praktischen Teil wird jeder Teilnehmer unter Anleitung einen eigenen Bodenfeuchte-Sensor konfigurieren und an das Internet anbinden. Der Sensor darf nach dem Workshop mit nachhause genommen werden.\n\nEs wird ein eigener Laptop / eigenes Tablet sowie Zugang zu einer persönlichen E-Mail-Adresse benötigt. Ansonsten sind keine Vorkenntnisse erforderlich.\n\nAnmeldung unter www.kielregion.de
URL:https://www.kielregion.de/event/braucht-dein-lieblingsbaum-wasser-sensorik-zum-selber-ausprobieren-2/
LOCATION:RBZ Wirtschaft\, Kiel\, Schleswig-Holstein\, Deutschland
CATEGORIES:Science Day,Smarte KielRegion
END:VEVENT
BEGIN:VEVENT
DTSTART;TZID=Europe/Berlin:20250926T180000
DTEND;TZID=Europe/Berlin:20250926T190000
DTSTAMP:20260422T214620
CREATED:20250902T141810Z
LAST-MODIFIED:20250908T120850Z
UID:10000194-1758909600-1758913200@www.kielregion.de
SUMMARY:Die Wracktaucherin und  Überleben im eisigen Alaska – Chloe und Eiley
DESCRIPTION:Dieses Doppelprogramm zeigt\, wie Entdeckergeist\, Mut und\nNaturverbundenheit Kinder auf ganz unterschiedlichen\nKontinenten verbindet.\nDie zwölfjährige Antonia liebt das Tauchen – für sie fühlt es sich\nwie Fliegen an. Besonders faszinieren sie die Wracks vor Rügen\, die\nsie in den Ferien mit ihrem Vater\, einem Unterwasserarchäologen\,\nerkundet. Gemeinsam suchen sie nach der Schiffsbohrmuschel\, die\ndie Wracks zerstört – bevor es zu spät ist.\nChloe und Eiley leben in der Wildnis Alaskas\, fernab der Zivilisation.\nOhne Straßen\, mit Helikopter-Versorgung und neugierigen Bären\nals Nachbarn meistern die beiden Schwestern ihren außergewöhnlichen Alltag mitten in der Natur
URL:https://www.kielregion.de/event/die-wracktaucherin-und-ueberleben-im-eisigen-alaska-chloe-und-eiley/
LOCATION:Hansa48\, Kiel\, Schleswig-Holstein\, Deutschland
CATEGORIES:Science Day
END:VEVENT
BEGIN:VEVENT
DTSTART;TZID=Europe/Berlin:20250926T180000
DTEND;TZID=Europe/Berlin:20250926T183000
DTSTAMP:20260422T214620
CREATED:20250904T092244Z
LAST-MODIFIED:20250908T121103Z
UID:10000239-1758909600-1758911400@www.kielregion.de
SUMMARY:Care - das neue Paradigma in Forschung und Wissenschaft?
DESCRIPTION:Angesichts der demographischen Transformation – immer weniger Junge sind für immer mehr Alternde u. Hochaltrige zuständig – gilt es\, die gesamtgesellschaftliche Transformation in den Blick zu nehmen: Die Lebensrealitäten sind grundlegend andere als vor 100 Jahren. Was bedeutet eine Kulturveränderung im Umgang mit Fürsorge\, die sich auch in Wissenschaft und Forschung zeigen wird?
URL:https://www.kielregion.de/event/care-das-neue-paradigma-in-forschung-und-wissenschaft/
LOCATION:Wissenschaftszentrum\, Fraunhoferstr. 13\, Kiel\, Schleswig-Holstein\, 24118\, Deutschland
CATEGORIES:Science Day
END:VEVENT
BEGIN:VEVENT
DTSTART;TZID=Europe/Berlin:20250926T180000
DTEND;TZID=Europe/Berlin:20250926T183000
DTSTAMP:20260422T214620
CREATED:20250904T083303Z
LAST-MODIFIED:20250908T121238Z
UID:10000226-1758909600-1758911400@www.kielregion.de
SUMMARY:Live-Schaltung zum Forschungsschiff Sonne
DESCRIPTION:Die SONNE gehört zu den großen deutschen Forschungsschiffen\nund ist auf Expeditionen vor allem im Pazifik und Indischen Ozean\nunterwegs. Das FS Sonne ist 116 Meter lang\, hat 17 Labore und bietet\nPlatz für 40 Wissenschaftler:innen. In dieser exklusiven Live-Schalte berichtet Dr. Christian Timm (GEOMAR) direkt von Bord. Er gibt\nspannende Einblicke in den Forschungsalltag auf See und zeigt\nfaszinierende Bilder aus der Tiefsee. Seid dabei\, stellt eure Fragen\nund werdet Teil der Expedition!
URL:https://www.kielregion.de/event/live-schaltung-zum-forschungsschiff-sonne/
LOCATION:SEALEVEL
CATEGORIES:Science Day
END:VEVENT
BEGIN:VEVENT
DTSTART;TZID=Europe/Berlin:20250926T170000
DTEND;TZID=Europe/Berlin:20250926T183000
DTSTAMP:20260422T214620
CREATED:20250904T081754Z
LAST-MODIFIED:20250916T131442Z
UID:10000216-1758906000-1758911400@www.kielregion.de
SUMMARY:Gemeinsam die Mobilitätsdaten der KielRegion verbessern –  OpenStreetMap & SH-Navi
DESCRIPTION:Eine gute Karte ist mehr als nur Straßen und Orte – sie ist ein Spiegel unserer Lebenswelt. In diesem Workshop zeigen wir\, wie jede*r mithelfen kann\, die Mobilitätsdatenbasis für die Region zu verbessern – mit OpenStreetMap (OSM)\, der freien Weltkarte\, die von Menschen wie dir und mir erstellt wird. Außerdem lernen wir das SH-Navi kennen: Wie nutzt es OSM-Daten\, welche Informationen fehlen oft – und wie kannst du gezielt dazu beitragen\, die Datenlage zu verbessern?\n\nFür alle\, die sich für digitale Karten\, regionale Entwicklung und offene Daten interessieren – Vorkenntnisse sind nicht erforderlich!\n\nAnmeldung unter www.kielregion.de
URL:https://www.kielregion.de/event/gemeinsam-die-mobilitaetsdaten-der-kielregion-verbessern-openstreetmap-sh-navi/
LOCATION:RBZ Wirtschaft\, Kiel\, Schleswig-Holstein\, Deutschland
CATEGORIES:Science Day,Smarte KielRegion
END:VEVENT
BEGIN:VEVENT
DTSTART;TZID=Europe/Berlin:20250926T170000
DTEND;TZID=Europe/Berlin:20250926T180000
DTSTAMP:20260422T214620
CREATED:20250902T141658Z
LAST-MODIFIED:20250908T121607Z
UID:10000193-1758906000-1758909600@www.kielregion.de
SUMMARY:Seegraswiesen
DESCRIPTION:Seegras speichert nicht nur die größten Zuckervorräte unseres\nPlaneten- diese Pflanze schützt weltweit die Strände vor Erosion\nund ist mit ihren fast 80.000 Jahre alten Wiesen das vielleicht\nälteste Lebewesen der Erde. Seegras reinigt das Meerwasser wie\neine gigantische Kläranlage. Die Doku begleitet führende Seegrasforscher*innen vom Mittelmeer bis an die Ostsee.\nFilmgespräch im Anschluss in der Kinobar mit Forschungstaucher\nund Protagonist Dr. Philipp Schubert vom GEOMAR HelmholtzZentrum für Ozeanforschung Kiel
URL:https://www.kielregion.de/event/seegraswiesen/
LOCATION:Hansa48\, Kiel\, Schleswig-Holstein\, Deutschland
CATEGORIES:Science Day
END:VEVENT
BEGIN:VEVENT
DTSTART;TZID=Europe/Berlin:20250926T170000
DTEND;TZID=Europe/Berlin:20250926T180000
DTSTAMP:20260422T214620
CREATED:20250902T140423Z
LAST-MODIFIED:20250908T121639Z
UID:10000188-1758906000-1758909600@www.kielregion.de
SUMMARY:Sternenhimmel und Planeten
DESCRIPTION:Wie verändert sich der Himmel bei Tag und Nacht? Warum heißen die Planeten „Wandelsterne“? Und was macht den Mars rot? Antworten auf diese und andere Fragen liefert die Show\, dazu jede Menge „Aha-Effekte“\, nicht nur für Kinder\, sondern auch für Erwachsene.\nDie Gäste lernen wichtige Sternbilder kennen und beobachten im Zeitraffer\, wie sich der Himmel verändert. Sie starten zu einer Reise an die Grenzen unseres Planetensystems\, begegnen dabei den Welten des Jupiters und des Mars.\nWo? Mediendom der Fachhochschule Kiel\, Sokratesplatz 6
URL:https://www.kielregion.de/event/sternenhimmel-und-planeten/
LOCATION:Fachhochschule Kiel\, Deutschland
CATEGORIES:Science Day
END:VEVENT
BEGIN:VEVENT
DTSTART;TZID=Europe/Berlin:20250926T163000
DTEND;TZID=Europe/Berlin:20250926T170000
DTSTAMP:20260422T214620
CREATED:20250904T083042Z
LAST-MODIFIED:20250908T122939Z
UID:10000224-1758904200-1758906000@www.kielregion.de
SUMMARY:„Extremwetterereignisse –  Klimaextreme gestern\, heute und morgen“
DESCRIPTION:Im Vortrag dreht sich alles um extreme Ereignisse. Prof. Dr. Stefan\nJuricke (GEOMAR) spannt den Bogen von Extremereignissen in der\nAtmosphäre bis in den Ozean und beantwortet Fragen zu „Wie entstehen sie und wie vorhersagbar sind sie? Können wir uns vor ihnen\nschützen und wie ändern sie sich mit dem Klimawandel?“ Dazu gibt\ner einen Ausblick\, worauf wir uns in Deutschland künftig einstellen\nmüssen.
URL:https://www.kielregion.de/event/extremwetterereignisse-klimaextreme-gestern-heute-und-morgen/
LOCATION:SEALEVEL
CATEGORIES:Science Day
END:VEVENT
BEGIN:VEVENT
DTSTART;TZID=Europe/Berlin:20250926T160000
DTEND;TZID=Europe/Berlin:20250926T200000
DTSTAMP:20260422T214620
CREATED:20250904T092107Z
LAST-MODIFIED:20250908T123005Z
UID:10000238-1758902400-1758916800@www.kielregion.de
SUMMARY:Feuer\, Farben\, Faszination - Die Chemie-Show
DESCRIPTION:Mithilfe der faszinierenden Show-Versuche und des unterhaltsamen Storytellings soll die Vielfalt der Chemie für alle Altersgruppen zugänglich gemacht werden. Wir bieten aufregende Versuche\, welche verschiedene chemische Konzepte für alle greifbar machen sollen. Hierbei werden verschiedene Sinne angesprochen und das komplexe Feld der Chemie nahbar gemacht. Wir möchten insbesondere unsere jungen Gäste für die Chemie begeistern.
URL:https://www.kielregion.de/event/feuer-farben-faszination-die-chemie-show/
LOCATION:Wissenschaftszentrum\, Fraunhoferstr. 13\, Kiel\, Schleswig-Holstein\, 24118\, Deutschland
CATEGORIES:Science Day
END:VEVENT
BEGIN:VEVENT
DTSTART;TZID=Europe/Berlin:20250926T160000
DTEND;TZID=Europe/Berlin:20250926T200000
DTSTAMP:20260422T214620
CREATED:20250902T140956Z
LAST-MODIFIED:20250902T140956Z
UID:10000191-1758902400-1758916800@www.kielregion.de
SUMMARY:Open FabLab
DESCRIPTION:Wir öffnen unsere Werkstatt mit 3D-Druckern\, Lasercuttern und\nvielen weiteren digitalen Fertigungstools.\nHightech-Prototyping hautnah erleben. 3D-Druck mit Pulvern\,\nHarzen und Kunststoff-Filamenten\, oder computergesteuertes\nSchneiden und Gravieren mittels Laser. Die Möglichkeiten der\ndigitalen Fertigung sind vielfältig und die Benutzung ist einfacher als\nman denkt. Im Kieler FabLab gibt es zahlreiche Maschinen und Anwendungsbeispiele aus realen Prototyping-Projekten zu entdecken.\nUnser Team steht für Fragen\, Rundgänge und (je nach Auslastung)\nauch zum interaktiven Ausprobieren zur Verfügung\n\nWo? Fraunhoferstr. 2-4 24118 Kiel\, Eingang Innenhof
URL:https://www.kielregion.de/event/open-fablab/
LOCATION:FabLab\, Kiel\, Schleswig-Holstein\, Deutschland
CATEGORIES:Science Day
END:VEVENT
BEGIN:VEVENT
DTSTART;TZID=Europe/Berlin:20250926T160000
DTEND;TZID=Europe/Berlin:20250926T180000
DTSTAMP:20260422T214620
CREATED:20250902T140316Z
LAST-MODIFIED:20250902T140316Z
UID:10000187-1758902400-1758909600@www.kielregion.de
SUMMARY:Elektromagnetische Felder zum Sehen (und Anfassen)
DESCRIPTION:In dieser kompakten Laborvorführung erhalten Sie die Gelegenheit\, selbst elektromagnetische Felder und Signale zu messen. Hierbei werden die Eigenschaften unserer elektromagnetischen Umwelt anschaulich demonstriert. Mit Antennen und Messempfängern erfassen und analysieren Sie relevante Signale. Dies ist für alle elektronischen Produkte von entscheidender Bedeutung im Hinblick auf die Anforderungen der elektromagnetischen Verträglichkeit und der Vielzahl an Funkübertragungsystemen.\n\nWo? Institut für Kommunikationstechnik Gebäude C13\, Raum 3.24\,\nGrenzstraße
URL:https://www.kielregion.de/event/elektromagnetische-felder-zum-sehen-und-anfassen/
LOCATION:Fachhochschule Kiel\, Deutschland
CATEGORIES:Science Day
END:VEVENT
BEGIN:VEVENT
DTSTART;TZID=Europe/Berlin:20250926T160000
DTEND;TZID=Europe/Berlin:20250926T173000
DTSTAMP:20260422T214620
CREATED:20250902T140130Z
LAST-MODIFIED:20250902T140130Z
UID:10000186-1758902400-1758907800@www.kielregion.de
SUMMARY:Antisemitismus und Rassismus: Eine Kontroverse um die  Verwundbarkeit der postmigrantischen Gesellschaf
DESCRIPTION:Der aktuelle israelisch palästinensische Konflikt bringt disparate Betroffenheiten akut zum Vorschein\, die den ethischen Anspruch auf Empathie und Versöhnung mit einer Politik der Feindschaft kompensieren. Eine polarisierende Kultur des Verdachts gegenüber dem unpassenden Affekt des oder der anderen separiert die Räume der Trauer\, hierarchisiert die Opfer und trennt den Kampf gegen Antisemitismus vom Kampf gegen Rassismus.\n\nWo? Fachbereich für Soziale Arbeit und Gesundheit\, Gebäude C3\,\nSokratesplatz 2\, Raum 502
URL:https://www.kielregion.de/event/antisemitismus-und-rassismus-eine-kontroverse-um-die-verwundbarkeit-der-postmigrantischen-gesellschaf/
LOCATION:Fachhochschule Kiel\, Deutschland
CATEGORIES:Science Day
END:VEVENT
BEGIN:VEVENT
DTSTART;TZID=Europe/Berlin:20250926T160000
DTEND;TZID=Europe/Berlin:20250926T170000
DTSTAMP:20260422T214620
CREATED:20250904T081433Z
LAST-MODIFIED:20250908T123320Z
UID:10000214-1758902400-1758906000@www.kielregion.de
SUMMARY:Der Science Code - Ein interaktives Klassenzimmertheaterstück  zur Wissenschaftskommunikation
DESCRIPTION:KielSCN-Doktorandin Jane Momme und Anna Vollersen geben Einblicke in den Science Code\, ein interaktives Theaterstück für Schüler*innen\, das Wissenschaft\, Theater und Film in einem einzigartigen Bildungsformat vereint. Eine fesselnde Geschichte\, interaktive Rätsel und mediengestützte Zeitreisen lassen die Zuschauer*innen dabei in die Welt der Wissenschaft eintauchen. Erfahren Sie mehr und ergründen sie im Anschluss an eine kurze Aufführung gemeinsam vor Ort spielerisch Wissenschaftsverständnis
URL:https://www.kielregion.de/event/der-science-code-ein-interaktives-klassenzimmertheaterstueck-zur-wissenschaftskommunikation/
LOCATION:RBZ Wirtschaft\, Kiel\, Schleswig-Holstein\, Deutschland
CATEGORIES:Science Day
END:VEVENT
BEGIN:VEVENT
DTSTART;TZID=Europe/Berlin:20250926T160000
DTEND;TZID=Europe/Berlin:20250926T170000
DTSTAMP:20260422T214620
CREATED:20250902T141526Z
LAST-MODIFIED:20250902T141526Z
UID:10000192-1758902400-1758906000@www.kielregion.de
SUMMARY:MS METEOR
DESCRIPTION:Eine Atlantiküberquerung auf der MS Meteor! Moritz Boll hatte die\neinmalige Gelegenheit\, eine Expedition des deutschen Forschungsschiffs zu begleiten. 5.000 Meter unter dem Wasserspiegel leben\nTiere\, die noch nie ein Mensch gesehen hat. Ein Forschungsteam\naus Frankfurt will das Rätsel der Artenvielfalt lösen.\nFilmgespräch im Anschluss in der Kinobar mit Regisseur Moritz Boll
URL:https://www.kielregion.de/event/ms-meteor/
LOCATION:Hansa48\, Kiel\, Schleswig-Holstein\, Deutschland
CATEGORIES:Science Day
END:VEVENT
BEGIN:VEVENT
DTSTART;TZID=Europe/Berlin:20250926T160000
DTEND;TZID=Europe/Berlin:20250926T163000
DTSTAMP:20260422T214620
CREATED:20250904T082932Z
LAST-MODIFIED:20250917T131555Z
UID:10000223-1758902400-1758904200@www.kielregion.de
SUMMARY:Abenteuer Forschungsschiff – Expeditionen zur Erforschung  mariner Naturgefahren
DESCRIPTION:Im Vortrag widmet sich Dr. Oliver Eisermann (CAU/KMS) der Erforschung submariner Naturgefahren\, die Tsunamis auslösen können. Von Forschungsschiffen aus untersucht er zum Beispiel Unterwasservulkane – zuletzt in der griechischen Ägäis. Ziel ist es\, potenzielle Gefahren für Küstenregionen besser zu verstehen und Grundlagen für effektive Frühwarnsysteme zu schaffen. Seine Forschung ist u.a. in die Deutsche Allianz Meeresforschung (DAM) und das Verbundprojekt MULTI-MAREX eingebunden.
URL:https://www.kielregion.de/event/abenteuer-forschungsschiff-expeditionen-zur-erforschung-mariner-naturgefahren/
LOCATION:SEALEVEL
CATEGORIES:Science Day
END:VEVENT
BEGIN:VEVENT
DTSTART;TZID=Europe/Berlin:20250926T153000
DTEND;TZID=Europe/Berlin:20250926T162000
DTSTAMP:20260422T214620
CREATED:20250902T135904Z
LAST-MODIFIED:20250902T135904Z
UID:10000185-1758900600-1758903600@www.kielregion.de
SUMMARY:Armstrong - die abenteuerliche Reise einer Maus zum Mond
DESCRIPTION:Die kleine\, wissbegierige Maus Armstrong ist fasziniert vom Weltraum\, besonders vom Mond. Bei klarer Nacht beobachtet er ihn mit seinem kleinen Fernrohr und möchte unbedingt mehr über ihn erfahren. Die anderen Mäuse behaupten\, er bestünde aus Käse – aber Armstrong glaubt nicht daran. Wie kann er beweisen\, dass der Mond – wie die Erde auch – aus Gestein besteht? Schließlich macht er sich daran\, in seiner Dachkammer eine Rakete zu bauen\, um als erste Maus zum Mond zu fliegen. Wird er es schaffen?\n\nWo? Mediendom der Fachhochschule Kiel\, Sokratesplatz 6
URL:https://www.kielregion.de/event/armstrong-die-abenteuerliche-reise-einer-maus-zum-mond/
LOCATION:Fachhochschule Kiel\, Deutschland
CATEGORIES:Science Day
END:VEVENT
BEGIN:VEVENT
DTSTART;TZID=Europe/Berlin:20250926T151500
DTEND;TZID=Europe/Berlin:20250926T154500
DTSTAMP:20260422T214620
CREATED:20250904T082741Z
LAST-MODIFIED:20250908T123504Z
UID:10000222-1758899700-1758901500@www.kielregion.de
SUMMARY:Wellenkraftwerk – Energie aus dem Meer
DESCRIPTION:Im Vortrag und Vorführexperiment geht es um die Technologie der\nWellenkraftwerke\, das Energiepotential der Meereswellen und wie\nStudierende und Wissenschaftler:innen der FH Kiel an der Entwicklung eines Wellenkraftwerkes für die deutsche Nord- und Ostsee\narbeiten. Lernt mehr über die grundlegende Funktion des Wellenkraftwerks „Aurelia-WINO“ und tauscht Euch zu zukünftigen Entwicklungen aus.
URL:https://www.kielregion.de/event/wellenkraftwerk-energie-aus-dem-meer/
LOCATION:SEALEVEL
CATEGORIES:Science Day
END:VEVENT
BEGIN:VEVENT
DTSTART;TZID=Europe/Berlin:20250926T150000
DTEND;TZID=Europe/Berlin:20250926T220000
DTSTAMP:20260422T214620
CREATED:20250904T075409Z
LAST-MODIFIED:20250908T123921Z
UID:10000211-1758898800-1758924000@www.kielregion.de
SUMMARY:Science Comes To Town – ein Ausblick auf 2026!
DESCRIPTION:Beim Science Day in Kiel öffnen wir erstmals den Vorhang für das\nProjekt Science Comes To Town – und ihr seid live dabei! Kiel wird\n2026 – zusammen mit Brest und Split – zur Bühne für die Wissenschaft zum Anfassen\, Mitmachen und Staunen. Freut euch auf\neinen ersten Vorgeschmack auf das\, was euch im kommenden Jahr\nerwartet: überraschende Formate\, spannende Aktionen und echte\nBegegnungen mit Wissenschaft und Innovation.\nSeid neugierig und lasst euch inspirieren!
URL:https://www.kielregion.de/event/science-comes-to-town-ein-ausblick-auf-2026/
LOCATION:RBZ Wirtschaft\, Kiel\, Schleswig-Holstein\, Deutschland
CATEGORIES:Science Day
END:VEVENT
END:VCALENDAR