BEGIN:VCALENDAR
VERSION:2.0
PRODID:-//KielRegion - ECPv6.15.20//NONSGML v1.0//EN
CALSCALE:GREGORIAN
METHOD:PUBLISH
X-WR-CALNAME:KielRegion
X-ORIGINAL-URL:https://www.kielregion.de
X-WR-CALDESC:Veranstaltungen für KielRegion
REFRESH-INTERVAL;VALUE=DURATION:PT1H
X-Robots-Tag:noindex
X-PUBLISHED-TTL:PT1H
BEGIN:VTIMEZONE
TZID:Europe/Berlin
BEGIN:DAYLIGHT
TZOFFSETFROM:+0100
TZOFFSETTO:+0200
TZNAME:CEST
DTSTART:20240331T010000
END:DAYLIGHT
BEGIN:STANDARD
TZOFFSETFROM:+0200
TZOFFSETTO:+0100
TZNAME:CET
DTSTART:20241027T010000
END:STANDARD
BEGIN:DAYLIGHT
TZOFFSETFROM:+0100
TZOFFSETTO:+0200
TZNAME:CEST
DTSTART:20250330T010000
END:DAYLIGHT
BEGIN:STANDARD
TZOFFSETFROM:+0200
TZOFFSETTO:+0100
TZNAME:CET
DTSTART:20251026T010000
END:STANDARD
BEGIN:DAYLIGHT
TZOFFSETFROM:+0100
TZOFFSETTO:+0200
TZNAME:CEST
DTSTART:20260329T010000
END:DAYLIGHT
BEGIN:STANDARD
TZOFFSETFROM:+0200
TZOFFSETTO:+0100
TZNAME:CET
DTSTART:20261025T010000
END:STANDARD
END:VTIMEZONE
BEGIN:VEVENT
DTSTART;TZID=Europe/Berlin:20250926T151500
DTEND;TZID=Europe/Berlin:20250926T154500
DTSTAMP:20260421T181316
CREATED:20250904T082741Z
LAST-MODIFIED:20250908T123504Z
UID:10000222-1758899700-1758901500@www.kielregion.de
SUMMARY:Wellenkraftwerk – Energie aus dem Meer
DESCRIPTION:Im Vortrag und Vorführexperiment geht es um die Technologie der\nWellenkraftwerke\, das Energiepotential der Meereswellen und wie\nStudierende und Wissenschaftler:innen der FH Kiel an der Entwicklung eines Wellenkraftwerkes für die deutsche Nord- und Ostsee\narbeiten. Lernt mehr über die grundlegende Funktion des Wellenkraftwerks „Aurelia-WINO“ und tauscht Euch zu zukünftigen Entwicklungen aus.
URL:https://www.kielregion.de/event/wellenkraftwerk-energie-aus-dem-meer/
LOCATION:SEALEVEL
CATEGORIES:Science Day
END:VEVENT
END:VCALENDAR