BEGIN:VCALENDAR
VERSION:2.0
PRODID:-//KielRegion - ECPv6.15.20//NONSGML v1.0//EN
CALSCALE:GREGORIAN
METHOD:PUBLISH
X-WR-CALNAME:KielRegion
X-ORIGINAL-URL:https://www.kielregion.de
X-WR-CALDESC:Veranstaltungen für KielRegion
REFRESH-INTERVAL;VALUE=DURATION:PT1H
X-Robots-Tag:noindex
X-PUBLISHED-TTL:PT1H
BEGIN:VTIMEZONE
TZID:Europe/Berlin
BEGIN:DAYLIGHT
TZOFFSETFROM:+0100
TZOFFSETTO:+0200
TZNAME:CEST
DTSTART:20240331T010000
END:DAYLIGHT
BEGIN:STANDARD
TZOFFSETFROM:+0200
TZOFFSETTO:+0100
TZNAME:CET
DTSTART:20241027T010000
END:STANDARD
BEGIN:DAYLIGHT
TZOFFSETFROM:+0100
TZOFFSETTO:+0200
TZNAME:CEST
DTSTART:20250330T010000
END:DAYLIGHT
BEGIN:STANDARD
TZOFFSETFROM:+0200
TZOFFSETTO:+0100
TZNAME:CET
DTSTART:20251026T010000
END:STANDARD
BEGIN:DAYLIGHT
TZOFFSETFROM:+0100
TZOFFSETTO:+0200
TZNAME:CEST
DTSTART:20260329T010000
END:DAYLIGHT
BEGIN:STANDARD
TZOFFSETFROM:+0200
TZOFFSETTO:+0100
TZNAME:CET
DTSTART:20261025T010000
END:STANDARD
END:VTIMEZONE
BEGIN:VEVENT
DTSTART;TZID=Europe/Berlin:20250926T130000
DTEND;TZID=Europe/Berlin:20250926T160000
DTSTAMP:20260421T225733
CREATED:20250902T125739Z
LAST-MODIFIED:20250902T132057Z
UID:10000153-1758891600-1758902400@www.kielregion.de
SUMMARY:Echtzeit-Radfahrertracking mit adaptiver Lichtsteuerung
DESCRIPTION:An der Werftstraße in Kiel erfassen Kameras Radfahrer und verarbeiten die Daten über Edge-Computing mit Raspberry Pis und einem NVIDIA Jetson. Ein LED-Leuchtstreifen entlang der Fahrbahn zeigt in Echtzeit die optimale Geschwindigkeit zur Ampelgrünphase – durch Objekterkennung\, Trajektorienberechnung und Lichtsteuerung im synchronisierten Systemverbund.
URL:https://www.kielregion.de/event/echtzeit-radfahrertracking-mit-adaptiver-lichtsteuerung/
LOCATION:CAU  – Technische Fakultät\, Kaiserstraße 2\, Kiel\, Schleswig-Holstein\, Deutschland
CATEGORIES:Science Day
END:VEVENT
BEGIN:VEVENT
DTSTART;TZID=Europe/Berlin:20250926T110000
DTEND;TZID=Europe/Berlin:20250926T113000
DTSTAMP:20260421T225733
CREATED:20250902T124440Z
LAST-MODIFIED:20250902T124440Z
UID:10000146-1758884400-1758886200@www.kielregion.de
SUMMARY:Von funkenden Fingern und sprechendem Strom –  Technik mit Unterhaltung!
DESCRIPTION:Was haben ein gestresstes Gyroskop mit Bad-Hair-Day und ein Stromnetz mit Kommunikationsproblemen gemeinsam? Beide brauchen ein Upgrade! Wir zeigen\, wie aus verbogenen Siliziumstrukturen smarte Lebensretter werden – und warum Strom in Zukunft mehr können muss als nur fließen. Denn wenn wir den Klimawandel ernst nehmen\, muss unser Netz lernen zu denken\, zu reagieren – und zu sprechen! Freut euch auf einen Slam mit MEMS-Magie und Energiewende mit Witz.
URL:https://www.kielregion.de/event/von-funkenden-fingern-und-sprechendem-strom-technik-mit-unterhaltung/
LOCATION:CAU  – Technische Fakultät\, Kaiserstraße 2\, Kiel\, Schleswig-Holstein\, Deutschland
CATEGORIES:Science Day
END:VEVENT
BEGIN:VEVENT
DTSTART;TZID=Europe/Berlin:20250926T100000
DTEND;TZID=Europe/Berlin:20250926T160000
DTSTAMP:20260421T225733
CREATED:20250902T122905Z
LAST-MODIFIED:20250902T122905Z
UID:10000140-1758880800-1758902400@www.kielregion.de
SUMMARY:Löten lernen – Elektronik zum Mitnehmen!
DESCRIPTION:Du wolltest schon immer mal wissen\, wie elektronische Schaltungen gebaut werden? In unserem Lötworkshop kannst du selbst Hand anlegen! Unter Anleitung lötest du einfache elektronische Bausätze: eine bunt leuchtende Kugel\, einen Smiley oder kleines Piano. Ganz nebenbei lernst du\, wie die Bauteile aussehen und wie sie funktionieren\, worauf man beim Löten achten muss.\nFür Anfänger:innen geeignet – keine Vorkenntnisse notwendig. Die gelöteten Schaltungen dürft ihr mit nach Hause nehmen!
URL:https://www.kielregion.de/event/loeten-lernen-elektronik-zum-mitnehmen/
LOCATION:CAU  – Technische Fakultät\, Kaiserstraße 2\, Kiel\, Schleswig-Holstein\, Deutschland
CATEGORIES:Science Day
END:VEVENT
END:VCALENDAR