BEGIN:VCALENDAR
VERSION:2.0
PRODID:-//KielRegion - ECPv6.15.20//NONSGML v1.0//EN
CALSCALE:GREGORIAN
METHOD:PUBLISH
X-WR-CALNAME:KielRegion
X-ORIGINAL-URL:https://www.kielregion.de
X-WR-CALDESC:Veranstaltungen für KielRegion
REFRESH-INTERVAL;VALUE=DURATION:PT1H
X-Robots-Tag:noindex
X-PUBLISHED-TTL:PT1H
BEGIN:VTIMEZONE
TZID:Europe/Berlin
BEGIN:DAYLIGHT
TZOFFSETFROM:+0100
TZOFFSETTO:+0200
TZNAME:CEST
DTSTART:20230326T010000
END:DAYLIGHT
BEGIN:STANDARD
TZOFFSETFROM:+0200
TZOFFSETTO:+0100
TZNAME:CET
DTSTART:20231029T010000
END:STANDARD
BEGIN:DAYLIGHT
TZOFFSETFROM:+0100
TZOFFSETTO:+0200
TZNAME:CEST
DTSTART:20240331T010000
END:DAYLIGHT
BEGIN:STANDARD
TZOFFSETFROM:+0200
TZOFFSETTO:+0100
TZNAME:CET
DTSTART:20241027T010000
END:STANDARD
BEGIN:DAYLIGHT
TZOFFSETFROM:+0100
TZOFFSETTO:+0200
TZNAME:CEST
DTSTART:20250330T010000
END:DAYLIGHT
BEGIN:STANDARD
TZOFFSETFROM:+0200
TZOFFSETTO:+0100
TZNAME:CET
DTSTART:20251026T010000
END:STANDARD
BEGIN:DAYLIGHT
TZOFFSETFROM:+0100
TZOFFSETTO:+0200
TZNAME:CEST
DTSTART:20260329T010000
END:DAYLIGHT
BEGIN:STANDARD
TZOFFSETFROM:+0200
TZOFFSETTO:+0100
TZNAME:CET
DTSTART:20261025T010000
END:STANDARD
END:VTIMEZONE
BEGIN:VEVENT
DTSTART;TZID=Europe/Berlin:20250926T140000
DTEND;TZID=Europe/Berlin:20250926T210000
DTSTAMP:20260420T201014
CREATED:20250904T090936Z
LAST-MODIFIED:20250908T131852Z
UID:10000231-1758895200-1758920400@www.kielregion.de
SUMMARY:Die Welt der Nano- und Neurowissenschaften entdecken
DESCRIPTION:Selbstreinigende Oberflächen\, Reinigung von Abwasser\, bunte Seifenblasen. Was haben diese Dinge mit Nano zu tun? Und ist unendliches Leben möglich? Wie entstehen Nervensysteme und wie können wir diese „nachbauen“? Durch „Mitmach“ Experimente kann jeder selbst tätig werden und beispielsweise selbstreinigende Oberflächen herstellen und Nervensysteme „nachbauen“. Zusätzlich ermöglichen immersive Medien wie AR-Poster und 360°-Videos faszinierende Einblicke in die Welt der Nervensysteme.
URL:https://www.kielregion.de/event/die-welt-der-nano-und-neurowissenschaften-entdecken/
LOCATION:Wissenschaftszentrum\, Fraunhoferstr. 13\, Kiel\, Schleswig-Holstein\, 24118\, Deutschland
CATEGORIES:Science Day
END:VEVENT
BEGIN:VEVENT
DTSTART;TZID=Europe/Berlin:20250926T140000
DTEND;TZID=Europe/Berlin:20250926T180000
DTSTAMP:20260420T201014
CREATED:20250904T091304Z
LAST-MODIFIED:20250908T131211Z
UID:10000233-1758895200-1758909600@www.kielregion.de
SUMMARY:China zum Greifen nah
DESCRIPTION:Mit einer Virtual Reality Brille ausgestattet\, analysieren die Lernenden hier ausgewählte 360°-Videos typischer Lebensumstände in China. Dabei sind der Trubel der Großstädte Peking\, Shanghai oder Hongkong\, aber auch das ländliche Idyll in Tibet\, Qinghai oder Gansu für die Lernenden zum Greifen nahe.
URL:https://www.kielregion.de/event/china-zum-greifen-nah/
LOCATION:Wissenschaftszentrum\, Fraunhoferstr. 13\, Kiel\, Schleswig-Holstein\, 24118\, Deutschland
CATEGORIES:Science Day
END:VEVENT
BEGIN:VEVENT
DTSTART;TZID=Europe/Berlin:20240927T160000
DTEND;TZID=Europe/Berlin:20240927T220000
DTSTAMP:20260420T201014
CREATED:20240822T180140Z
LAST-MODIFIED:20240822T184141Z
UID:10000123-1727452800-1727474400@www.kielregion.de
SUMMARY:Neurotronics - Kann man ein Gehirn nachbauen?
DESCRIPTION:Die Forschenden des Sonderforschungsbereichs (SFB) 1461 untersuchen die Nervensysteme und das Wachstum der Nervensysteme\, um solche nachbauen zu können. Hierfür arbeiten viele verschiedene Forschende aus unterschiedlichen Fachbereichen\, u.a. Materialwissenschaften\, Informatik\, Biologie und Elektrotechnik\, zusammen. Durch die interdisziplinäre Zusammenarbeit soll das Ziel erreicht werden neuronale Netze nachzubauen\, bspw. für medizinische Bereiche\, Robotik und das autonome Fahren.
URL:https://www.kielregion.de/event/neurotronics-kann-man-ein-gehirn-nachbauen/
LOCATION:Wissenschaftszentrum\, Fraunhoferstr. 13\, Kiel\, Schleswig-Holstein\, 24118\, Deutschland
CATEGORIES:Science Day
END:VEVENT
BEGIN:VEVENT
DTSTART;TZID=Europe/Berlin:20240927T160000
DTEND;TZID=Europe/Berlin:20240927T220000
DTSTAMP:20260420T201014
CREATED:20240822T175604Z
LAST-MODIFIED:20240829T124258Z
UID:10000135-1727452800-1727474400@www.kielregion.de
SUMMARY:Mitmachangebote rund um die Themen Robotik und Sensorik mit der nawi:werft der Kieler Forschungswerkstatt
DESCRIPTION:Gemeinsam mit der nawi:werft taucht Ihr beim Science Day in die Welt der Robotik und des Programmierens ein. Findet an verschiedenen Stationen heraus\, wie ein Logistikroboter arbeitet\, programmiert ein Arduino Roboterfahrzeug oder den kugeligen Miniroboter Ozobot und erfahrt mehr über selbst gebaute Messgeräte. Zum Entdecken lädt ein Ausstellungsbereich mit Informationen zum Angebot der nawi:werft sowie kreativen Roboterfahrzeugen von Schülerinnen und Schülern ein.
URL:https://www.kielregion.de/event/mitmachangebote-rund-um-die-themen-robotik-und-sensorik-mit-der-nawiwerft-der-kieler-forschungswerkstatt/
LOCATION:Wissenschaftszentrum\, Fraunhoferstr. 13\, Kiel\, Schleswig-Holstein\, 24118\, Deutschland
CATEGORIES:Science Day
END:VEVENT
BEGIN:VEVENT
DTSTART;TZID=Europe/Berlin:20240927T160000
DTEND;TZID=Europe/Berlin:20240927T220000
DTSTAMP:20260420T201014
CREATED:20240822T175314Z
LAST-MODIFIED:20240822T190144Z
UID:10000120-1727452800-1727474400@www.kielregion.de
SUMMARY:Eine Reise in die Vergangenheit
DESCRIPTION:Kommt mit ROOTS und dem archäo:labor der Kieler Forschungswerkstatt auf Zeitreise! Erforscht mit uns\, wie Menschen in früheren Jahrtausenden gelebt haben\, wie sie ihre Umwelt beeinflusst haben und wie die Umwelt die Menschen beeinflusst hat. Gemeinsam mit euch diskutieren wir\, was man heute aus der Vergangenheit lernen kann. Euch erwarten Archäologie zum Mitmachen\, virtuelle Expeditionen und spannende Einsichten in die Welt von der Steinzeit bis ins Mittelalter.
URL:https://www.kielregion.de/event/schlagende-argumente-fuer-die-jungsteinzeit/
LOCATION:Wissenschaftszentrum\, Fraunhoferstr. 13\, Kiel\, Schleswig-Holstein\, 24118\, Deutschland
CATEGORIES:Science Day
END:VEVENT
BEGIN:VEVENT
DTSTART;TZID=Europe/Berlin:20240927T160000
DTEND;TZID=Europe/Berlin:20240927T160000
DTSTAMP:20260420T201014
CREATED:20240822T180023Z
LAST-MODIFIED:20240822T180023Z
UID:10000122-1727452800-1727452800@www.kielregion.de
SUMMARY:Mit dem ozean:labor der Kieler Forschungswerkstatt in die Unterwasserwelt eintauchen
DESCRIPTION:Wie sieht Meeresleuchten aus? Kann ich Meeresleuchten auch in der Ostsee erleben? Warum leuchten Tiere in der Tiefsee und wie funktionieren Knicklichter? Auf all diese Fragen findet Ihr beim Science Day Antworten. Alle Interessierten erfahren mehr über das spannende Phänomen Meeresleuchten und tauchen dabei auch in die Unterwasserwelt ein. Außerdem sind Groß und Klein eingeladen\, mit fluoreszierenden Farben selbst kreative Kunstwerke zu erschaffen\, die im Schwarzlicht leuchten.
URL:https://www.kielregion.de/event/mit-dem-ozeanlabor-der-kieler-forschungswerkstatt-in-die-unterwasserwelt-eintauchen/
LOCATION:Wissenschaftszentrum\, Fraunhoferstr. 13\, Kiel\, Schleswig-Holstein\, 24118\, Deutschland
CATEGORIES:Science Day
END:VEVENT
END:VCALENDAR