BEGIN:VCALENDAR
VERSION:2.0
PRODID:-//KielRegion - ECPv6.15.20//NONSGML v1.0//EN
CALSCALE:GREGORIAN
METHOD:PUBLISH
X-ORIGINAL-URL:https://www.kielregion.de
X-WR-CALDESC:Veranstaltungen für KielRegion
REFRESH-INTERVAL;VALUE=DURATION:PT1H
X-Robots-Tag:noindex
X-PUBLISHED-TTL:PT1H
BEGIN:VTIMEZONE
TZID:Europe/Berlin
BEGIN:DAYLIGHT
TZOFFSETFROM:+0100
TZOFFSETTO:+0200
TZNAME:CEST
DTSTART:20240331T010000
END:DAYLIGHT
BEGIN:STANDARD
TZOFFSETFROM:+0200
TZOFFSETTO:+0100
TZNAME:CET
DTSTART:20241027T010000
END:STANDARD
BEGIN:DAYLIGHT
TZOFFSETFROM:+0100
TZOFFSETTO:+0200
TZNAME:CEST
DTSTART:20250330T010000
END:DAYLIGHT
BEGIN:STANDARD
TZOFFSETFROM:+0200
TZOFFSETTO:+0100
TZNAME:CET
DTSTART:20251026T010000
END:STANDARD
BEGIN:DAYLIGHT
TZOFFSETFROM:+0100
TZOFFSETTO:+0200
TZNAME:CEST
DTSTART:20260329T010000
END:DAYLIGHT
BEGIN:STANDARD
TZOFFSETFROM:+0200
TZOFFSETTO:+0100
TZNAME:CET
DTSTART:20261025T010000
END:STANDARD
END:VTIMEZONE
BEGIN:VEVENT
DTSTART;TZID=Europe/Berlin:20250926T160000
DTEND;TZID=Europe/Berlin:20250926T163000
DTSTAMP:20260421T212112
CREATED:20250904T082932Z
LAST-MODIFIED:20250917T131555Z
UID:10000223-1758902400-1758904200@www.kielregion.de
SUMMARY:Abenteuer Forschungsschiff – Expeditionen zur Erforschung  mariner Naturgefahren
DESCRIPTION:Im Vortrag widmet sich Dr. Oliver Eisermann (CAU/KMS) der Erforschung submariner Naturgefahren\, die Tsunamis auslösen können. Von Forschungsschiffen aus untersucht er zum Beispiel Unterwasservulkane – zuletzt in der griechischen Ägäis. Ziel ist es\, potenzielle Gefahren für Küstenregionen besser zu verstehen und Grundlagen für effektive Frühwarnsysteme zu schaffen. Seine Forschung ist u.a. in die Deutsche Allianz Meeresforschung (DAM) und das Verbundprojekt MULTI-MAREX eingebunden.
URL:https://www.kielregion.de/event/abenteuer-forschungsschiff-expeditionen-zur-erforschung-mariner-naturgefahren/
LOCATION:SEALEVEL
CATEGORIES:Science Day
END:VEVENT
BEGIN:VEVENT
DTSTART;TZID=Europe/Berlin:20250926T150000
DTEND;TZID=Europe/Berlin:20250926T180000
DTSTAMP:20260421T212112
CREATED:20250904T082448Z
LAST-MODIFIED:20250923T154719Z
UID:10000220-1758898800-1758909600@www.kielregion.de
SUMMARY:Wie schaut deine Lieblingszukunft aus?
DESCRIPTION:Das UTOPIE-Mobil der Jungen Akademie lädt dazu ein\, über deine Lieblingszukunft nachzudenken. Ziehe ein Zukunftslos\, denke über deine Lieblingszukunft nach oder stelle deine Fragen.
URL:https://www.kielregion.de/event/wie-schaut-deine-lieblingszukunft-aus/
LOCATION:SEALEVEL
CATEGORIES:Science Day
END:VEVENT
BEGIN:VEVENT
DTSTART;TZID=Europe/Berlin:20250926T150000
DTEND;TZID=Europe/Berlin:20250926T180000
DTSTAMP:20260421T212112
CREATED:20250904T082355Z
LAST-MODIFIED:20250908T132417Z
UID:10000219-1758898800-1758909600@www.kielregion.de
SUMMARY:Malstation Meeresforschung
DESCRIPTION:Für alle\, die gerne malen und basteln. An der Malstation haben\ngroße und kleine Besucher:innen alle Möglichkeiten\, ihr schönstes\nForschungsbild zu gestalten und ein Malbuch des GEOMAR mit nach\nHause zu nehmen.
URL:https://www.kielregion.de/event/malstation-meeresforschung/
LOCATION:SEALEVEL
CATEGORIES:Science Day
END:VEVENT
BEGIN:VEVENT
DTSTART;TZID=Europe/Berlin:20250926T150000
DTEND;TZID=Europe/Berlin:20250926T180000
DTSTAMP:20260421T212112
CREATED:20250904T082250Z
LAST-MODIFIED:20250908T132312Z
UID:10000218-1758898800-1758909600@www.kielregion.de
SUMMARY:Wissensstände zu Exponaten im SEALEVEL mit Forschenden
DESCRIPTION:Naturgefahren\, Ozeanbeobachtung\, Müll im Meer\, Nachhaltige Fischerei\, Energie aus dem Meer oder die Erforschung der Tiefsee. Besucher:innen gehen mit Forschenden von Kiel Marine Science an der CAU\, dem GEOMAR und der FH Kiel auf interaktive Tauchfahrt in die Welt der Kieler Meeresforschung.
URL:https://www.kielregion.de/event/wissensstaende-zu-exponaten-im-sealevel-mit-forschenden/
LOCATION:SEALEVEL
CATEGORIES:Science Day
END:VEVENT
END:VCALENDAR