BEGIN:VCALENDAR
VERSION:2.0
PRODID:-//KielRegion - ECPv6.15.20//NONSGML v1.0//EN
CALSCALE:GREGORIAN
METHOD:PUBLISH
X-ORIGINAL-URL:https://www.kielregion.de
X-WR-CALDESC:Veranstaltungen für KielRegion
REFRESH-INTERVAL;VALUE=DURATION:PT1H
X-Robots-Tag:noindex
X-PUBLISHED-TTL:PT1H
BEGIN:VTIMEZONE
TZID:Europe/Berlin
BEGIN:DAYLIGHT
TZOFFSETFROM:+0100
TZOFFSETTO:+0200
TZNAME:CEST
DTSTART:20240331T010000
END:DAYLIGHT
BEGIN:STANDARD
TZOFFSETFROM:+0200
TZOFFSETTO:+0100
TZNAME:CET
DTSTART:20241027T010000
END:STANDARD
BEGIN:DAYLIGHT
TZOFFSETFROM:+0100
TZOFFSETTO:+0200
TZNAME:CEST
DTSTART:20250330T010000
END:DAYLIGHT
BEGIN:STANDARD
TZOFFSETFROM:+0200
TZOFFSETTO:+0100
TZNAME:CET
DTSTART:20251026T010000
END:STANDARD
BEGIN:DAYLIGHT
TZOFFSETFROM:+0100
TZOFFSETTO:+0200
TZNAME:CEST
DTSTART:20260329T010000
END:DAYLIGHT
BEGIN:STANDARD
TZOFFSETFROM:+0200
TZOFFSETTO:+0100
TZNAME:CET
DTSTART:20261025T010000
END:STANDARD
END:VTIMEZONE
BEGIN:VEVENT
DTSTART;TZID=Europe/Berlin:20250926T150000
DTEND;TZID=Europe/Berlin:20250926T170000
DTSTAMP:20260421T170228
CREATED:20250902T133154Z
LAST-MODIFIED:20250902T133154Z
UID:10000170-1758898800-1758906000@www.kielregion.de
SUMMARY:Ein mikroskopischer Blick in die Vergangenheit - das Transmissionselektronenmikroskop
DESCRIPTION:Die Transmissionselektronenmikroskopie (TEM) ist eine zentrale Technik zur Untersuchung von Materialien. Sie ermöglicht präzise Einblicke in Größenbereiche bis zu Nanometern\, die somit 1000x kleiner als ein Haar sind. Dabei können nicht nur hochmoderne\, sondern auch historische Materialien untersucht werden\, wobei sich wertvolle Erkenntnisse über Herkunft\, Herstellung und Alterung gewinnen lassen. Unser Mikroskop macht all dies bis auf einzelne Atome sichtbar und lädt Sie zum Entdecken ein!\n\nVon 15:00-17:00 werden vier Führungen über 30min angeboten\n(15:00\, 15:30\, 16:00\, 16:30). Treffpunkt ist jeweils vor dem\nKieler Nanolabor\, Gebäude E
URL:https://www.kielregion.de/event/ein-mikroskopischer-blick-in-die-vergangenheit-das-transmissionselektronenmikroskop-2/
LOCATION:CAU  – Technische Fakultät\, Kaiserstraße 2\, Kiel\, Schleswig-Holstein\, Deutschland
CATEGORIES:Science Day
END:VEVENT
BEGIN:VEVENT
DTSTART;TZID=Europe/Berlin:20250926T143000
DTEND;TZID=Europe/Berlin:20250926T180000
DTSTAMP:20260421T170228
CREATED:20250902T133000Z
LAST-MODIFIED:20250902T133000Z
UID:10000169-1758897000-1758909600@www.kielregion.de
SUMMARY:Informationsübertragung mit Licht -  die Grundlage unserer vernetzten Welt
DESCRIPTION:„- Netflix\, YouTube\, Amazon Prime – wie kommen die Videos auf meinen Fernseher?\n– TikTok\, Snapchat\, Instagram von unterwegs – mobile Daten bewegen sich durch die Luft\, aber wie kommen sie zum Funkmast?\n– Welche Technologien werden zur Vernetzung von Clouds und Rechenzentren (Amazon\, Google\, Apple\, Microsoft) verwendet?\n\nWir zeigen Euch\, wie das geht und geben einen Einblick in unsere Forschung\, die die Datenübertragung schneller und effizienter macht.“
URL:https://www.kielregion.de/event/informationsuebertragung-mit-licht-die-grundlage-unserer-vernetzten-welt/
LOCATION:CAU  – Technische Fakultät\, Kaiserstraße 2\, Kiel\, Schleswig-Holstein\, Deutschland
CATEGORIES:Science Day
END:VEVENT
BEGIN:VEVENT
DTSTART;TZID=Europe/Berlin:20250926T140000
DTEND;TZID=Europe/Berlin:20250926T190000
DTSTAMP:20260421T170228
CREATED:20250902T132032Z
LAST-MODIFIED:20250902T132032Z
UID:10000165-1758895200-1758913200@www.kielregion.de
SUMMARY:Können wir unser Oberstübchen nachbauen?
DESCRIPTION:Informationsverarbeitung in der Biologie als Fundus für neue\nComputerarchitekturen\n\nAb 14:00 können pro Stunde maximal 15 Besucher unser Angebot\nwahrnehmen. Die letzte Veranstaltung beginnt um 18:00 Uhr
URL:https://www.kielregion.de/event/koennen-wir-unser-oberstuebchen-nachbauen/
LOCATION:CAU  – Technische Fakultät\, Kaiserstraße 2\, Kiel\, Schleswig-Holstein\, Deutschland
CATEGORIES:Science Day
END:VEVENT
BEGIN:VEVENT
DTSTART;TZID=Europe/Berlin:20250926T140000
DTEND;TZID=Europe/Berlin:20250926T180000
DTSTAMP:20260421T170228
CREATED:20250902T132241Z
LAST-MODIFIED:20251208T140620Z
UID:10000166-1758895200-1758909600@www.kielregion.de
SUMMARY:SOILMONITOR: Dein Acker spricht – wir übersetzen
DESCRIPTION:SOILMONITOR ist ein EU gefördertes Projekt\, welches zur Entwicklung eines Nähstoffsensors für die Landwirtschaft dient. Mittels eines miniaturisierten Labors soll der Nitrat-\, Ammonium- und Phosphat-Gehalt des Bodenwassers dezentral und kontinuierlich zur Verfügung gestellt werden. Ziel ist es die notwendige Versorgung mit Pflanzennährstoffen zu gewährleisten\, die Überdüngung unserer Felder zu verhindern\, Erträge zu optimieren und Böden\, Seen & Grundwasser nachhaltig zu schützen.
URL:https://www.kielregion.de/event/nanotroepfchen-und-brustkrebserkennung-die-rolle-und-detektion-von-extrazellulaeren-vesikel-in-der-brustkrebsdiagnostik/
LOCATION:CAU  – Technische Fakultät\, Kaiserstraße 2\, Kiel\, Schleswig-Holstein\, Deutschland
CATEGORIES:Science Day
END:VEVENT
BEGIN:VEVENT
DTSTART;TZID=Europe/Berlin:20250926T140000
DTEND;TZID=Europe/Berlin:20250926T180000
DTSTAMP:20260421T170228
CREATED:20250902T131842Z
LAST-MODIFIED:20250902T131842Z
UID:10000164-1758895200-1758909600@www.kielregion.de
SUMMARY:Zu schnell geflitzt und schon geblitzt!
DESCRIPTION:„Wie schnell kann ich eigentlich rennen?“. Diese Frage wird mit einem speziellen Doppler-Radar beantwortet. Die eigene Geh- oder Laufgeschwindigkeit kann vom System gemessen werden und es wird eine Kamera mitsamt Blitz ausgelöst\, um ein „Beweisfoto“ zu erstellen. Es können auch Wettbewerbe stattfinden: Wer ist am schnellsten? Wer wird am leichtesten erkannt? Kann ich das Radar auch austricksen?\nWer wissen möchte\, wie das Radar genau funktioniert\, bekommt es gerne erklärt.
URL:https://www.kielregion.de/event/zu-schnell-geflitzt-und-schon-geblitzt/
LOCATION:CAU  – Technische Fakultät\, Kaiserstraße 2\, Kiel\, Schleswig-Holstein\, Deutschland
CATEGORIES:Science Day
END:VEVENT
BEGIN:VEVENT
DTSTART;TZID=Europe/Berlin:20250926T140000
DTEND;TZID=Europe/Berlin:20250926T180000
DTSTAMP:20260421T170228
CREATED:20250902T131630Z
LAST-MODIFIED:20250902T131630Z
UID:10000163-1758895200-1758909600@www.kielregion.de
SUMMARY:Aeromaterials - Eine start up Idee
DESCRIPTION:Aeromaterialien gehören zu den leichtesten Materialien überhaupt. Sie bestehen fast nur aus Luft – und eröffnen dennoch faszinierende Möglichkeiten: Sie streuen Laserstrahlen\, heben Gewichte und reinigen Luft von Schadstoffen. Ihr enormes Marktpotenzial reicht von der Pneumatik über die Lichttechnik bis hin zur Entfernung giftiger Substanzen. Dieses Potenzial soll nun durch eine Startup-Ausgründung in innovative Produkte umgesetzt werden.
URL:https://www.kielregion.de/event/aeromaterials-eine-start-up-idee/
LOCATION:CAU  – Technische Fakultät\, Kaiserstraße 2\, Kiel\, Schleswig-Holstein\, Deutschland
CATEGORIES:Science Day
END:VEVENT
BEGIN:VEVENT
DTSTART;TZID=Europe/Berlin:20250926T140000
DTEND;TZID=Europe/Berlin:20250926T180000
DTSTAMP:20260421T170228
CREATED:20250902T131442Z
LAST-MODIFIED:20250902T131442Z
UID:10000162-1758895200-1758909600@www.kielregion.de
SUMMARY:Virtuelle Experimente - Wie „lernt“ mein Computer Physik?
DESCRIPTION:In der heutigen Wissenschaft werden viele Experimente nicht mehr nur im Labor\, sondern auch am Computer durchgeführt. Solche virtuellen Experimente ermöglichen es\, physikalische Phänomene am Bildschirm zu untersuchen und zu analysieren. Doch wie schafft es der Computer\, die Gesetze der Physik korrekt nachzubilden? Lernt der Computer wirklich Physik?
URL:https://www.kielregion.de/event/virtuelle-experimente-wie-lernt-mein-computer-physik/
LOCATION:CAU  – Technische Fakultät\, Kaiserstraße 2\, Kiel\, Schleswig-Holstein\, Deutschland
CATEGORIES:Science Day
END:VEVENT
BEGIN:VEVENT
DTSTART;TZID=Europe/Berlin:20250926T140000
DTEND;TZID=Europe/Berlin:20250926T173000
DTSTAMP:20260421T170228
CREATED:20250902T132709Z
LAST-MODIFIED:20250902T132709Z
UID:10000167-1758895200-1758907800@www.kielregion.de
SUMMARY:Glasfaser: Mehr als nur Internet
DESCRIPTION:Glasfaser ist inzwischen in vielen Haushalten angekommen – doch sie ist alles andere als neu. Schon seit Jahrzehnten wird sie für Telefon- und Internetverbindungen genutzt.\n\nAber was\, wenn man alte Kabel auch für etwas anderes nutzen könnte? Glasfasern reagieren auf Umwelteinflüsse wie Wärme und Erschütterungen – und können so zum Beispiel Autos auf der Straße erkennen und ihre Geschwindigkeit messen.\n\nEntdeckt\, wie Glasfaser uns mehr als nur schnelles Internet bringen kann!
URL:https://www.kielregion.de/event/glasfaser-mehr-als-nur-internet/
LOCATION:CAU  – Technische Fakultät\, Kaiserstraße 2\, Kiel\, Schleswig-Holstein\, Deutschland
CATEGORIES:Science Day
END:VEVENT
BEGIN:VEVENT
DTSTART;TZID=Europe/Berlin:20250926T140000
DTEND;TZID=Europe/Berlin:20250926T150000
DTSTAMP:20260421T170228
CREATED:20250902T131310Z
LAST-MODIFIED:20250902T131310Z
UID:10000161-1758895200-1758898800@www.kielregion.de
SUMMARY:Messung der Herzaktivität mithilfe magnetischer Sensoren
DESCRIPTION:Das EKG ist ein bewährtes Verfahren zur Diagnose von Herzrhythmusstörungen und Infarkten\, erlaubt aber keine genaue Lokalisierung von Gewebevernarbungen. Das Magnetokardiogramm (MKG) misst die Herzaktivität berührungslos über magnetische Felder und bietet neue Einblicke ohne Elektroden. In unserer Mitmach-Experimentierstation zeigen wir das MKG in einer magnetischen Schirmkammer und erläutern Chancen und Herausforderungen dieser Technik.
URL:https://www.kielregion.de/event/messung-der-herzaktivitaet-mithilfe-magnetischer-sensoren/
LOCATION:CAU  – Technische Fakultät\, Kaiserstraße 2\, Kiel\, Schleswig-Holstein\, Deutschland
CATEGORIES:Science Day
END:VEVENT
BEGIN:VEVENT
DTSTART;TZID=Europe/Berlin:20250926T140000
DTEND;TZID=Europe/Berlin:20250926T144500
DTSTAMP:20260421T170228
CREATED:20250902T132831Z
LAST-MODIFIED:20250902T132831Z
UID:10000168-1758895200-1758897900@www.kielregion.de
SUMMARY:Das Studium der Elektrotechnik
DESCRIPTION:Einfach oder schwer? Was macht man danach? Wie sieht es mit dem\nEinkommen aus – und für wen ist das eigentlich das Richtige?
URL:https://www.kielregion.de/event/das-studium-der-elektrotechnik/
LOCATION:CAU  – Technische Fakultät\, Kaiserstraße 2\, Kiel\, Schleswig-Holstein\, Deutschland
CATEGORIES:Science Day
END:VEVENT
BEGIN:VEVENT
DTSTART;TZID=Europe/Berlin:20250926T130000
DTEND;TZID=Europe/Berlin:20250926T180000
DTSTAMP:20260421T170228
CREATED:20250902T131135Z
LAST-MODIFIED:20250902T131135Z
UID:10000160-1758891600-1758909600@www.kielregion.de
SUMMARY:Sensoren messen um mit Sensoren zu messen
DESCRIPTION:Um Magnetfelder zu messen\, muss man genau wissen\, wie die genutzten Sensoren funktionieren. Hier zeigen wir\, wie Sensoren charakterisiert werden um sie für verschiedene Anwendungen nutzbar zu machen. Magnetfeldsensoren kommen an vielen (unerwarteten) Stellen zum Einsatz\, zum Beispiel im Smartphone als Kompass\, in klassischen Festplatten aber auch im Operationssaal oder zur Messung von Hirnströmen. Wir gewähren einen Einblick in unser Labor und die täglichen Aufgaben der Doktorand*innen.
URL:https://www.kielregion.de/event/sensoren-messen-um-mit-sensoren-zu-messen/
LOCATION:CAU  – Technische Fakultät\, Kaiserstraße 2\, Kiel\, Schleswig-Holstein\, Deutschland
CATEGORIES:Science Day
END:VEVENT
BEGIN:VEVENT
DTSTART;TZID=Europe/Berlin:20250926T130000
DTEND;TZID=Europe/Berlin:20250926T180000
DTSTAMP:20260421T170228
CREATED:20250902T130931Z
LAST-MODIFIED:20250902T130931Z
UID:10000159-1758891600-1758909600@www.kielregion.de
SUMMARY:Designing the Invisible Brains of Technology: How Computer Chips Are Born
DESCRIPTION:Every smart device—from your phone to a medical sensor—has a tiny „brain“ called a microchip (IC or ASIC). We are designing these chips entirely on computers using special software (EDA tools)\, simulating how electricity flows through microscopic circuits. Once perfected\, the designs are sent to factories for fabrication\, where they’re printed onto silicon wafers and packaged into chips we use daily.\nWhy it matters: Without this step\, we’d have no wearable tech\, no smart hospitals\, and no AI!
URL:https://www.kielregion.de/event/designing-the-invisible-brains-of-technology-how-computer-chips-are-born/
LOCATION:CAU  – Technische Fakultät\, Kaiserstraße 2\, Kiel\, Schleswig-Holstein\, Deutschland
CATEGORIES:Science Day
END:VEVENT
BEGIN:VEVENT
DTSTART;TZID=Europe/Berlin:20250926T130000
DTEND;TZID=Europe/Berlin:20250926T160000
DTSTAMP:20260421T170228
CREATED:20250902T125739Z
LAST-MODIFIED:20250902T132057Z
UID:10000153-1758891600-1758902400@www.kielregion.de
SUMMARY:Echtzeit-Radfahrertracking mit adaptiver Lichtsteuerung
DESCRIPTION:An der Werftstraße in Kiel erfassen Kameras Radfahrer und verarbeiten die Daten über Edge-Computing mit Raspberry Pis und einem NVIDIA Jetson. Ein LED-Leuchtstreifen entlang der Fahrbahn zeigt in Echtzeit die optimale Geschwindigkeit zur Ampelgrünphase – durch Objekterkennung\, Trajektorienberechnung und Lichtsteuerung im synchronisierten Systemverbund.
URL:https://www.kielregion.de/event/echtzeit-radfahrertracking-mit-adaptiver-lichtsteuerung/
LOCATION:CAU  – Technische Fakultät\, Kaiserstraße 2\, Kiel\, Schleswig-Holstein\, Deutschland
CATEGORIES:Science Day
END:VEVENT
BEGIN:VEVENT
DTSTART;TZID=Europe/Berlin:20250926T130000
DTEND;TZID=Europe/Berlin:20250926T140000
DTSTAMP:20260421T170228
CREATED:20250902T130557Z
LAST-MODIFIED:20250902T130557Z
UID:10000157-1758891600-1758895200@www.kielregion.de
SUMMARY:Bewegungsanalyse mit magnetoelektrischen Sensoren
DESCRIPTION:Die Parkinson-Krankheit geht mit Motorsymptomen einher\, die die Mobilität stark einschränken. Präzise Bewegungserfassung ist für Diagnose und Therapie entscheidend. Optische Systeme sind genau\, aber auf Labore beschränkt. Tragbare Systeme eignen sich kaum für relative Gliedmaßenbewegungen. In dieser Demo nutzen wir magnetische Abstandsmessung mit neuartigen Sensoren\, um diese Lücke zu schließen – etwa zur Erfassung der Schrittbreite als Marker der Gangstabilität. Probieren Sie es selbst aus!
URL:https://www.kielregion.de/event/bewegungsanalyse-mit-magnetoelektrischen-sensoren/
LOCATION:CAU  – Technische Fakultät\, Kaiserstraße 2\, Kiel\, Schleswig-Holstein\, Deutschland
CATEGORIES:Science Day
END:VEVENT
BEGIN:VEVENT
DTSTART;TZID=Europe/Berlin:20250926T130000
DTEND;TZID=Europe/Berlin:20250926T140000
DTSTAMP:20260421T170228
CREATED:20250902T130421Z
LAST-MODIFIED:20250902T130421Z
UID:10000156-1758891600-1758895200@www.kielregion.de
SUMMARY:Vermessung von Unterwasserschallwandlern
DESCRIPTION:Für die Unterwasserkommunikation wandeln Schallwandler elektrische Signale in Schall und umgekehrt. Da sie je nach Frequenz unterschiedlich arbeiten\, müssen sie charakterisiert und die Signale angepasst werden\, um ein entzerrtes Gesamtsystem zu erhalten. Im Rahmen unserer Labortour zeigen wir live\, wie diese Charakterisierung in der maritimen Messstrecke der Technischen Fakultät der CAU Kiel durchgeführt wird.
URL:https://www.kielregion.de/event/vermessung-von-unterwasserschallwandlern/
LOCATION:CAU  – Technische Fakultät\, Kaiserstraße 2\, Kiel\, Schleswig-Holstein\, Deutschland
CATEGORIES:Science Day
END:VEVENT
BEGIN:VEVENT
DTSTART;TZID=Europe/Berlin:20250926T130000
DTEND;TZID=Europe/Berlin:20250926T133000
DTSTAMP:20260421T170228
CREATED:20250902T130752Z
LAST-MODIFIED:20250902T130752Z
UID:10000158-1758891600-1758893400@www.kielregion.de
SUMMARY:Turning Chips into Lifesavers:  ECG\, EEG\, and Animal Health Sensors
DESCRIPTION:We take these advanced chips and turn them into real-world tools. our sensors measure heartbeats (ECG) and brainwaves (EEG) without sticky gels—using just fabric-friendly electrodes! They even work on animals with dry skin (like lizards or mice) where traditional sensors fail. Combined with motion sensors (IMUs)\, this could revolutionize health tracking for athletes\, patients\, and even veterinarians.
URL:https://www.kielregion.de/event/turning-chips-into-lifesavers-ecg-eeg-and-animal-health-sensors/
LOCATION:CAU  – Technische Fakultät\, Kaiserstraße 2\, Kiel\, Schleswig-Holstein\, Deutschland
CATEGORIES:Science Day
END:VEVENT
BEGIN:VEVENT
DTSTART;TZID=Europe/Berlin:20250926T130000
DTEND;TZID=Europe/Berlin:20250926T133000
DTSTAMP:20260421T170228
CREATED:20250902T130113Z
LAST-MODIFIED:20250902T130113Z
UID:10000155-1758891600-1758893400@www.kielregion.de
SUMMARY:Magnetismus live erleben
DESCRIPTION:Was passiert\, wenn man eine kleine Metallkugel durch ein Metallrohr fallen lässt? Du glaubst\, du kennst die Antwort? Probiert es selbst aus mit verschiedenen Röhren aus verschiedensten Materialien und erlebe Wirbelströmen und magnetischen Effekten unmittelbar!
URL:https://www.kielregion.de/event/magnetismus-live-erleben/
LOCATION:CAU  – Technische Fakultät\, Kaiserstraße 2\, Kiel\, Schleswig-Holstein\, Deutschland
CATEGORIES:Science Day
END:VEVENT
BEGIN:VEVENT
DTSTART;TZID=Europe/Berlin:20250926T130000
DTEND;TZID=Europe/Berlin:20250926T133000
DTSTAMP:20260421T170228
CREATED:20250902T125910Z
LAST-MODIFIED:20250902T125910Z
UID:10000154-1758891600-1758893400@www.kielregion.de
SUMMARY:Schatzsuche mit dem Metalldetektor - Wie findet ein Implantat Entzündungen im Darm?
DESCRIPTION:Bei uns dürft ihr selbst zur Forscherin oder zum Forscher werden: Mit einem Metalldetektor sucht ihr in einem Modell nach „unsichtbaren Lecks“ – ähnlich wie unsere Sensorimplantate im Körper nach Entzündungsmarkern fahnden.\n\nIn der echten Forschung verwenden wir dafür winzige\, magnetisch markierte Moleküle und drahtlose Sensoren. Bei unserem Mitmach-Experiment könnt ihr erleben\, wie spannend es ist\, das Unsichtbare sichtbar zu machen – ganz ohne Operation!
URL:https://www.kielregion.de/event/schatzsuche-mit-dem-metalldetektor-wie-findet-ein-implantat-entzuendungen-im-darm/
LOCATION:CAU  – Technische Fakultät\, Kaiserstraße 2\, Kiel\, Schleswig-Holstein\, Deutschland
CATEGORIES:Science Day
END:VEVENT
BEGIN:VEVENT
DTSTART;TZID=Europe/Berlin:20250926T130000
DTEND;TZID=Europe/Berlin:20250926T133000
DTSTAMP:20260421T170228
CREATED:20250902T125617Z
LAST-MODIFIED:20250902T125617Z
UID:10000152-1758891600-1758893400@www.kielregion.de
SUMMARY:Magnetische Domänen – Unsichtbares sichtbar gemacht
DESCRIPTION:Magnetismus begegnet uns ständig\, ist aber unsichtbar. Mithilfe der magnetooptischen Abbildung machen wir die Muster magnetischer Domänen sichtbar. Dazu nutzen wir magnetische Domänen in Granatschichten. Wir zeigen Bilder von magnetischen Strukturen: das verborgene Feld eines Kühlschrankmagneten\, die magnetischen Spuren elektrischer Ströme\, die Codes von Magnetstreifen auf Bankkarten und Diebstahlsicherungen. Wir zeigen eine Welt\, die im Alltag verborgen bleibt.
URL:https://www.kielregion.de/event/magnetische-domaenen-unsichtbares-sichtbar-gemacht/
LOCATION:CAU  – Technische Fakultät\, Kaiserstraße 2\, Kiel\, Schleswig-Holstein\, Deutschland
CATEGORIES:Science Day
END:VEVENT
BEGIN:VEVENT
DTSTART;TZID=Europe/Berlin:20250926T130000
DTEND;TZID=Europe/Berlin:20250926T133000
DTSTAMP:20260421T170228
CREATED:20250902T125435Z
LAST-MODIFIED:20250902T125435Z
UID:10000151-1758891600-1758893400@www.kielregion.de
SUMMARY:Magnetfelder sichtbar machen
DESCRIPTION:Die Kraft des Magnetismus fasziniert die Menschheit\, seitdem wir sie entdeckt haben. Magnetfelder sind eigentlich unsichtbar – aber nicht bei uns! Mithilfe von Eisenfeilspänen und kleinen Kompassreihen könnt ihr selbst erleben\, wie sich Magnetfelder im Raum ausbreiten und verformen.
URL:https://www.kielregion.de/event/magnetfelder-sichtbar-machen/
LOCATION:CAU  – Technische Fakultät\, Kaiserstraße 2\, Kiel\, Schleswig-Holstein\, Deutschland
CATEGORIES:Science Day
END:VEVENT
BEGIN:VEVENT
DTSTART;TZID=Europe/Berlin:20250926T123000
DTEND;TZID=Europe/Berlin:20250926T133000
DTSTAMP:20260421T170228
CREATED:20250902T064435Z
LAST-MODIFIED:20250902T064804Z
UID:10000138-1758889800-1758893400@www.kielregion.de
SUMMARY:Mikrosystemtechnische Sensorherstellung im Reinraum des Kieler Nanolabors
DESCRIPTION:Am Beispiel eines Unterwasserschallsensors werden wichtige mikrosystemtechnische Prozesse wie Lithographie und Dünnschichtabscheidung anschaulich erklärt.
URL:https://www.kielregion.de/event/mikrosystemtechnische-sensorherstellung-im-reinraum-des-kieler-nanolabors/
LOCATION:CAU  – Technische Fakultät\, Kaiserstraße 2\, Kiel\, Schleswig-Holstein\, Deutschland
CATEGORIES:Science Day
END:VEVENT
BEGIN:VEVENT
DTSTART;TZID=Europe/Berlin:20250926T120000
DTEND;TZID=Europe/Berlin:20250926T150000
DTSTAMP:20260421T170228
CREATED:20250902T124840Z
LAST-MODIFIED:20250902T124840Z
UID:10000148-1758888000-1758898800@www.kielregion.de
SUMMARY:Labor-Tour in der Leistungselektronik
DESCRIPTION:Im Mittelspannungslabor werden neuartige Stromrichter und Technologien bis zu einer Spannung von 10.000 Volt getestet und erforscht.\nDaneben werden neue Batterien und Ladeverfahren entwickelt und auf Herz und Nieren überprüft.\nIm Labor für Hybride Netze werden neue Netzstrukturen zu besseren Integration Erneuerbarer Energien untersucht.\nWie funktioniert das alles? Und wie sieht das alles aus?\nDas finden wir bei unser Laborführung heraus!
URL:https://www.kielregion.de/event/labor-tour-in-der-leistungselektronik/
LOCATION:CAU  – Technische Fakultät\, Kaiserstraße 2\, Kiel\, Schleswig-Holstein\, Deutschland
CATEGORIES:Science Day
END:VEVENT
BEGIN:VEVENT
DTSTART;TZID=Europe/Berlin:20250926T120000
DTEND;TZID=Europe/Berlin:20250926T130000
DTSTAMP:20260421T170228
CREATED:20250902T125231Z
LAST-MODIFIED:20250902T125231Z
UID:10000150-1758888000-1758891600@www.kielregion.de
SUMMARY:Die Zukunft der Mensch-Maschinen-Interaktion:  Magnetischer Sensor-Handschuh
DESCRIPTION:Stellen Sie sich eine Welt vor\, in der Sie Maschinen und Geräte mit Ihren Händen steuern – ganz ohne Tasten oder Touchscreens. Unsere Forschung an neuen innovativen Algorithmen und Verfahren könnte genau dies möglich machen. Ein magnetischer Sensorhandschuh kann präzise die Handbewegungen aufzeichnen und in Steuerung übersetzen. In der Zukunft könnten komplexe Systeme und sogar medizinische Operationssysteme präzise durch einfache Handbewegungen bedient werden. Testen Sie es selbst!
URL:https://www.kielregion.de/event/die-zukunft-der-mensch-maschinen-interaktion-magnetischer-sensor-handschuh/
LOCATION:CAU  – Technische Fakultät\, Kaiserstraße 2\, Kiel\, Schleswig-Holstein\, Deutschland
CATEGORIES:Science Day
END:VEVENT
BEGIN:VEVENT
DTSTART;TZID=Europe/Berlin:20250926T110000
DTEND;TZID=Europe/Berlin:20250926T140000
DTSTAMP:20260421T170228
CREATED:20250902T124045Z
LAST-MODIFIED:20250902T124045Z
UID:10000144-1758884400-1758895200@www.kielregion.de
SUMMARY:Sprechender Strom und sprechende Batterien –  Ideen für das Netz der Zukunf
DESCRIPTION:Wie wäre es\, dem Stromnetz die Möglichkeit zu geben zu kommunizieren und Daten auszutauschen? Wie wäre es\, wenn eine Batterie uns ihre innere Temperatur einfach „mitteilen“ kann?\nDie Talkative Power Conversion (TPC) ermöglicht genau das und wir zeigen in unserer Demonstration\, dass das Stromnetz – oder zumindest Teilbereiche – flexibler werden und die einzelnen Komponenten ihren Zustand mit dem Rest des Netzes kommunizieren können oder Batterien uns ihren Zustand kommunizieren können.
URL:https://www.kielregion.de/event/sprechender-strom-und-sprechende-batterien-ideen-fuer-das-netz-der-zukunf/
LOCATION:CAU  – Technische Fakultät\, Kaiserstraße 2\, Kiel\, Schleswig-Holstein\, Deutschland
CATEGORIES:Science Day
END:VEVENT
BEGIN:VEVENT
DTSTART;TZID=Europe/Berlin:20250926T110000
DTEND;TZID=Europe/Berlin:20250926T120000
DTSTAMP:20260421T170228
CREATED:20250902T124241Z
LAST-MODIFIED:20250902T124241Z
UID:10000145-1758884400-1758888000@www.kielregion.de
SUMMARY:Sprechtherapie für Parkinson-Patient*innen
DESCRIPTION:Bei Parkinson treten neben motorischen auch sprachliche Symptome auf: Schwierigkeiten bei Sprachbeginn und -ausführung führen zu leiser\, monotoner oder zittriger Sprache. Das erschwert Kommunikation und belastet das soziale Leben. Eine computergestützte Sprachanalyse unterstützt Therapien durch objektive Erfassung und interaktive Trainings. In unserer Mitmach-Experimentierstation können Besucher*innen diese Technik selbst erleben.
URL:https://www.kielregion.de/event/sprechtherapie-fuer-parkinson-patientinnen/
LOCATION:CAU  – Technische Fakultät\, Kaiserstraße 2\, Kiel\, Schleswig-Holstein\, Deutschland
CATEGORIES:Science Day
END:VEVENT
BEGIN:VEVENT
DTSTART;TZID=Europe/Berlin:20250926T110000
DTEND;TZID=Europe/Berlin:20250926T113000
DTSTAMP:20260421T170228
CREATED:20250902T124440Z
LAST-MODIFIED:20250902T124440Z
UID:10000146-1758884400-1758886200@www.kielregion.de
SUMMARY:Von funkenden Fingern und sprechendem Strom –  Technik mit Unterhaltung!
DESCRIPTION:Was haben ein gestresstes Gyroskop mit Bad-Hair-Day und ein Stromnetz mit Kommunikationsproblemen gemeinsam? Beide brauchen ein Upgrade! Wir zeigen\, wie aus verbogenen Siliziumstrukturen smarte Lebensretter werden – und warum Strom in Zukunft mehr können muss als nur fließen. Denn wenn wir den Klimawandel ernst nehmen\, muss unser Netz lernen zu denken\, zu reagieren – und zu sprechen! Freut euch auf einen Slam mit MEMS-Magie und Energiewende mit Witz.
URL:https://www.kielregion.de/event/von-funkenden-fingern-und-sprechendem-strom-technik-mit-unterhaltung/
LOCATION:CAU  – Technische Fakultät\, Kaiserstraße 2\, Kiel\, Schleswig-Holstein\, Deutschland
CATEGORIES:Science Day
END:VEVENT
BEGIN:VEVENT
DTSTART;TZID=Europe/Berlin:20250926T103000
DTEND;TZID=Europe/Berlin:20250926T120000
DTSTAMP:20260421T170228
CREATED:20250902T123603Z
LAST-MODIFIED:20250902T123700Z
UID:10000143-1758882600-1758888000@www.kielregion.de
SUMMARY:Atomare Welten
DESCRIPTION:In der Materialforschung spielt die Aufklärung der nanoskopischen Details eine zentrale Rolle für die technologische Entwicklung und Transformation zu einer decarbonisieren und elektrifizierten Welt\, da die physikalischen Materialeigenschaften oftmals mit der atomaren Struktur zusammenhängen. In dieser Demo wir mit der vermitteln wir euch wie wir mit der Transmissionselektronenmikroskopie einzigartige Einblicke in die atomare Welten dieser Materialien erlangen können.
URL:https://www.kielregion.de/event/atomare-welten/
LOCATION:CAU  – Technische Fakultät\, Kaiserstraße 2\, Kiel\, Schleswig-Holstein\, Deutschland
CATEGORIES:Science Day
END:VEVENT
BEGIN:VEVENT
DTSTART;TZID=Europe/Berlin:20250926T103000
DTEND;TZID=Europe/Berlin:20250926T110000
DTSTAMP:20260421T170228
CREATED:20250902T123325Z
LAST-MODIFIED:20250902T123742Z
UID:10000142-1758882600-1758884400@www.kielregion.de
SUMMARY:Ein neues Energiezeitalter\, Kernstück des künftigen Netzes? Energy Highway!
DESCRIPTION:Wir werden herausfinden\, warum ein neues Stromnetz so wichtig ist und wie der „Energy Highway“ und sein Herzstück\, der Modulare Multilevel-Stromrichter (engl. Modular Multilevel Converter\, MMC)\, unser tägliches Leben und unsere Zukunft verändern werden. Seien Sie dabei\, wenn wir die unglaubliche Revolution erkunden\, die sich in der unsichtbaren Welt der Elektrizität abspielt!\nDieser Vortrag wird in Englischer Sprache gehalten.
URL:https://www.kielregion.de/event/ein-neues-energiezeitalter-kernstueck-des-kuenftigen-netzes-energy-highway/
LOCATION:CAU  – Technische Fakultät\, Kaiserstraße 2\, Kiel\, Schleswig-Holstein\, Deutschland
CATEGORIES:Science Day
END:VEVENT
BEGIN:VEVENT
DTSTART;TZID=Europe/Berlin:20250926T100000
DTEND;TZID=Europe/Berlin:20250926T160000
DTSTAMP:20260421T170228
CREATED:20250902T122905Z
LAST-MODIFIED:20250902T122905Z
UID:10000140-1758880800-1758902400@www.kielregion.de
SUMMARY:Löten lernen – Elektronik zum Mitnehmen!
DESCRIPTION:Du wolltest schon immer mal wissen\, wie elektronische Schaltungen gebaut werden? In unserem Lötworkshop kannst du selbst Hand anlegen! Unter Anleitung lötest du einfache elektronische Bausätze: eine bunt leuchtende Kugel\, einen Smiley oder kleines Piano. Ganz nebenbei lernst du\, wie die Bauteile aussehen und wie sie funktionieren\, worauf man beim Löten achten muss.\nFür Anfänger:innen geeignet – keine Vorkenntnisse notwendig. Die gelöteten Schaltungen dürft ihr mit nach Hause nehmen!
URL:https://www.kielregion.de/event/loeten-lernen-elektronik-zum-mitnehmen/
LOCATION:CAU  – Technische Fakultät\, Kaiserstraße 2\, Kiel\, Schleswig-Holstein\, Deutschland
CATEGORIES:Science Day
END:VEVENT
BEGIN:VEVENT
DTSTART;TZID=Europe/Berlin:20250926T100000
DTEND;TZID=Europe/Berlin:20250926T110000
DTSTAMP:20260421T170228
CREATED:20250902T123128Z
LAST-MODIFIED:20250902T123842Z
UID:10000141-1758880800-1758884400@www.kielregion.de
SUMMARY:Digitaler Ozean
DESCRIPTION:Sonar-Systeme nutzen Schallwellen zur Analyse von Unterwasserumgebungen – etwa zur Ortung von Schiffen\, Erkennung von Meereslebewesen oder Analyse von Gasblasen. Am Lehrstuhl für digitale Signalverarbeitung entsteht dazu ein „digitaler Ozean“: eine virtuelle Umgebung mit simulierten Objekten und akustischer Interaktion. In unserer Mitmach-Experimentierstation zeigen wir\, wie aus Unterwasserschall eine Echtzeit-Karte erzeugt wird – inklusive Herausforderungen.
URL:https://www.kielregion.de/event/digitaler-ozean/
LOCATION:CAU  – Technische Fakultät\, Kaiserstraße 2\, Kiel\, Schleswig-Holstein\, Deutschland
CATEGORIES:Science Day
END:VEVENT
END:VCALENDAR