BEGIN:VCALENDAR
VERSION:2.0
PRODID:-//KielRegion - ECPv6.15.20//NONSGML v1.0//EN
CALSCALE:GREGORIAN
METHOD:PUBLISH
X-WR-CALNAME:KielRegion
X-ORIGINAL-URL:https://www.kielregion.de
X-WR-CALDESC:Veranstaltungen für KielRegion
REFRESH-INTERVAL;VALUE=DURATION:PT1H
X-Robots-Tag:noindex
X-PUBLISHED-TTL:PT1H
BEGIN:VTIMEZONE
TZID:Europe/Berlin
BEGIN:DAYLIGHT
TZOFFSETFROM:+0100
TZOFFSETTO:+0200
TZNAME:CEST
DTSTART:20230326T010000
END:DAYLIGHT
BEGIN:STANDARD
TZOFFSETFROM:+0200
TZOFFSETTO:+0100
TZNAME:CET
DTSTART:20231029T010000
END:STANDARD
BEGIN:DAYLIGHT
TZOFFSETFROM:+0100
TZOFFSETTO:+0200
TZNAME:CEST
DTSTART:20240331T010000
END:DAYLIGHT
BEGIN:STANDARD
TZOFFSETFROM:+0200
TZOFFSETTO:+0100
TZNAME:CET
DTSTART:20241027T010000
END:STANDARD
BEGIN:DAYLIGHT
TZOFFSETFROM:+0100
TZOFFSETTO:+0200
TZNAME:CEST
DTSTART:20250330T010000
END:DAYLIGHT
BEGIN:STANDARD
TZOFFSETFROM:+0200
TZOFFSETTO:+0100
TZNAME:CET
DTSTART:20251026T010000
END:STANDARD
BEGIN:DAYLIGHT
TZOFFSETFROM:+0100
TZOFFSETTO:+0200
TZNAME:CEST
DTSTART:20260329T010000
END:DAYLIGHT
BEGIN:STANDARD
TZOFFSETFROM:+0200
TZOFFSETTO:+0100
TZNAME:CET
DTSTART:20261025T010000
END:STANDARD
END:VTIMEZONE
BEGIN:VEVENT
DTSTART;TZID=Europe/Berlin:20250926T110000
DTEND;TZID=Europe/Berlin:20250926T120000
DTSTAMP:20260421T134201
CREATED:20250902T124241Z
LAST-MODIFIED:20250902T124241Z
UID:10000145-1758884400-1758888000@www.kielregion.de
SUMMARY:Sprechtherapie für Parkinson-Patient*innen
DESCRIPTION:Bei Parkinson treten neben motorischen auch sprachliche Symptome auf: Schwierigkeiten bei Sprachbeginn und -ausführung führen zu leiser\, monotoner oder zittriger Sprache. Das erschwert Kommunikation und belastet das soziale Leben. Eine computergestützte Sprachanalyse unterstützt Therapien durch objektive Erfassung und interaktive Trainings. In unserer Mitmach-Experimentierstation können Besucher*innen diese Technik selbst erleben.
URL:https://www.kielregion.de/event/sprechtherapie-fuer-parkinson-patientinnen/
LOCATION:CAU  – Technische Fakultät\, Kaiserstraße 2\, Kiel\, Schleswig-Holstein\, Deutschland
CATEGORIES:Science Day
END:VEVENT
BEGIN:VEVENT
DTSTART;TZID=Europe/Berlin:20250926T110000
DTEND;TZID=Europe/Berlin:20250926T113000
DTSTAMP:20260421T134201
CREATED:20250902T124440Z
LAST-MODIFIED:20250902T124440Z
UID:10000146-1758884400-1758886200@www.kielregion.de
SUMMARY:Von funkenden Fingern und sprechendem Strom –  Technik mit Unterhaltung!
DESCRIPTION:Was haben ein gestresstes Gyroskop mit Bad-Hair-Day und ein Stromnetz mit Kommunikationsproblemen gemeinsam? Beide brauchen ein Upgrade! Wir zeigen\, wie aus verbogenen Siliziumstrukturen smarte Lebensretter werden – und warum Strom in Zukunft mehr können muss als nur fließen. Denn wenn wir den Klimawandel ernst nehmen\, muss unser Netz lernen zu denken\, zu reagieren – und zu sprechen! Freut euch auf einen Slam mit MEMS-Magie und Energiewende mit Witz.
URL:https://www.kielregion.de/event/von-funkenden-fingern-und-sprechendem-strom-technik-mit-unterhaltung/
LOCATION:CAU  – Technische Fakultät\, Kaiserstraße 2\, Kiel\, Schleswig-Holstein\, Deutschland
CATEGORIES:Science Day
END:VEVENT
BEGIN:VEVENT
DTSTART;TZID=Europe/Berlin:20250926T103000
DTEND;TZID=Europe/Berlin:20250926T120000
DTSTAMP:20260421T134201
CREATED:20250902T123603Z
LAST-MODIFIED:20250902T123700Z
UID:10000143-1758882600-1758888000@www.kielregion.de
SUMMARY:Atomare Welten
DESCRIPTION:In der Materialforschung spielt die Aufklärung der nanoskopischen Details eine zentrale Rolle für die technologische Entwicklung und Transformation zu einer decarbonisieren und elektrifizierten Welt\, da die physikalischen Materialeigenschaften oftmals mit der atomaren Struktur zusammenhängen. In dieser Demo wir mit der vermitteln wir euch wie wir mit der Transmissionselektronenmikroskopie einzigartige Einblicke in die atomare Welten dieser Materialien erlangen können.
URL:https://www.kielregion.de/event/atomare-welten/
LOCATION:CAU  – Technische Fakultät\, Kaiserstraße 2\, Kiel\, Schleswig-Holstein\, Deutschland
CATEGORIES:Science Day
END:VEVENT
BEGIN:VEVENT
DTSTART;TZID=Europe/Berlin:20250926T103000
DTEND;TZID=Europe/Berlin:20250926T110000
DTSTAMP:20260421T134201
CREATED:20250902T123325Z
LAST-MODIFIED:20250902T123742Z
UID:10000142-1758882600-1758884400@www.kielregion.de
SUMMARY:Ein neues Energiezeitalter\, Kernstück des künftigen Netzes? Energy Highway!
DESCRIPTION:Wir werden herausfinden\, warum ein neues Stromnetz so wichtig ist und wie der „Energy Highway“ und sein Herzstück\, der Modulare Multilevel-Stromrichter (engl. Modular Multilevel Converter\, MMC)\, unser tägliches Leben und unsere Zukunft verändern werden. Seien Sie dabei\, wenn wir die unglaubliche Revolution erkunden\, die sich in der unsichtbaren Welt der Elektrizität abspielt!\nDieser Vortrag wird in Englischer Sprache gehalten.
URL:https://www.kielregion.de/event/ein-neues-energiezeitalter-kernstueck-des-kuenftigen-netzes-energy-highway/
LOCATION:CAU  – Technische Fakultät\, Kaiserstraße 2\, Kiel\, Schleswig-Holstein\, Deutschland
CATEGORIES:Science Day
END:VEVENT
BEGIN:VEVENT
DTSTART;TZID=Europe/Berlin:20250926T100000
DTEND;TZID=Europe/Berlin:20250926T160000
DTSTAMP:20260421T134201
CREATED:20250902T122905Z
LAST-MODIFIED:20250902T122905Z
UID:10000140-1758880800-1758902400@www.kielregion.de
SUMMARY:Löten lernen – Elektronik zum Mitnehmen!
DESCRIPTION:Du wolltest schon immer mal wissen\, wie elektronische Schaltungen gebaut werden? In unserem Lötworkshop kannst du selbst Hand anlegen! Unter Anleitung lötest du einfache elektronische Bausätze: eine bunt leuchtende Kugel\, einen Smiley oder kleines Piano. Ganz nebenbei lernst du\, wie die Bauteile aussehen und wie sie funktionieren\, worauf man beim Löten achten muss.\nFür Anfänger:innen geeignet – keine Vorkenntnisse notwendig. Die gelöteten Schaltungen dürft ihr mit nach Hause nehmen!
URL:https://www.kielregion.de/event/loeten-lernen-elektronik-zum-mitnehmen/
LOCATION:CAU  – Technische Fakultät\, Kaiserstraße 2\, Kiel\, Schleswig-Holstein\, Deutschland
CATEGORIES:Science Day
END:VEVENT
BEGIN:VEVENT
DTSTART;TZID=Europe/Berlin:20250926T100000
DTEND;TZID=Europe/Berlin:20250926T110000
DTSTAMP:20260421T134201
CREATED:20250902T123128Z
LAST-MODIFIED:20250902T123842Z
UID:10000141-1758880800-1758884400@www.kielregion.de
SUMMARY:Digitaler Ozean
DESCRIPTION:Sonar-Systeme nutzen Schallwellen zur Analyse von Unterwasserumgebungen – etwa zur Ortung von Schiffen\, Erkennung von Meereslebewesen oder Analyse von Gasblasen. Am Lehrstuhl für digitale Signalverarbeitung entsteht dazu ein „digitaler Ozean“: eine virtuelle Umgebung mit simulierten Objekten und akustischer Interaktion. In unserer Mitmach-Experimentierstation zeigen wir\, wie aus Unterwasserschall eine Echtzeit-Karte erzeugt wird – inklusive Herausforderungen.
URL:https://www.kielregion.de/event/digitaler-ozean/
LOCATION:CAU  – Technische Fakultät\, Kaiserstraße 2\, Kiel\, Schleswig-Holstein\, Deutschland
CATEGORIES:Science Day
END:VEVENT
BEGIN:VEVENT
DTSTART;TZID=Europe/Berlin:20250926T100000
DTEND;TZID=Europe/Berlin:20250926T103000
DTSTAMP:20260421T134201
CREATED:20250902T121525Z
LAST-MODIFIED:20250902T121758Z
UID:10000139-1758880800-1758882600@www.kielregion.de
SUMMARY:Magnetoelektrische Sensoren in der Medizin
DESCRIPTION:Für viele medizinische Untersuchungen werden bisher elektrische Sensoren eingesetzt\, die Spannungen über dem Kopf oder Brustkorb messen (EEG und EKG). Die Ausbreitung dieser Signale wird jedoch stark von Körpergewebe beeinflusst. Neue magnetische Sensoren bieten hier Vorteile\, da sie weniger durch Gewebe gestört werden. Sie ermöglichen genauere\, kontaktlose Diagnosen – ähnlich einem „Trikorder“ aus „Star Trek“ – und eröffnen neue noninvasive medizinische Anwendungen.
URL:https://www.kielregion.de/event/magnetoelektrische-sensoren-in-der-medizin/
LOCATION:CAU  – Technische Fakultät\, Kaiserstraße 2\, Kiel\, Schleswig-Holstein\, Deutschland
CATEGORIES:Science Day
END:VEVENT
BEGIN:VEVENT
DTSTART;TZID=Europe/Berlin:20240927T180000
DTEND;TZID=Europe/Berlin:20240927T183000
DTSTAMP:20260421T134201
CREATED:20240820T091121Z
LAST-MODIFIED:20240820T095406Z
UID:10000007-1727460000-1727461800@www.kielregion.de
SUMMARY:Reinraumführung
DESCRIPTION:Kleinere Strukturen werden in unserem Alltag immer wichtiger\, sei es in verschiedenen Sensoren\, wie Gyroskopen oder Computerchips. All diese Bauelemente werden im Reinraum gefertigt. \nHinweis: Treffpunkt ist in der Mensa der Technischen Fakultät
URL:https://www.kielregion.de/event/reinraumfuehrung-2/
LOCATION:CAU  – Technische Fakultät\, Kaiserstraße 2\, Kiel\, Schleswig-Holstein\, Deutschland
CATEGORIES:Science Day
END:VEVENT
BEGIN:VEVENT
DTSTART;TZID=Europe/Berlin:20240927T170000
DTEND;TZID=Europe/Berlin:20240927T180000
DTSTAMP:20260421T134201
CREATED:20240820T150015Z
LAST-MODIFIED:20240820T111618Z
UID:10000006-1727456400-1727460000@www.kielregion.de
SUMMARY:Reinraumführung
DESCRIPTION:Kleinere Strukturen werden in unserem Alltag immer wichtiger\, sei es in verschiedenen Sensoren\, wie Gyroskopen oder Computerchips. All diese Bauelemente werden im Reinraum gefertigt. \nHinweis: Treffpunkt ist in der Mensa der Technischen Fakultät
URL:https://www.kielregion.de/event/reinraumfuehrung/
LOCATION:CAU  – Technische Fakultät\, Kaiserstraße 2\, Kiel\, Schleswig-Holstein\, Deutschland
CATEGORIES:Science Day
END:VEVENT
BEGIN:VEVENT
DTSTART;TZID=Europe/Berlin:20240927T163000
DTEND;TZID=Europe/Berlin:20240927T183000
DTSTAMP:20260421T134201
CREATED:20240820T083247Z
LAST-MODIFIED:20240820T095419Z
UID:10000004-1727454600-1727461800@www.kielregion.de
SUMMARY:Ein mikroskopischer Blick in die Vergangenheit - das Transmissionselektronenmikroskop
DESCRIPTION:Das Transmissionselektronenmikroskop (TEM) nutzt einen hochgeladenen Elektronenstrahl\, um extrem vergrößerte Bilder eines Materials zu erstellen\, und kann dessen Zusammensetzung bis auf atomare Ebene bestimmen. \nIn der Archäologie können hiermit z.B. Keramiken\, Werkzeuge oder Farbschichten untersucht werden\, um mehr über die Herstellungsweise und die Geschichte des Fundstücks zu erfahren. \nFreuen Sie sich auf eine spannende Vorführung und live-Untersuchung an unserem Mikroskop!
URL:https://www.kielregion.de/event/ein-mikroskopischer-blick-in-die-vergangenheit-das-transmissionselektronenmikroskop/
LOCATION:CAU  – Technische Fakultät\, Kaiserstraße 2\, Kiel\, Schleswig-Holstein\, Deutschland
CATEGORIES:Science Day
END:VEVENT
BEGIN:VEVENT
DTSTART;TZID=Europe/Berlin:20240927T140000
DTEND;TZID=Europe/Berlin:20240927T190000
DTSTAMP:20260421T134201
CREATED:20240820T090245Z
LAST-MODIFIED:20240820T095425Z
UID:10000005-1727445600-1727463600@www.kielregion.de
SUMMARY:Funktionale Nanomaterialien
DESCRIPTION:Extreme Leichtgewichte und Komplexe Geometrien: Erkunde die Welt kleinster Partikel
URL:https://www.kielregion.de/event/funktionale-nanomaterialien/
LOCATION:CAU  – Technische Fakultät\, Kaiserstraße 2\, Kiel\, Schleswig-Holstein\, Deutschland
CATEGORIES:Science Day
END:VEVENT
BEGIN:VEVENT
DTSTART;TZID=Europe/Berlin:20240927T140000
DTEND;TZID=Europe/Berlin:20240927T180000
DTSTAMP:20260421T134201
CREATED:20240820T110751Z
LAST-MODIFIED:20240820T110846Z
UID:10000010-1727445600-1727460000@www.kielregion.de
SUMMARY:Sounds aus Radarmessungen
DESCRIPTION:Ein frequenzmoduliertes Dauerstrich Radar (FMCW-Radar) wird meistens zur Messung von Abständen verwendet\, z.B. für Höhenmessungen in Flugzeugen. Wenn mehrere Oberflächen vor dem Radar sind\, enthält das gemessene Signal mehrere Frequenzen.\n\nDas vorgestellte FMCW-Radar ist so entworfen worden\, dass die gemessenen Frequenzen im Audio-Bereich liegen und so hörbar gemacht werden können. Je nach Abstand und Bewegung vor der Antenne entstehen so unterschiedliche Töne.\n\nEin Experiment zum Mitmachen!
URL:https://www.kielregion.de/event/sounds-aus-radarmessungen/
LOCATION:CAU  – Technische Fakultät\, Kaiserstraße 2\, Kiel\, Schleswig-Holstein\, Deutschland
CATEGORIES:Science Day
END:VEVENT
BEGIN:VEVENT
DTSTART;TZID=Europe/Berlin:20240927T140000
DTEND;TZID=Europe/Berlin:20240927T180000
DTSTAMP:20260421T134201
CREATED:20240820T100533Z
LAST-MODIFIED:20240820T111341Z
UID:10000009-1727445600-1727460000@www.kielregion.de
SUMMARY:We CanDoIt - "Liquid Biopsy" für die minimalinvasive Brustkrebserkennung
DESCRIPTION:Brustkrebs ist eine der häufigsten Krebsarten. Gerade in der Nachsorge ist eine regelmäßige Kontrolle wichtig. Mittels „Liquid Biopsy“\, d.h. der Detektion charakteristischer Krebs-Biomarker aus Körperflüssigkeiten\, soll eine einfache und schnelle Analyse ermöglicht werden. In dem von der EU geförderten MSCA-Netzwerk CanDoIt erforschen wir optische und magnetische Messmethoden in mikrofluidischen Chiplaboren. Hier geben wir Einblicke in unsere Forschung.
URL:https://www.kielregion.de/event/we-candoit-liquid-biopsy-fuer-die-minimalinvasive-brustkrebserkennung/
LOCATION:CAU  – Technische Fakultät\, Kaiserstraße 2\, Kiel\, Schleswig-Holstein\, Deutschland
CATEGORIES:Science Day
END:VEVENT
BEGIN:VEVENT
DTSTART;TZID=Europe/Berlin:20240927T140000
DTEND;TZID=Europe/Berlin:20240927T180000
DTSTAMP:20260421T134201
CREATED:20240820T094939Z
LAST-MODIFIED:20240820T095333Z
UID:10000008-1727445600-1727460000@www.kielregion.de
SUMMARY:SOILMONITOR – Kompakter Nährstoffsensor für die Landwirtschaft
DESCRIPTION:SOILMONITOR ist ein EU gefördertes Projekt\, welches zur Entwicklung eines Nähstoffsensors für die Landwirtschaft dient. Mittels eines miniaturisierten Labors soll der Nitrat-\, Ammonium- und Phosphat-Gehalt des Bodenwassers dezentral und kontinuierlich zur Verfügung gestellt werden. Ziel ist es die notwendige Versorgung mit Pflanzennährstoffen zu gewährleisten\, die Überdüngung unserer Felder zu verhindern\, Erträge zu optimieren und Böden\, Seen & Grundwasser nachhaltig zu schützen.
URL:https://www.kielregion.de/event/soilmonitor-kompakter-naehrstoffsensor-fuer-die-landwirtschaft/
LOCATION:CAU  – Technische Fakultät\, Kaiserstraße 2\, Kiel\, Schleswig-Holstein\, Deutschland
CATEGORIES:Science Day
END:VEVENT
END:VCALENDAR