BEGIN:VCALENDAR
VERSION:2.0
PRODID:-//KielRegion - ECPv6.15.20//NONSGML v1.0//EN
CALSCALE:GREGORIAN
METHOD:PUBLISH
X-WR-CALNAME:KielRegion
X-ORIGINAL-URL:https://www.kielregion.de
X-WR-CALDESC:Veranstaltungen für KielRegion
REFRESH-INTERVAL;VALUE=DURATION:PT1H
X-Robots-Tag:noindex
X-PUBLISHED-TTL:PT1H
BEGIN:VTIMEZONE
TZID:Europe/Berlin
BEGIN:DAYLIGHT
TZOFFSETFROM:+0100
TZOFFSETTO:+0200
TZNAME:CEST
DTSTART:20230326T010000
END:DAYLIGHT
BEGIN:STANDARD
TZOFFSETFROM:+0200
TZOFFSETTO:+0100
TZNAME:CET
DTSTART:20231029T010000
END:STANDARD
BEGIN:DAYLIGHT
TZOFFSETFROM:+0100
TZOFFSETTO:+0200
TZNAME:CEST
DTSTART:20240331T010000
END:DAYLIGHT
BEGIN:STANDARD
TZOFFSETFROM:+0200
TZOFFSETTO:+0100
TZNAME:CET
DTSTART:20241027T010000
END:STANDARD
BEGIN:DAYLIGHT
TZOFFSETFROM:+0100
TZOFFSETTO:+0200
TZNAME:CEST
DTSTART:20250330T010000
END:DAYLIGHT
BEGIN:STANDARD
TZOFFSETFROM:+0200
TZOFFSETTO:+0100
TZNAME:CET
DTSTART:20251026T010000
END:STANDARD
BEGIN:DAYLIGHT
TZOFFSETFROM:+0100
TZOFFSETTO:+0200
TZNAME:CEST
DTSTART:20260329T010000
END:DAYLIGHT
BEGIN:STANDARD
TZOFFSETFROM:+0200
TZOFFSETTO:+0100
TZNAME:CET
DTSTART:20261025T010000
END:STANDARD
END:VTIMEZONE
BEGIN:VEVENT
DTSTART;TZID=Europe/Berlin:20250926T110000
DTEND;TZID=Europe/Berlin:20250926T190000
DTSTAMP:20260421T115846
CREATED:20250902T134255Z
LAST-MODIFIED:20250911T124335Z
UID:10000176-1758884400-1758913200@www.kielregion.de
SUMMARY:UKSH: Wissen schafft Gesundheit
DESCRIPTION:Forschen für die Gesundheit von morgen: Wie auch Ihre Daten einen Beitrag zur Medizin der Zukunft leisten.\n\nProgrammflyer Gesundheitsforum Kiel Science Day 2025
URL:https://www.kielregion.de/event/uksh-wissen-schafft-gesundheit/
LOCATION:CITTI Park\, Kiel\, Schleswig-Holstein\, Deutschland
CATEGORIES:Science Day
END:VEVENT
BEGIN:VEVENT
DTSTART;TZID=Europe/Berlin:20250926T110000
DTEND;TZID=Europe/Berlin:20250926T190000
DTSTAMP:20260421T115846
CREATED:20250902T134113Z
LAST-MODIFIED:20250902T134113Z
UID:10000175-1758884400-1758913200@www.kielregion.de
SUMMARY:Steine\, Steine\, nichts als Steine
DESCRIPTION:Mitgebrachte Funde bestimmen lassen\, nach Edelsteinen suchen und Fossilienabdrücke bemalen – all das erwartet die kleinen und großen Besucher*innen an diesem Stand.
URL:https://www.kielregion.de/event/steine-steine-nichts-als-steine-2/
LOCATION:CITTI Park\, Kiel\, Schleswig-Holstein\, Deutschland
CATEGORIES:Science Day
END:VEVENT
BEGIN:VEVENT
DTSTART;TZID=Europe/Berlin:20250926T100000
DTEND;TZID=Europe/Berlin:20250926T200000
DTSTAMP:20260421T115846
CREATED:20250902T134440Z
LAST-MODIFIED:20250902T134440Z
UID:10000177-1758880800-1758916800@www.kielregion.de
SUMMARY:Gesundheitsforschung zum Anfassen – Spannende Erlebnisse für die ganze Familie
DESCRIPTION:Körperwerte verstehen und Zucker neu sehen mit Körperfettanalyse\,\nZuckerausstellung und Gewinnspiel
URL:https://www.kielregion.de/event/gesundheitsforschung-zum-anfassen-spannende-erlebnisse-fuer-die-ganze-familie/
LOCATION:CITTI Park\, Kiel\, Schleswig-Holstein\, Deutschland
CATEGORIES:Science Day
END:VEVENT
BEGIN:VEVENT
DTSTART;TZID=Europe/Berlin:20250926T100000
DTEND;TZID=Europe/Berlin:20250926T200000
DTSTAMP:20260421T115846
CREATED:20250902T133545Z
LAST-MODIFIED:20250902T133545Z
UID:10000172-1758880800-1758916800@www.kielregion.de
SUMMARY:Laborino - Entdecke deine Welt!
DESCRIPTION:Der Laborino ist eine kleine Messbox\, die zahlreiche Experimente ermöglicht. Wir beantworten mit dir zusammen so wichtige Fragen wie: Kann man auf der Erde schwerelos sein? Wie hoch ist der Druck in einem Luftballon? Warum kühlen Eiswürfel viel besser als kaltes Wasser? Wie kommt das Vakuum ins Marmeladenglas? Kann man Höhe ohne Maßband messen? Wie kann man beim Fußball Handspiel nachweisen?Bist du bereit dies alles und noch mehr herauszufinden? Laborino – Endecke deine Welt!
URL:https://www.kielregion.de/event/laborino-entdecke-deine-welt/
LOCATION:CITTI Park\, Kiel\, Schleswig-Holstein\, Deutschland
CATEGORIES:Science Day
END:VEVENT
BEGIN:VEVENT
DTSTART;TZID=Europe/Berlin:20250926T100000
DTEND;TZID=Europe/Berlin:20250926T180000
DTSTAMP:20260421T115846
CREATED:20250902T133922Z
LAST-MODIFIED:20250902T133922Z
UID:10000174-1758880800-1758909600@www.kielregion.de
SUMMARY:Jugend forscht SH
DESCRIPTION:Jungforscher*innen präsentieren ihre Projekte aus dem Jugend\nforscht Wettbewerb 2025
URL:https://www.kielregion.de/event/jugend-forscht-sh/
LOCATION:CITTI Park\, Kiel\, Schleswig-Holstein\, Deutschland
CATEGORIES:Science Day
END:VEVENT
BEGIN:VEVENT
DTSTART;TZID=Europe/Berlin:20240927T173000
DTEND;TZID=Europe/Berlin:20240927T180000
DTSTAMP:20260421T115846
CREATED:20240820T171748Z
LAST-MODIFIED:20240905T182641Z
UID:10000020-1727458200-1727460000@www.kielregion.de
SUMMARY:Sicher durch den Winter – mit KI zum Infektions-Frühwarnsystem
DESCRIPTION:Teilnahme nur mit Anmeldung.
URL:https://www.kielregion.de/event/sicher-durch-den-winter-mit-ki-zum-infektions-fruehwarnsystem/
LOCATION:CITTI Park\, Kiel\, Schleswig-Holstein\, Deutschland
CATEGORIES:Science Day
END:VEVENT
BEGIN:VEVENT
DTSTART;TZID=Europe/Berlin:20240927T170000
DTEND;TZID=Europe/Berlin:20240927T173000
DTSTAMP:20260421T115846
CREATED:20240820T171707Z
LAST-MODIFIED:20240905T182704Z
UID:10000019-1727456400-1727458200@www.kielregion.de
SUMMARY:Optimierung der Arzneitherapie bei Depressionen: Wie kann KI bei Auswahl und Dosierung von Medikamenten helfen?
DESCRIPTION:Teilnahme nur mit Anmeldung.
URL:https://www.kielregion.de/event/optimierung-der-arzneitherapie-bei-depressionen-wie-kann-ki-bei-auswahl-und-dosierung-von-medikamenten-helfen/
LOCATION:CITTI Park\, Kiel\, Schleswig-Holstein\, Deutschland
CATEGORIES:Science Day
END:VEVENT
BEGIN:VEVENT
DTSTART;TZID=Europe/Berlin:20240927T163000
DTEND;TZID=Europe/Berlin:20240927T170000
DTSTAMP:20260421T115846
CREATED:20240820T171636Z
LAST-MODIFIED:20240905T183007Z
UID:10000018-1727454600-1727456400@www.kielregion.de
SUMMARY:Smart Solutions im OP - High Tech im und um den OP-Saal herum
DESCRIPTION:Teilnahme nur mit Anmeldung.
URL:https://www.kielregion.de/event/smart-solutions-im-op-high-tech-im-und-um-den-op-saal-herum/
LOCATION:CITTI Park\, Kiel\, Schleswig-Holstein\, Deutschland
CATEGORIES:Science Day
END:VEVENT
BEGIN:VEVENT
DTSTART;TZID=Europe/Berlin:20240927T160000
DTEND;TZID=Europe/Berlin:20240927T163000
DTSTAMP:20260421T115846
CREATED:20240820T171523Z
LAST-MODIFIED:20240905T183010Z
UID:10000017-1727452800-1727454600@www.kielregion.de
SUMMARY:Künstliche Intelligenz in der Darmkrebsvorsorge
DESCRIPTION:Teilnahme nur mit Anmeldung.
URL:https://www.kielregion.de/event/kuenstliche-intelligenz-in-der-darmkrebsvorsorge/
LOCATION:CITTI Park\, Kiel\, Schleswig-Holstein\, Deutschland
CATEGORIES:Science Day
END:VEVENT
BEGIN:VEVENT
DTSTART;TZID=Europe/Berlin:20240927T153000
DTEND;TZID=Europe/Berlin:20240927T160000
DTSTAMP:20260421T115846
CREATED:20240820T171435Z
LAST-MODIFIED:20240905T182730Z
UID:10000016-1727451000-1727452800@www.kielregion.de
SUMMARY:Einsatz von KI in der Medizin: Typische Anwendungen in der medizinischen Bildanalyse
DESCRIPTION:Teilnahme nur mit Anmeldung.
URL:https://www.kielregion.de/event/einsatz-von-ki-in-der-medizin-typische-anwendungen-in-der-medizinischen-bildanalyse/
LOCATION:CITTI Park\, Kiel\, Schleswig-Holstein\, Deutschland
CATEGORIES:Science Day
END:VEVENT
BEGIN:VEVENT
DTSTART;TZID=Europe/Berlin:20240927T150000
DTEND;TZID=Europe/Berlin:20240927T160000
DTSTAMP:20260421T115846
CREATED:20240820T170723Z
LAST-MODIFIED:20240820T171017Z
UID:10000014-1727449200-1727452800@www.kielregion.de
SUMMARY:Forschung aus dem Meer für die Medizin von morgen - Kurzvorträge für Kinder
DESCRIPTION:Warum arbeiten Meereswissenschaftler*innen und Mediziner*innen in Kiel zusammen?\n\nBauernhof unter Wasser\n\nKorallen\, kaputte Knochen und ganz viele Nägel\n\n \n\n3 spannende und kurzweilige Vorträge für Kinder!
URL:https://www.kielregion.de/event/forschung-aus-dem-meer-fuer-die-medizin-von-morgen-kurzvortraege-fuer-kinder-2/
LOCATION:CITTI Park\, Kiel\, Schleswig-Holstein\, Deutschland
CATEGORIES:Science Day
END:VEVENT
BEGIN:VEVENT
DTSTART;TZID=Europe/Berlin:20240927T150000
DTEND;TZID=Europe/Berlin:20240927T160000
DTSTAMP:20260421T115846
CREATED:20240820T114029Z
LAST-MODIFIED:20240820T171022Z
UID:10000012-1727449200-1727452800@www.kielregion.de
SUMMARY:Forschung aus dem Meer für die Medizin von morgen - Kurzvorträge für Kinder
DESCRIPTION:Was hat Stress mit der Erdgeschichte zu tun?\n\nWirkstoffe aus dem Meer für die Medizin von morgen.\n\nDem Vergessen auf der Spur.\n\n \n\n3 spannende und kurzweilige Vorträge für Kinder!
URL:https://www.kielregion.de/event/forschung-aus-dem-meer-fuer-die-medizin-von-morgen-kurzvortraege-fuer-kinder/
LOCATION:CITTI Park\, Kiel\, Schleswig-Holstein\, Deutschland
CATEGORIES:Science Day
END:VEVENT
BEGIN:VEVENT
DTSTART;TZID=Europe/Berlin:20240927T150000
DTEND;TZID=Europe/Berlin:20240927T153000
DTSTAMP:20260421T115846
CREATED:20240820T171202Z
LAST-MODIFIED:20240905T182439Z
UID:10000015-1727449200-1727451000@www.kielregion.de
SUMMARY:Gut\, besser\, KI: künstliche Intelligenz in der Strahlentherapie-Technik
DESCRIPTION:Teilnahme nur mit Anmeldung.
URL:https://www.kielregion.de/event/gut-besser-ki-kuenstliche-intelligenz-in-der-strahlentherapie-technik/
LOCATION:CITTI Park\, Kiel\, Schleswig-Holstein\, Deutschland
CATEGORIES:Science Day
END:VEVENT
BEGIN:VEVENT
DTSTART;TZID=Europe/Berlin:20240927T120000
DTEND;TZID=Europe/Berlin:20240927T190000
DTSTAMP:20260421T115846
CREATED:20240822T184525Z
LAST-MODIFIED:20240918T074520Z
UID:10000023-1727438400-1727463600@www.kielregion.de
SUMMARY:Moderne Endoskopie erleben – von der Darmspiegelung bis zur KI
DESCRIPTION:Teilnahme nur mit Anmeldung. 
URL:https://www.kielregion.de/event/moderne-endoskopie-erleben-von-der-darmspiegelung-bis-zur-ki/
LOCATION:CITTI Park\, Kiel\, Schleswig-Holstein\, Deutschland
CATEGORIES:Science Day
END:VEVENT
BEGIN:VEVENT
DTSTART;TZID=Europe/Berlin:20240927T110000
DTEND;TZID=Europe/Berlin:20240927T200000
DTSTAMP:20260421T115846
CREATED:20240822T081620Z
LAST-MODIFIED:20240822T081620Z
UID:10000028-1727434800-1727467200@www.kielregion.de
SUMMARY:Melkkuh \,\,Nordlicht" erklärt Agrarwissenschaften
DESCRIPTION:Das Melken an einer lebensgroß nachgebauten Melkkuh ist ein Erlebnis für Groß und Klein. Besucherinnen und Besucher können testen\, ob sie überhaupt mit der Hand melken können oder sich im Wettstreit mit anderen messen. „Nordlicht“\, ist ein langjähriges Mitglied der Agrar- und Ernährungswissenschaftlichen Fakultät sowie des Kompetenzzentrums Milch S-H (KMSH). Wer durch Nordlicht für ein Studium der Agrarwissenschaften begeistert wurde\, kann sich vor Ort informieren.
URL:https://www.kielregion.de/event/melkkuh-nordlicht-erklaert-agrarwissenschaften/
LOCATION:CITTI Park\, Kiel\, Schleswig-Holstein\, Deutschland
CATEGORIES:Science Day
END:VEVENT
BEGIN:VEVENT
DTSTART;TZID=Europe/Berlin:20240927T110000
DTEND;TZID=Europe/Berlin:20240927T200000
DTSTAMP:20260421T115846
CREATED:20240822T081303Z
LAST-MODIFIED:20240822T082036Z
UID:10000027-1727434800-1727467200@www.kielregion.de
SUMMARY:Gesundheit und Prävention-Ausstellung Zuckergehalt in Lebensmitteln und Ernährungsberatung
DESCRIPTION:
URL:https://www.kielregion.de/event/gesundheit-und-praevention-ausstellung-zuckergehalt-in-lebensmitteln-und-ernaehrungsberatung/
LOCATION:CITTI Park\, Kiel\, Schleswig-Holstein\, Deutschland
CATEGORIES:Science Day
END:VEVENT
BEGIN:VEVENT
DTSTART;TZID=Europe/Berlin:20240927T110000
DTEND;TZID=Europe/Berlin:20240927T200000
DTSTAMP:20260421T115846
CREATED:20240822T081145Z
LAST-MODIFIED:20240822T081952Z
UID:10000026-1727434800-1727467200@www.kielregion.de
SUMMARY:Steine\, Steine\, nichts als Steine
DESCRIPTION:
URL:https://www.kielregion.de/event/steine-steine-nichts-als-steine/
LOCATION:CITTI Park\, Kiel\, Schleswig-Holstein\, Deutschland
CATEGORIES:Science Day
END:VEVENT
BEGIN:VEVENT
DTSTART;TZID=Europe/Berlin:20240927T110000
DTEND;TZID=Europe/Berlin:20240927T200000
DTSTAMP:20260421T115846
CREATED:20240822T080959Z
LAST-MODIFIED:20240822T081908Z
UID:10000025-1727434800-1727467200@www.kielregion.de
SUMMARY:Avatar für krebskranke Kinder
DESCRIPTION:Durch eine App verbindet sich das erkrankte Kind von Zuhause oder aus dem Krankenhaus mit dem Avatar und steuert seine Bewegungen. Eine eingebaute Kamera\, Mikrofon und Lautsprecher machen es möglich\, seine Freunde und Klassenkameraden zu sehen\, zu hören und mit ihnen zu sprechen. Mithilfe eines Einweg-Videostreams und Zweiweg-Audiostreams kann der Nutzer alles sehen und hören\, was im Blickfeld des Avatars passiert – selber aber nicht gesehen werden.
URL:https://www.kielregion.de/event/avatar-fuer-krebskranke-kinder/
LOCATION:CITTI Park\, Kiel\, Schleswig-Holstein\, Deutschland
CATEGORIES:Science Day
END:VEVENT
BEGIN:VEVENT
DTSTART;TZID=Europe/Berlin:20240927T110000
DTEND;TZID=Europe/Berlin:20240927T200000
DTSTAMP:20260421T115846
CREATED:20240822T080735Z
LAST-MODIFIED:20240822T081706Z
UID:10000024-1727434800-1727467200@www.kielregion.de
SUMMARY:Experimentieren mit dem Laborino
DESCRIPTION:Unser Hosentaschenlabor Laborino ist klein\, enorm leistungsfähig und robust. Er misst Beschleunigungen\, Drehbewegungen\, Helligkeit\, Luftdruck\, Lautstärke\, Temperatur\, Magnetfelder und vieles mehr. Am Science Day können sie den Laborino auf Herz und Nieren zu testen. Wir bieten ihnen dazu an unserem Stand zahlreiche Möglichkeiten. Probieren sie den Laborino einfach mal aus und überzeugen sie sich von seinem Potential für Schule und Ausbildung. Noch nie war Messen so einfach!
URL:https://www.kielregion.de/event/experimentieren-mit-dem-laborino/
LOCATION:CITTI Park\, Kiel\, Schleswig-Holstein\, Deutschland
CATEGORIES:Science Day
END:VEVENT
BEGIN:VEVENT
DTSTART;TZID=Europe/Berlin:20240927T110000
DTEND;TZID=Europe/Berlin:20240927T190000
DTSTAMP:20260421T115846
CREATED:20240820T172003Z
LAST-MODIFIED:20240820T172003Z
UID:10000021-1727434800-1727463600@www.kielregion.de
SUMMARY:Eintauchen in das menschliche Organsystem mit einer Virtual-Reality–Brille
DESCRIPTION:
URL:https://www.kielregion.de/event/eintauchen-in-das-menschliche-organsystem-mit-einer-virtual-reality-brille/
LOCATION:CITTI Park\, Kiel\, Schleswig-Holstein\, Deutschland
CATEGORIES:Science Day
END:VEVENT
BEGIN:VEVENT
DTSTART;TZID=Europe/Berlin:20240927T110000
DTEND;TZID=Europe/Berlin:20240927T180000
DTSTAMP:20260421T115846
CREATED:20240820T170935Z
LAST-MODIFIED:20240820T170935Z
UID:10000013-1727434800-1727460000@www.kielregion.de
SUMMARY:Forschung aus dem Meer für die Medizin von morgen
DESCRIPTION:
URL:https://www.kielregion.de/event/forschung-aus-dem-meer-fuer-die-medizin-von-morgen/
LOCATION:CITTI Park\, Kiel\, Schleswig-Holstein\, Deutschland
CATEGORIES:Science Day
END:VEVENT
BEGIN:VEVENT
DTSTART;TZID=Europe/Berlin:20240927T100000
DTEND;TZID=Europe/Berlin:20240927T190000
DTSTAMP:20260421T115846
CREATED:20240820T172428Z
LAST-MODIFIED:20240820T172428Z
UID:10000022-1727431200-1727463600@www.kielregion.de
SUMMARY:Sensamove Balancetest
DESCRIPTION:
URL:https://www.kielregion.de/event/sensamove-balancetest/
LOCATION:CITTI Park\, Kiel\, Schleswig-Holstein\, Deutschland
CATEGORIES:Science Day
END:VEVENT
BEGIN:VEVENT
DTSTART;TZID=Europe/Berlin:20240927T100000
DTEND;TZID=Europe/Berlin:20240927T180000
DTSTAMP:20260421T115846
CREATED:20240820T112303Z
LAST-MODIFIED:20240820T112915Z
UID:10000011-1727431200-1727460000@www.kielregion.de
SUMMARY:Europa in Schleswig-Holstein entdecken
DESCRIPTION:
URL:https://www.kielregion.de/event/europa-in-schleswig-holstein-entdecken/
LOCATION:CITTI Park\, Kiel\, Schleswig-Holstein\, Deutschland
CATEGORIES:Science Day
END:VEVENT
END:VCALENDAR