BEGIN:VCALENDAR
VERSION:2.0
PRODID:-//KielRegion - ECPv6.15.20//NONSGML v1.0//EN
CALSCALE:GREGORIAN
METHOD:PUBLISH
X-ORIGINAL-URL:https://www.kielregion.de
X-WR-CALDESC:Veranstaltungen für KielRegion
REFRESH-INTERVAL;VALUE=DURATION:PT1H
X-Robots-Tag:noindex
X-PUBLISHED-TTL:PT1H
BEGIN:VTIMEZONE
TZID:Europe/Berlin
BEGIN:DAYLIGHT
TZOFFSETFROM:+0100
TZOFFSETTO:+0200
TZNAME:CEST
DTSTART:20230326T010000
END:DAYLIGHT
BEGIN:STANDARD
TZOFFSETFROM:+0200
TZOFFSETTO:+0100
TZNAME:CET
DTSTART:20231029T010000
END:STANDARD
BEGIN:DAYLIGHT
TZOFFSETFROM:+0100
TZOFFSETTO:+0200
TZNAME:CEST
DTSTART:20240331T010000
END:DAYLIGHT
BEGIN:STANDARD
TZOFFSETFROM:+0200
TZOFFSETTO:+0100
TZNAME:CET
DTSTART:20241027T010000
END:STANDARD
BEGIN:DAYLIGHT
TZOFFSETFROM:+0100
TZOFFSETTO:+0200
TZNAME:CEST
DTSTART:20250330T010000
END:DAYLIGHT
BEGIN:STANDARD
TZOFFSETFROM:+0200
TZOFFSETTO:+0100
TZNAME:CET
DTSTART:20251026T010000
END:STANDARD
BEGIN:DAYLIGHT
TZOFFSETFROM:+0100
TZOFFSETTO:+0200
TZNAME:CEST
DTSTART:20260329T010000
END:DAYLIGHT
BEGIN:STANDARD
TZOFFSETFROM:+0200
TZOFFSETTO:+0100
TZNAME:CET
DTSTART:20261025T010000
END:STANDARD
END:VTIMEZONE
BEGIN:VEVENT
DTSTART;TZID=Europe/Berlin:20250926T100000
DTEND;TZID=Europe/Berlin:20250926T130000
DTSTAMP:20260419T232558
CREATED:20250902T134656Z
LAST-MODIFIED:20250902T142822Z
UID:10000178-1758880800-1758891600@www.kielregion.de
SUMMARY:CampusRadioAktiv - das Campusradio der FH Kiel live zum  Science Day 2025
DESCRIPTION:Engagierte Studierende präsentieren das Begleitprogramm zum Science day. Wir probieren die coolsten Aktionen für euch aus und berichten\, was es wo zu sehen\, hören und auszuprobieren gibt. Drei Stunden live vom Campus der FH Kiel\, zu hören auf KielFM\, UKW 102\,1MHZ\, DAB+ und im Stream unter https://www.oksh.de/ki/hoeren/kiel-fm-livestream/\n\nWo? Großes Hörsaalgebäude der FH Kiel\, Sokratesplatz 6
URL:https://www.kielregion.de/event/campusradioaktiv-das-campusradio-der-fh-kiel-live-zum-science-day-2025/
LOCATION:Fachhochschule Kiel\, Deutschland
CATEGORIES:Science Day
END:VEVENT
BEGIN:VEVENT
DTSTART;TZID=Europe/Berlin:20240927T200000
DTEND;TZID=Europe/Berlin:20240927T210000
DTSTAMP:20260419T232558
CREATED:20240822T085300Z
LAST-MODIFIED:20240822T085300Z
UID:10000040-1727467200-1727470800@www.kielregion.de
SUMMARY:Zeitreise – vom Urknall zum Menschen | Filmvorführung im Mediendom
DESCRIPTION:Der Mediendom wird zur Zeitmaschine. Verfolgen Sie\, wie unser Universum geboren wird\, wie die ersten Sterne aufleuchten und die Milchstraße entsteht. Beobachten Sie gewaltige Sternexplosionen und die Geburt der Sonne und der Erde. Katastrophale Einschläge von Kometen treffen den jungen Planeten. Kontinente bilden und verändern sich. Leben entsteht\, entwickelt sich\, verändert sich.\n\nTeilnahme nur mit Anmeldung.
URL:https://www.kielregion.de/event/zeitreise-vom-urknall-zum-menschen-filmvorfuehrung-im-mediendom/
LOCATION:Fachhochschule Kiel\, Deutschland
CATEGORIES:Science Day
END:VEVENT
BEGIN:VEVENT
DTSTART;TZID=Europe/Berlin:20240927T183000
DTEND;TZID=Europe/Berlin:20240927T193000
DTSTAMP:20260419T232558
CREATED:20240822T085140Z
LAST-MODIFIED:20240905T175653Z
UID:10000039-1727461800-1727465400@www.kielregion.de
SUMMARY:Milliarden Sonnen | Filmvorführung im Mediendom
DESCRIPTION:Nicht nur die Größe des Weltalls\, auch die Vielfalt in unserer Heimatgalaxie ist atemberaubend. Helle Sterne sind entweder nah oder riesengroß\, manche brennen heiß und blau\, andere glimmen nur noch rötlich. Ein gigantischer Zoo von Objekten begegnet dem Reisenden\, wenn er sich ins Weltall hinausdenkt: Nebelschwaden aus Gas und Staub\, die sich verdichten und neuen Sternen Leben einhauchen. Prächtige Sternenhaufen. Dunkelwolken. Fontänen aus heißem Gas und interstellare Flocken aus Sternenstaub.\n\nTeilnahme nur mit Anmeldung.
URL:https://www.kielregion.de/event/milliarden-sonnen-filmvorfuehrung-im-mediendom/
LOCATION:Fachhochschule Kiel\, Deutschland
CATEGORIES:Science Day
END:VEVENT
BEGIN:VEVENT
DTSTART;TZID=Europe/Berlin:20240927T180000
DTEND;TZID=Europe/Berlin:20240927T190000
DTSTAMP:20260419T232558
CREATED:20240822T085855Z
LAST-MODIFIED:20240822T085855Z
UID:10000041-1727460000-1727463600@www.kielregion.de
SUMMARY:Refurbishment für gebrauchte Batteriemodule in der Elektromobilität
DESCRIPTION:Die Elektromobilität ist trotz der zuletzt sinkenden Anzahl an Neuanmeldungen allgegenwärtig. Es wird erwartet\, dass in den kommenden Jahren der Bedarf wieder stark ansteigen wird. Unbeantwortet bleibt bisher\, in welcher Form Autobatterien jenseits der Garantiezeit in Zukunft repariert werden können. Dazu muss man verstehen\, wie Batterien in aktuellen Fahrzeugen aufgebaut sind. Der Vortrag erläutert\, welche Reparaturmöglichkeiten sich daraus ergeben und welche technologische Entwicklung notwendig sind. Darüber hinaus wird präsentiert\, wie angewandte Forschung an der FH Kiel zur Gründung des Startups Heimdalytics geführt hat.\nVortrag von Prof. Dr. Weber.\n\nTeilnahme nur mit Anmeldung.
URL:https://www.kielregion.de/event/refurbishment-fuer-gebrauchte-batteriemodule-in-der-elektromobilitaet/
LOCATION:Fachhochschule Kiel\, Deutschland
CATEGORIES:Science Day
END:VEVENT
BEGIN:VEVENT
DTSTART;TZID=Europe/Berlin:20240927T170000
DTEND;TZID=Europe/Berlin:20240927T180000
DTSTAMP:20260419T232558
CREATED:20240822T084955Z
LAST-MODIFIED:20240905T175850Z
UID:10000038-1727456400-1727460000@www.kielregion.de
SUMMARY:Planeten – Expeditionen ins Sonnensystem | Filmvorführung im Mediendom
DESCRIPTION:Mars\, Saturn\, Jupiter – Ferngesteuerte Raumsonden haben alle unsere Planeten erkundet und viel Spannendes entdeckt. So wissen wir schon heute\, was Astronauten dort erleben könnten. Reisen Sie mit uns zu diesen Welten. Erleben Sie die Naturwunder der Planeten!\n\nTeilnahme nur mit Anmeldung.
URL:https://www.kielregion.de/event/eine-reise-zu-den-naturwundern-der-planeten-mars-saturn-und-jupiter/
LOCATION:Fachhochschule Kiel\, Deutschland
CATEGORIES:Science Day
END:VEVENT
BEGIN:VEVENT
DTSTART;TZID=Europe/Berlin:20240927T170000
DTEND;TZID=Europe/Berlin:20240927T174500
DTSTAMP:20260419T232558
CREATED:20240822T101633Z
LAST-MODIFIED:20240822T101633Z
UID:10000070-1727456400-1727459100@www.kielregion.de
SUMMARY:Meet a Scientist - Batterien und ihre Zustandsschätzung
DESCRIPTION:Forschung und Lehre an der FH Kiel haben immer Bezug zu aktuellen Entwicklungen. Bei Meet a Scientist haben Sie Gelegenheit\, Professorinnen und Professoren in entspannter Atmosphäre zu treffen und ein aktuelles Thema mit ihnen zu diskutieren.\n\nTreffen mit Prof. Dr. Weber.\n\n.\n\nTeilnahme nur mit Anmeldung.\n\n 
URL:https://www.kielregion.de/event/meet-a-scientist-batterien-und-ihre-zustandsschaetzung/
LOCATION:Fachhochschule Kiel\, Deutschland
CATEGORIES:Science Day
END:VEVENT
BEGIN:VEVENT
DTSTART;TZID=Europe/Berlin:20240927T161500
DTEND;TZID=Europe/Berlin:20240927T170000
DTSTAMP:20260419T232558
CREATED:20240822T102323Z
LAST-MODIFIED:20240822T102323Z
UID:10000075-1727453700-1727456400@www.kielregion.de
SUMMARY:Gesundheit 4.0 - Wie sieht die Gesundheitsversorgung in Zeiten der Digitalisierung und KI von morgen aus?
DESCRIPTION:Gesundheit 4.0 integriert vielfältige Aspekte innovativer Technologien. Sie schürt Hoffnungen auf eine verbesserte Gesundheitsversorgung\, ist aber auch mit Risiken verbunden. Der Vortrag skizziert die wesentlichen Entwicklungen und gibt einen Ausblick auf die Zukunft. Denn in Gesundheit 4.0 steckt das Potential\, das Gesundheitswesen grundlegend zu transformieren. Die erfolgreiche Umsetzung dieser Vision erfordert aber eine umfassende Strategie\, die technologische Innovationen\, ethische Überlegungen und gesellschaftliche Akzeptanz gleichermaßen berücksichtigt.\n\nVortrag von Prof. Dr. Katharina Scheel.\n\n \n\n 
URL:https://www.kielregion.de/event/gesundheit-4-0-wie-sieht-die-gesundheitsversorgung-in-zeiten-der-digitalisierung-und-ki-von-morgen-aus/
LOCATION:Fachhochschule Kiel\, Deutschland
CATEGORIES:Science Day
END:VEVENT
BEGIN:VEVENT
DTSTART;TZID=Europe/Berlin:20240927T153000
DTEND;TZID=Europe/Berlin:20240927T161500
DTSTAMP:20260419T232558
CREATED:20240822T103245Z
LAST-MODIFIED:20240822T103245Z
UID:10000078-1727451000-1727453700@www.kielregion.de
SUMMARY:„Achtung: Statistik“
DESCRIPTION:Geprägt durch den Spruch „Trau keiner Statistik\, die du nicht selbst gefälscht hast!“ hat die Statistik keinen guten Ruf. Sie gilt als eine trockene\, schwierige Materie\, die uns zwar auf Schritt und Tritt in Schule\, Studium\, Beruf und vor allem in den Medien begegnet\, zu der die meisten aber kaum Zugang finden. Dabei sind viele – zum Teil scheinbar auch komplexe – statistische Sachverhalte einfach mit gesundem Menschenverstand zu hinterfragen. Der Vortrag bietet eine kurzweilige Möglichkeit\, Statistik – wie sie in Wissenschaft und Medien auftaucht – zukünftig mit anderen Augen zu sehen und kritisch zu hinterfragen.\n\nVortrag von Prof. Dr. Björn Christensen.\n\n \n\n 
URL:https://www.kielregion.de/event/achtung-statistik/
LOCATION:Fachhochschule Kiel\, Deutschland
CATEGORIES:Science Day
END:VEVENT
BEGIN:VEVENT
DTSTART;TZID=Europe/Berlin:20240927T153000
DTEND;TZID=Europe/Berlin:20240927T161500
DTSTAMP:20260419T232558
CREATED:20240822T084753Z
LAST-MODIFIED:20240905T180107Z
UID:10000037-1727451000-1727453700@www.kielregion.de
SUMMARY:Major Tom  | Filmvorführung im Mediendom
DESCRIPTION:Tom und Stella\, zwei jugendliche Astronautenanwärter\, werden auf einer Raumstation ausgebildet. Durch widrige Umstände finden sie sich plötzlich allein mit der sympathischen\, aber strengen KI Cody wieder\, und aus Theorie wird Praxis: Auf der Erde bildet sich ein verheerender Hurrikan\, und der wichtigste Wettersatellit fällt aus! Nur durch das mutige Eingreifen von Tom\, Stella und ihrer Robokatze Plutinchen können die drei auf einer spannenden Reise durchs All mit Zwischenstopp Mond einen alternativen Satelliten reaktivieren und das Schlimmste verhindern.\n\nTeilnahme nur mit Anmeldung.\n\n 
URL:https://www.kielregion.de/event/major-tom-filmvorfuehrung-im-mediendom/
LOCATION:Fachhochschule Kiel\, Deutschland
CATEGORIES:Science Day
END:VEVENT
BEGIN:VEVENT
DTSTART;TZID=Europe/Berlin:20240927T151500
DTEND;TZID=Europe/Berlin:20240927T160000
DTSTAMP:20260419T232558
CREATED:20240822T101535Z
LAST-MODIFIED:20240905T181702Z
UID:10000069-1727450100-1727452800@www.kielregion.de
SUMMARY:Meet a Scientist - Klimawandel und Energiewende
DESCRIPTION:Forschung und Lehre an der FH Kiel haben immer Bezug zu aktuellen Entwicklungen. Bei Meet a Scientist haben Sie Gelegenheit\, Professorinnen und Professoren in entspannter Atmosphäre zu treffen und ein aktuelles Thema mit ihnen zu diskutieren.\n\nTreffen mit Prof. Dr. Luczak.\n\n \n\nTeilnahme nur mit Anmeldung.\n\n 
URL:https://www.kielregion.de/event/meet-a-scientist-klimawandel-und-energiewende/
LOCATION:Fachhochschule Kiel\, Deutschland
CATEGORIES:Science Day
END:VEVENT
BEGIN:VEVENT
DTSTART;TZID=Europe/Berlin:20240927T150000
DTEND;TZID=Europe/Berlin:20240927T193000
DTSTAMP:20260419T232558
CREATED:20240822T103041Z
LAST-MODIFIED:20240822T103041Z
UID:10000077-1727449200-1727465400@www.kielregion.de
SUMMARY:Eine Millionen Volt (fast) zum Anfassen
DESCRIPTION:Verschaffen Sie sich einen spektakulären Einblick in die Welt von Blitz und Donner und erleben Sie die Prüfanlagen des Hochspannungs- und Blitzlabore der FH Kiel im Einsatz.\n\nVortrag von Prof. Dr. Schmidt-Rethmeier.\n\n \n\nStart jeweils um 15:00|15:30|16:00|16:30|17:30|18:00|18:30|19:00\n\n 
URL:https://www.kielregion.de/event/eine-millionen-volt-fast-zum-anfassen/
LOCATION:Fachhochschule Kiel\, Deutschland
CATEGORIES:Science Day
END:VEVENT
BEGIN:VEVENT
DTSTART;TZID=Europe/Berlin:20240927T150000
DTEND;TZID=Europe/Berlin:20240927T170000
DTSTAMP:20260419T232558
CREATED:20240822T083907Z
LAST-MODIFIED:20240822T083907Z
UID:10000033-1727449200-1727456400@www.kielregion.de
SUMMARY:Raceyard – ein studentisches Rennteam stellt sich vor
DESCRIPTION:Als studentischer Rennstall konstruieren und realisieren wir auf dem Campus der Fachhochschule Kiel seit über 18 Jahren Rennwagen und stellen uns als Team der Herausforderung Formula Student\, dem größten Konstruktionswettbewerb der Welt. In der Formula Student messen sich rund 500 internationale Teams\, bestehend aus ca. 40.000 Studenten in verschiedenen Disziplinen auf weltbekannten Rennstrecken wie Hungaroring\, Hockenheim oder Spielberg. Schaut rein und nehmt die Emotionen des Rennfeelings auf.\n\nTeilnahme nur mit Anmeldung.
URL:https://www.kielregion.de/event/raceyard-ein-studentisches-rennteam-stellt-sich-vor/
LOCATION:Fachhochschule Kiel\, Deutschland
CATEGORIES:Science Day
END:VEVENT
BEGIN:VEVENT
DTSTART;TZID=Europe/Berlin:20240927T143000
DTEND;TZID=Europe/Berlin:20240927T160000
DTSTAMP:20260419T232558
CREATED:20240822T092553Z
LAST-MODIFIED:20240905T181640Z
UID:10000045-1727447400-1727452800@www.kielregion.de
SUMMARY:Hydraulisches Heben und Biegen
DESCRIPTION:Im Labor für Hydraulik wird zunächst die Berechnung von Hydraulikzylindern besprochen. Danach wird in einem praktischen Mitmachversuch durch Messung und Berechnung ermittelt\, ob ein Wasserhydraulikzylinder einen PKW heben kann. Im Anschluss wird an einer ölhydraulischen Abkantpresse die Anwendung von Hydraulikzylindern in der Praxis demonstriert. Hierbei haben alle Teilnehmer die Möglichkeit\, einen Halter für ein Smartphone oder Tablet zu biegen.\nMitmachexperiment von Prof. Dr. Hasenpath.\n\nTeilnahme nur mit Anmeldung.
URL:https://www.kielregion.de/event/hydraulisches-heben-und-biegen-2/
LOCATION:Fachhochschule Kiel\, Deutschland
CATEGORIES:Science Day
END:VEVENT
BEGIN:VEVENT
DTSTART;TZID=Europe/Berlin:20240927T143000
DTEND;TZID=Europe/Berlin:20240927T151500
DTSTAMP:20260419T232558
CREATED:20240822T101415Z
LAST-MODIFIED:20240905T181622Z
UID:10000068-1727447400-1727450100@www.kielregion.de
SUMMARY:Meet a Scientist - Beton\, Baustoffe\, Bauwerksuntersuchungen\, Betoninstandsetzung\, Urban Mining
DESCRIPTION:Forschung und Lehre an der FH Kiel haben immer Bezug zu aktuellen Entwicklungen. Bei Meet a Scientist haben Sie Gelegenheit\, Professorinnen und Professoren in entspannter Atmosphäre zu treffen und ein aktuelles Thema mit ihnen zu diskutieren.\n\nTreffen mit Prof. Dr. Kenji Reichling.\n\n.\n\nTeilnahme nur mit Anmeldung.\n\n 
URL:https://www.kielregion.de/event/meet-a-scientist-beton-baustoffe-bauwerksuntersuchungen-betoninstandsetzung-urban-mining/
LOCATION:Fachhochschule Kiel\, Deutschland
CATEGORIES:Science Day
END:VEVENT
BEGIN:VEVENT
DTSTART;TZID=Europe/Berlin:20240927T140000
DTEND;TZID=Europe/Berlin:20240927T233000
DTSTAMP:20260419T232558
CREATED:20240822T084231Z
LAST-MODIFIED:20240822T084231Z
UID:10000034-1727445600-1727479800@www.kielregion.de
SUMMARY:Himmlische Augenblicke - Erleben Sie unsere Sonne und den Nachthimmel durch die Teleskope der Sternwarte
DESCRIPTION:„Lernen Sie die Teleskope der Sternwarte kennen und werfen Sie bei klarem Himmel einen Blick an den Himmel:\n14-18 Uhr Sonnenbeobachtung mit unseren speziell dafür ausgerüsteten Teleskopen.\n18-20 Uhr Blick in der Dämmerung über Kiel\,\n19:06 – 19:16 Uhr Überflug Internationale Raumstation.\nAb 20 Uhr: Beobachtung von Saturn\, Doppelsternen\, Sternhaufen und Nebeln.“\n\n 
URL:https://www.kielregion.de/event/himmlische-augenblicke-erleben-sie-unsere-sonne-und-den-nachthimmel-durch-die-teleskope-der-sternwarte/
LOCATION:Fachhochschule Kiel\, Deutschland
CATEGORIES:Science Day
END:VEVENT
BEGIN:VEVENT
DTSTART;TZID=Europe/Berlin:20240927T140000
DTEND;TZID=Europe/Berlin:20240927T180000
DTSTAMP:20260419T232558
CREATED:20240822T191909Z
LAST-MODIFIED:20240822T191909Z
UID:10000133-1727445600-1727460000@www.kielregion.de
SUMMARY:Reise zu den Wurzeln der Informationstechnologie
DESCRIPTION:Ohne Computer wäre unsere heutige Welt nicht das\, was sie ist. Doch wie fing eigentlich alles an? Unsere umfangreiche Sammlung lädt zu einer unterhaltsamen wie informativen Reise zu den Wurzeln der Informationstechnologie ein: von denkmalgeschützten „Dinosauriern“ der frühesten Computergeschichte über raumfüllende Großrechner der 1960er- und 1970er-Jahre bis zum kompakten Personal Computer der 2000er.Anmeldung.
URL:https://www.kielregion.de/event/reise-zu-den-wurzeln-der-informationstechnologie/
LOCATION:Fachhochschule Kiel\, Deutschland
CATEGORIES:Science Day
END:VEVENT
BEGIN:VEVENT
DTSTART;TZID=Europe/Berlin:20240927T140000
DTEND;TZID=Europe/Berlin:20240927T180000
DTSTAMP:20260419T232558
CREATED:20240822T103406Z
LAST-MODIFIED:20240822T103406Z
UID:10000079-1727445600-1727460000@www.kielregion.de
SUMMARY:Schneller als der Wind
DESCRIPTION:Wer kennt das nicht – beim Fahrradfahren kommt der Wind immer aus genau der Richtung\, in die man gerade fährt. Für Gegenwindfahrzeuge sind das genau die richtigen Bedingungen\, denn sie wandeln den Gegenwind in Vortrieb um. Beim alljährlich stattfindenden Racing Aeolus in den Niederlanden tritt das FH-Team Baltic Thunder gegen Teams aus der ganzen Welt an und fährt im Idealfall sogar schneller als der Wind! Wie das funktioniert\, wird am Science Day erklärt.\n\n 
URL:https://www.kielregion.de/event/schneller-als-der-wind/
LOCATION:Fachhochschule Kiel\, Deutschland
CATEGORIES:Science Day
END:VEVENT
BEGIN:VEVENT
DTSTART;TZID=Europe/Berlin:20240927T130000
DTEND;TZID=Europe/Berlin:20240927T150000
DTSTAMP:20260419T232558
CREATED:20240822T102525Z
LAST-MODIFIED:20240916T145125Z
UID:10000076-1727442000-1727449200@www.kielregion.de
SUMMARY:Miniatur-Windkraftanlage steuern
DESCRIPTION:In unserem Labor ist eine kleine Windkraftanlage aufgebaut\, die genau wie die großen Windkraftanlagen konstruiert ist. Man kann mit einem großen Ventilator künstlichen Wind erzeugen und dann die Richtung der Windkraftanlage\, die Drehgeschwindigkeit der Flügel und die Flügelstellung so einstellen\, dass eine möglichst große elektrische Leistung erzeugt wird. Damit kann man spielerisch ausprobieren\, was genau so auch bei den großen Windkraftanlagen funktioniert.\n\nMitmachexperiment mit Prof. Dr. Luczak im Labor für Regenerative Energiesysteme.\n\n \n\n 
URL:https://www.kielregion.de/event/miniatur-windkraftanlage-steuern/
LOCATION:Fachhochschule Kiel\, Deutschland
CATEGORIES:Science Day
END:VEVENT
BEGIN:VEVENT
DTSTART;TZID=Europe/Berlin:20240927T130000
DTEND;TZID=Europe/Berlin:20240927T134500
DTSTAMP:20260419T232558
CREATED:20240822T101258Z
LAST-MODIFIED:20240905T181552Z
UID:10000067-1727442000-1727444700@www.kielregion.de
SUMMARY:Meet a Scientist - Globale Wirtschaftspolitik\, Finanzmärkte
DESCRIPTION:Forschung und Lehre an der FH Kiel haben immer Bezug zu aktuellen Entwicklungen. Bei Meet a Scientist haben Sie Gelegenheit\, Professorinnen und Professoren in entspannter Atmosphäre zu treffen und ein aktuelles Thema mit ihnen zu diskutieren.\n\nTreffen mit Prof. Dr. Bandholz.\n\nTeilnahme nur mit Anmeldung.\n\n 
URL:https://www.kielregion.de/event/meet-a-scientist-globale-wirtschaftspolitik-finanzmaerkte/
LOCATION:Fachhochschule Kiel\, Deutschland
CATEGORIES:Science Day
END:VEVENT
BEGIN:VEVENT
DTSTART;TZID=Europe/Berlin:20240927T130000
DTEND;TZID=Europe/Berlin:20240927T134500
DTSTAMP:20260419T232558
CREATED:20240822T100015Z
LAST-MODIFIED:20240905T181537Z
UID:10000062-1727442000-1727444700@www.kielregion.de
SUMMARY:KI-Revolution in der Kommunikation: Chancen nutzen\, Grenzen erkennen
DESCRIPTION:In diesem interaktiven Workshop geht es darum\, wie Künstliche Intelligenz (KI) die private\, mediale und öffentliche Kommunikation verändert. Anhand von Fallbeispielen wird diskutiert\, welche Möglichkeiten KI eröffnet\, aber auch welche Regeln und Grenzen sinnvoll sein könnten.\n\nWorkshop von Prof. Dr. van Engelen.\n\nTeilnahme nur mit Anmeldung.\n\n 
URL:https://www.kielregion.de/event/ki-revolution-in-der-kommunikation-chancen-nutzen-grenzen-erkennen/
LOCATION:Fachhochschule Kiel\, Deutschland
CATEGORIES:Science Day
END:VEVENT
BEGIN:VEVENT
DTSTART;TZID=Europe/Berlin:20240927T120000
DTEND;TZID=Europe/Berlin:20240927T140000
DTSTAMP:20260419T232558
CREATED:20240822T100226Z
LAST-MODIFIED:20240905T180313Z
UID:10000063-1727438400-1727445600@www.kielregion.de
SUMMARY:Evolution eines Betonkanus
DESCRIPTION:Alle zwei Jahre findet die Deutsche Betonkanuregatta statt\, bei der die Bauingenieurstudierenden der FH Kiel teilnehmen. Für jede Regatta wird ein neues Kanu konstruiert. Baustoffforscher der FH Kiel geben Einblicke in die Entwicklung von Betonrezepturen\, wie eine geeignete Textilbewehrung auszusehen hat und welche Techniken für den Schalungsbau bisher zur Anwendung kamen. Darüber hinaus erhalten die TeilnehmerInnen Einblicke in die aktuelle Baustoffforschung. Hier geht es dann u.a. um Hanf-\, Infraleicht- und Bakterienbetone. Im Rahmen von Diskussionen und Gesprächen wird u.a. erörtert wie man Beton am besten einsetzt\, was bei der Herstellung zu beachten ist und wie der Beton der Zukunft aussehen kann.\n\nTeilnahme nur mit Anmeldung.\n\n 
URL:https://www.kielregion.de/event/evolution-eines-betonkanus/
LOCATION:Fachhochschule Kiel\, Deutschland
CATEGORIES:Science Day
END:VEVENT
BEGIN:VEVENT
DTSTART;TZID=Europe/Berlin:20240927T120000
DTEND;TZID=Europe/Berlin:20240927T124500
DTSTAMP:20260419T232558
CREATED:20240822T102112Z
LAST-MODIFIED:20240905T181518Z
UID:10000074-1727438400-1727441100@www.kielregion.de
SUMMARY:Digitale Realitäten erleben
DESCRIPTION:Neue Technologien wie Augmented und Virtual Reality verändern aktuell unser Leben und Arbeiten. Das Interdisziplinäre Labor für Immersionsforschung (LINK) präsentiert\, wie und wofür immersive Medien eingesetzt werden können und wie es sich anfühlt\, in synthetische Realitäten einzutauchen.\n\nAusstellung von Prof. Dr. Rupert-Kruse.\n\nTeilnahme nur mit Anmeldung.\n\n 
URL:https://www.kielregion.de/event/digitale-realitaeten-erleben-3/
LOCATION:Fachhochschule Kiel\, Deutschland
CATEGORIES:Science Day
END:VEVENT
BEGIN:VEVENT
DTSTART;TZID=Europe/Berlin:20240927T120000
DTEND;TZID=Europe/Berlin:20240927T124500
DTSTAMP:20260419T232558
CREATED:20240822T100908Z
LAST-MODIFIED:20240905T181452Z
UID:10000066-1727438400-1727441100@www.kielregion.de
SUMMARY:Meet a Scientist - Umweltfreundliche Schiffe für die Maritime Energiewende
DESCRIPTION:Forschung und Lehre an der FH Kiel haben immer Bezug zu aktuellen Entwicklungen. Bei Meet a Scientist haben Sie Gelegenheit\, Professorinnen und Professoren in entspannter Atmosphäre zu treffen und ein aktuelles Thema mit ihnen zu diskutieren.\n\nTreffen mit Prof. Dr. Dankowski.\n\nTeilnahme nur mit Anmeldung.\n\n 
URL:https://www.kielregion.de/event/meet-a-scientist-umweltfreundliche-schiffe-fuer-die-maritime-energiewende/
LOCATION:Fachhochschule Kiel\, Deutschland
CATEGORIES:Science Day
END:VEVENT
BEGIN:VEVENT
DTSTART;TZID=Europe/Berlin:20240927T113000
DTEND;TZID=Europe/Berlin:20240927T120000
DTSTAMP:20260419T232558
CREATED:20240822T095814Z
LAST-MODIFIED:20240905T181435Z
UID:10000061-1727436600-1727438400@www.kielregion.de
SUMMARY:Maritime Labore des Instituts für Schiffbau und maritime Technik | Lab-Tour\, Mitmachexperiment
DESCRIPTION:Einblicke in die Labore zur Schiffsfestigkeit\, dem Schiffbauströmungslabor\, dem Windkanal sowie dem Labor für Offshore-Montagetechnik des Instituts. Wie wird die Dauerfestigkeit von Bauteilen vorhergesagt? Wie stabil schwimmt ein Schiff? Wie viel Energiebedarf hat eine bestimmte Schiffsform? Welche Kräfte entstehen bei Segelbooten? Wie wird sichergestellt\, dass auch riesige Windkraftanlagen sicher verschraubt werden?\n\nTeilnahme nur mit Anmeldung.\n\n 
URL:https://www.kielregion.de/event/maritime-labore-des-instituts-fuer-schiffbau-und-maritime-technik-lab-tour-mitmachexperiment-15/
LOCATION:Fachhochschule Kiel\, Deutschland
CATEGORIES:Science Day
END:VEVENT
BEGIN:VEVENT
DTSTART;TZID=Europe/Berlin:20240927T113000
DTEND;TZID=Europe/Berlin:20240927T120000
DTSTAMP:20260419T232558
CREATED:20240822T095352Z
LAST-MODIFIED:20240905T181419Z
UID:10000057-1727436600-1727438400@www.kielregion.de
SUMMARY:Maritime Labore des Instituts für Schiffbau und maritime Technik | Lab-Tour\, Mitmachexperiment
DESCRIPTION:Einblicke in die Labore zur Schiffsfestigkeit\, dem Schiffbauströmungslabor\, dem Windkanal sowie dem Labor für Offshore-Montagetechnik des Instituts. Wie wird die Dauerfestigkeit von Bauteilen vorhergesagt? Wie stabil schwimmt ein Schiff? Wie viel Energiebedarf hat eine bestimmte Schiffsform? Welche Kräfte entstehen bei Segelbooten? Wie wird sichergestellt\, dass auch riesige Windkraftanlagen sicher verschraubt werden?\n\nTeilnahme nur mit Anmeldung.\n\n 
URL:https://www.kielregion.de/event/maritime-labore-des-instituts-fuer-schiffbau-und-maritime-technik-lab-tour-mitmachexperiment-11/
LOCATION:Fachhochschule Kiel\, Deutschland
CATEGORIES:Science Day
END:VEVENT
BEGIN:VEVENT
DTSTART;TZID=Europe/Berlin:20240927T113000
DTEND;TZID=Europe/Berlin:20240927T120000
DTSTAMP:20260419T232558
CREATED:20240822T094851Z
LAST-MODIFIED:20240905T181405Z
UID:10000053-1727436600-1727438400@www.kielregion.de
SUMMARY:Maritime Labore des Instituts für Schiffbau und maritime Technik | Lab-Tour\, Mitmachexperiment
DESCRIPTION:Einblicke in die Labore zur Schiffsfestigkeit\, dem Schiffbauströmungslabor\, dem Windkanal sowie dem Labor für Offshore-Montagetechnik des Instituts. Wie wird die Dauerfestigkeit von Bauteilen vorhergesagt? Wie stabil schwimmt ein Schiff? Wie viel Energiebedarf hat eine bestimmte Schiffsform? Welche Kräfte entstehen bei Segelbooten? Wie wird sichergestellt\, dass auch riesige Windkraftanlagen sicher verschraubt werden?\n\nTeilnahme nur mit Anmeldung.
URL:https://www.kielregion.de/event/maritime-labore-des-instituts-fuer-schiffbau-und-maritime-technik-lab-tour-mitmachexperiment-7/
LOCATION:Fachhochschule Kiel\, Deutschland
CATEGORIES:Science Day
END:VEVENT
BEGIN:VEVENT
DTSTART;TZID=Europe/Berlin:20240927T113000
DTEND;TZID=Europe/Berlin:20240927T120000
DTSTAMP:20260419T232558
CREATED:20240822T093808Z
LAST-MODIFIED:20240905T181349Z
UID:10000049-1727436600-1727438400@www.kielregion.de
SUMMARY:Maritime Labore des Instituts für Schiffbau und maritime Technik | Lab-Tour\, Mitmachexperiment
DESCRIPTION:Einblicke in die Labore zur Schiffsfestigkeit\, dem Schiffbauströmungslabor\, dem Windkanal sowie dem Labor für Offshore-Montagetechnik des Instituts. Wie wird die Dauerfestigkeit von Bauteilen vorhergesagt? Wie stabil schwimmt ein Schiff? Wie viel Energiebedarf hat eine bestimmte Schiffsform? Welche Kräfte entstehen bei Segelbooten? Wie wird sichergestellt\, dass auch riesige Windkraftanlagen sicher verschraubt werden?\n\nTeilnahme nur mit Anmeldung.
URL:https://www.kielregion.de/event/maritime-labore-des-instituts-fuer-schiffbau-und-maritime-technik-lab-tour-mitmachexperiment-3/
LOCATION:Fachhochschule Kiel\, Deutschland
CATEGORIES:Science Day
END:VEVENT
BEGIN:VEVENT
DTSTART;TZID=Europe/Berlin:20240927T110000
DTEND;TZID=Europe/Berlin:20240927T140000
DTSTAMP:20260419T232558
CREATED:20240822T083104Z
LAST-MODIFIED:20240822T083104Z
UID:10000032-1727434800-1727445600@www.kielregion.de
SUMMARY:Walk and talk with a student
DESCRIPTION:Von 11 bis 14 Uhr öffnet der Jugendcampus der FH Kiel seine Türen für interessierte Besucherinnen und Besucher\, die gern einmal experimentieren möchten. „Walk and talk with a student“: Zur vollen Stunde gibt es außerdem von Studierenden geführte Campustouren\, bei denen Gelegenheit zum Austausch ist.
URL:https://www.kielregion.de/event/walk-and-talk-with-a-student/
LOCATION:Fachhochschule Kiel\, Deutschland
CATEGORIES:Science Day
END:VEVENT
BEGIN:VEVENT
DTSTART;TZID=Europe/Berlin:20240927T110000
DTEND;TZID=Europe/Berlin:20240927T140000
DTSTAMP:20260419T232558
CREATED:20240822T082707Z
LAST-MODIFIED:20240822T183417Z
UID:10000031-1727434800-1727445600@www.kielregion.de
SUMMARY:FH Kiel entdecken - erleben - erobern mit dem Jugendcampus
DESCRIPTION:
URL:https://www.kielregion.de/event/fh-kiel-entdecken-erleben-erobern-mit-dem-jugendcampus/
LOCATION:Fachhochschule Kiel\, Deutschland
CATEGORIES:Science Day
END:VEVENT
BEGIN:VEVENT
DTSTART;TZID=Europe/Berlin:20240927T110000
DTEND;TZID=Europe/Berlin:20240927T120000
DTSTAMP:20260419T232558
CREATED:20240822T090154Z
LAST-MODIFIED:20240822T090154Z
UID:10000042-1727434800-1727438400@www.kielregion.de
SUMMARY:Trump 2.0 und die Folgen für die deutsche Wirtschaft
DESCRIPTION:Vortrag von Prof. Dr. Bandholz.\n\nTeilnahme nur mit Anmeldung.
URL:https://www.kielregion.de/event/trump-2-0-und-die-folgen-fuer-die-deutsche-wirtschaft/
LOCATION:Fachhochschule Kiel\, Deutschland
CATEGORIES:Science Day
END:VEVENT
END:VCALENDAR