BEGIN:VCALENDAR
VERSION:2.0
PRODID:-//KielRegion - ECPv6.15.20//NONSGML v1.0//EN
CALSCALE:GREGORIAN
METHOD:PUBLISH
X-WR-CALNAME:KielRegion
X-ORIGINAL-URL:https://www.kielregion.de
X-WR-CALDESC:Veranstaltungen für KielRegion
REFRESH-INTERVAL;VALUE=DURATION:PT1H
X-Robots-Tag:noindex
X-PUBLISHED-TTL:PT1H
BEGIN:VTIMEZONE
TZID:Europe/Berlin
BEGIN:DAYLIGHT
TZOFFSETFROM:+0100
TZOFFSETTO:+0200
TZNAME:CEST
DTSTART:20230326T010000
END:DAYLIGHT
BEGIN:STANDARD
TZOFFSETFROM:+0200
TZOFFSETTO:+0100
TZNAME:CET
DTSTART:20231029T010000
END:STANDARD
BEGIN:DAYLIGHT
TZOFFSETFROM:+0100
TZOFFSETTO:+0200
TZNAME:CEST
DTSTART:20240331T010000
END:DAYLIGHT
BEGIN:STANDARD
TZOFFSETFROM:+0200
TZOFFSETTO:+0100
TZNAME:CET
DTSTART:20241027T010000
END:STANDARD
BEGIN:DAYLIGHT
TZOFFSETFROM:+0100
TZOFFSETTO:+0200
TZNAME:CEST
DTSTART:20250330T010000
END:DAYLIGHT
BEGIN:STANDARD
TZOFFSETFROM:+0200
TZOFFSETTO:+0100
TZNAME:CET
DTSTART:20251026T010000
END:STANDARD
END:VTIMEZONE
BEGIN:VEVENT
DTSTART;TZID=Europe/Berlin:20240927T103000
DTEND;TZID=Europe/Berlin:20240927T113000
DTSTAMP:20260420T042031
CREATED:20240822T084545Z
LAST-MODIFIED:20240905T110934Z
UID:10000036-1727433000-1727436600@www.kielregion.de
SUMMARY:Unendliche Weiten  | Filmvorführung im Mediendom
DESCRIPTION:„Das Universum ist unvorstellbar groß und schön. Diese Reise führt uns von der Erde bis in die Weiten des Alls. Das Ziel ist\, die unvorstellbaren Distanzen zu erfassen und ein Gefühl für die Vielfalt und die Schönheit zu bekommen\, die uns in den schier unendlichen Weiten begegnen.\nDie Live-Moderation und musikalisch unterlegte Sequenzen zum Staunen und Genießen sind wesentliche Punkte einer einfühlsamen Erkundungstour durch das Weltall.“\n\nTeilnahme nur mit Anmeldung.
URL:https://www.kielregion.de/event/unendliche-weiten-filmvorfuehrung-im-mediendom-2/
LOCATION:Fachhochschule Kiel\, Deutschland
CATEGORIES:Science Day
END:VEVENT
BEGIN:VEVENT
DTSTART;TZID=Europe/Berlin:20240927T103000
DTEND;TZID=Europe/Berlin:20240927T111500
DTSTAMP:20260420T042031
CREATED:20240822T100603Z
LAST-MODIFIED:20240905T181136Z
UID:10000064-1727433000-1727435700@www.kielregion.de
SUMMARY:Meet a Scientist - Alles fließt: Aerodynamik in Forschung und Entwicklung
DESCRIPTION:Forschung und Lehre an der FH Kiel haben immer Bezug zu aktuellen Entwicklungen. Bei Meet a Scientist haben Sie Gelegenheit\, Professorinnen und Professoren in entspannter Atmosphäre zu treffen und ein aktuelles Thema mit ihnen zu diskutieren.\n\nTreffen mit Prof. Dr. Risius.\n\nTeilnahme nur mit Anmeldung.\n\n 
URL:https://www.kielregion.de/event/meet-a-scientist-alles-fliesst-aerodynamik-in-forschung-und-entwicklung/
LOCATION:Fachhochschule Kiel\, Deutschland
CATEGORIES:Science Day
END:VEVENT
BEGIN:VEVENT
DTSTART;TZID=Europe/Berlin:20240927T103000
DTEND;TZID=Europe/Berlin:20240927T110000
DTSTAMP:20260420T042031
CREATED:20240822T095621Z
LAST-MODIFIED:20240905T181119Z
UID:10000059-1727433000-1727434800@www.kielregion.de
SUMMARY:Maritime Labore des Instituts für Schiffbau und maritime Technik | Lab-Tour\, Mitmachexperiment
DESCRIPTION:Einblicke in die Labore zur Schiffsfestigkeit\, dem Schiffbauströmungslabor\, dem Windkanal sowie dem Labor für Offshore-Montagetechnik des Instituts. Wie wird die Dauerfestigkeit von Bauteilen vorhergesagt? Wie stabil schwimmt ein Schiff? Wie viel Energiebedarf hat eine bestimmte Schiffsform? Welche Kräfte entstehen bei Segelbooten? Wie wird sichergestellt\, dass auch riesige Windkraftanlagen sicher verschraubt werden?\n\nTeilnahme nur mit Anmeldung.\n\n 
URL:https://www.kielregion.de/event/maritime-labore-des-instituts-fuer-schiffbau-und-maritime-technik-lab-tour-mitmachexperiment-13/
LOCATION:Fachhochschule Kiel\, Deutschland
CATEGORIES:Science Day
END:VEVENT
BEGIN:VEVENT
DTSTART;TZID=Europe/Berlin:20240927T103000
DTEND;TZID=Europe/Berlin:20240927T110000
DTSTAMP:20260420T042031
CREATED:20240822T095227Z
LAST-MODIFIED:20240905T181102Z
UID:10000055-1727433000-1727434800@www.kielregion.de
SUMMARY:Maritime Labore des Instituts für Schiffbau und maritime Technik | Lab-Tour\, Mitmachexperiment
DESCRIPTION:Einblicke in die Labore zur Schiffsfestigkeit\, dem Schiffbauströmungslabor\, dem Windkanal sowie dem Labor für Offshore-Montagetechnik des Instituts. Wie wird die Dauerfestigkeit von Bauteilen vorhergesagt? Wie stabil schwimmt ein Schiff? Wie viel Energiebedarf hat eine bestimmte Schiffsform? Welche Kräfte entstehen bei Segelbooten? Wie wird sichergestellt\, dass auch riesige Windkraftanlagen sicher verschraubt werden?\n\nTeilnahme nur mit Anmeldung.\n\n 
URL:https://www.kielregion.de/event/maritime-labore-des-instituts-fuer-schiffbau-und-maritime-technik-lab-tour-mitmachexperiment-9/
LOCATION:Fachhochschule Kiel\, Deutschland
CATEGORIES:Science Day
END:VEVENT
BEGIN:VEVENT
DTSTART;TZID=Europe/Berlin:20240927T103000
DTEND;TZID=Europe/Berlin:20240927T110000
DTSTAMP:20260420T042031
CREATED:20240822T094728Z
LAST-MODIFIED:20240905T181018Z
UID:10000051-1727433000-1727434800@www.kielregion.de
SUMMARY:Maritime Labore des Instituts für Schiffbau und maritime Technik | Lab-Tour\, Mitmachexperiment
DESCRIPTION:Einblicke in die Labore zur Schiffsfestigkeit\, dem Schiffbauströmungslabor\, dem Windkanal sowie dem Labor für Offshore-Montagetechnik des Instituts. Wie wird die Dauerfestigkeit von Bauteilen vorhergesagt? Wie stabil schwimmt ein Schiff? Wie viel Energiebedarf hat eine bestimmte Schiffsform? Welche Kräfte entstehen bei Segelbooten? Wie wird sichergestellt\, dass auch riesige Windkraftanlagen sicher verschraubt werden?\n\nTeilnahme nur mit Anmeldung.
URL:https://www.kielregion.de/event/maritime-labore-des-instituts-fuer-schiffbau-und-maritime-technik-lab-tour-mitmachexperiment-5/
LOCATION:Fachhochschule Kiel\, Deutschland
CATEGORIES:Science Day
END:VEVENT
BEGIN:VEVENT
DTSTART;TZID=Europe/Berlin:20240927T103000
DTEND;TZID=Europe/Berlin:20240927T110000
DTSTAMP:20260420T042031
CREATED:20240822T093500Z
LAST-MODIFIED:20240905T180952Z
UID:10000046-1727433000-1727434800@www.kielregion.de
SUMMARY:Maritime Labore des Instituts für Schiffbau und maritime Technik | Lab-Tour\, Mitmachexperiment
DESCRIPTION:Einblicke in die Labore zur Schiffsfestigkeit\, dem Schiffbauströmungslabor\, dem Windkanal sowie dem Labor für Offshore-Montagetechnik des Instituts. Wie wird die Dauerfestigkeit von Bauteilen vorhergesagt? Wie stabil schwimmt ein Schiff? Wie viel Energiebedarf hat eine bestimmte Schiffsform? Welche Kräfte entstehen bei Segelbooten? Wie wird sichergestellt\, dass auch riesige Windkraftanlagen sicher verschraubt werden?\n\nTeilnahme nur mit Anmeldung.
URL:https://www.kielregion.de/event/maritime-labore-des-instituts-fuer-schiffbau-und-maritime-technik-lab-tour-mitmachexperiment/
LOCATION:Fachhochschule Kiel\, Deutschland
CATEGORIES:Science Day
END:VEVENT
BEGIN:VEVENT
DTSTART;TZID=Europe/Berlin:20240927T100000
DTEND;TZID=Europe/Berlin:20240927T104500
DTSTAMP:20260420T042031
CREATED:20240822T101911Z
LAST-MODIFIED:20240905T180940Z
UID:10000071-1727431200-1727433900@www.kielregion.de
SUMMARY:Digitale Realitäten erleben
DESCRIPTION:Neue Technologien wie Augmented und Virtual Reality verändern aktuell unser Leben und Arbeiten. Das Interdisziplinäre Labor für Immersionsforschung (LINK) präsentiert\, wie und wofür immersive Medien eingesetzt werden können und wie es sich anfühlt\, in synthetische Realitäten einzutauchen.\n\nAusstellung von Prof. Dr. Rupert-Kruse.\n\nTeilnahme nur mit Anmeldung.\n\n 
URL:https://www.kielregion.de/event/digitale-realitaeten-erleben/
LOCATION:Fachhochschule Kiel\, Deutschland
CATEGORIES:Science Day
END:VEVENT
BEGIN:VEVENT
DTSTART;TZID=Europe/Berlin:20240927T100000
DTEND;TZID=Europe/Berlin:20240927T103000
DTSTAMP:20260420T042031
CREATED:20240822T095534Z
LAST-MODIFIED:20240905T180838Z
UID:10000058-1727431200-1727433000@www.kielregion.de
SUMMARY:Maritime Labore des Instituts für Schiffbau und maritime Technik | Lab-Tour\, Mitmachexperiment
DESCRIPTION:Einblicke in die Labore zur Schiffsfestigkeit\, dem Schiffbauströmungslabor\, dem Windkanal sowie dem Labor für Offshore-Montagetechnik des Instituts. Wie wird die Dauerfestigkeit von Bauteilen vorhergesagt? Wie stabil schwimmt ein Schiff? Wie viel Energiebedarf hat eine bestimmte Schiffsform? Welche Kräfte entstehen bei Segelbooten? Wie wird sichergestellt\, dass auch riesige Windkraftanlagen sicher verschraubt werden?\n\nTeilnahme nur mit Anmeldung.\n\n 
URL:https://www.kielregion.de/event/maritime-labore-des-instituts-fuer-schiffbau-und-maritime-technik-lab-tour-mitmachexperiment-12/
LOCATION:Fachhochschule Kiel\, Deutschland
CATEGORIES:Science Day
END:VEVENT
BEGIN:VEVENT
DTSTART;TZID=Europe/Berlin:20240927T100000
DTEND;TZID=Europe/Berlin:20240927T103000
DTSTAMP:20260420T042031
CREATED:20240822T095140Z
LAST-MODIFIED:20240905T180820Z
UID:10000054-1727431200-1727433000@www.kielregion.de
SUMMARY:Maritime Labore des Instituts für Schiffbau und maritime Technik | Lab-Tour\, Mitmachexperiment
DESCRIPTION:Einblicke in die Labore zur Schiffsfestigkeit\, dem Schiffbauströmungslabor\, dem Windkanal sowie dem Labor für Offshore-Montagetechnik des Instituts. Wie wird die Dauerfestigkeit von Bauteilen vorhergesagt? Wie stabil schwimmt ein Schiff? Wie viel Energiebedarf hat eine bestimmte Schiffsform? Welche Kräfte entstehen bei Segelbooten? Wie wird sichergestellt\, dass auch riesige Windkraftanlagen sicher verschraubt werden?\n\nTeilnahme nur mit Anmeldung.\n\n 
URL:https://www.kielregion.de/event/maritime-labore-des-instituts-fuer-schiffbau-und-maritime-technik-lab-tour-mitmachexperiment-8/
LOCATION:Fachhochschule Kiel\, Deutschland
CATEGORIES:Science Day
END:VEVENT
BEGIN:VEVENT
DTSTART;TZID=Europe/Berlin:20240927T100000
DTEND;TZID=Europe/Berlin:20240927T103000
DTSTAMP:20260420T042031
CREATED:20240822T094644Z
LAST-MODIFIED:20240905T180757Z
UID:10000050-1727431200-1727433000@www.kielregion.de
SUMMARY:Maritime Labore des Instituts für Schiffbau und maritime Technik | Lab-Tour\, Mitmachexperiment
DESCRIPTION:Einblicke in die Labore zur Schiffsfestigkeit\, dem Schiffbauströmungslabor\, dem Windkanal sowie dem Labor für Offshore-Montagetechnik des Instituts. Wie wird die Dauerfestigkeit von Bauteilen vorhergesagt? Wie stabil schwimmt ein Schiff? Wie viel Energiebedarf hat eine bestimmte Schiffsform? Welche Kräfte entstehen bei Segelbooten? Wie wird sichergestellt\, dass auch riesige Windkraftanlagen sicher verschraubt werden?\n\nTeilnahme nur mit Anmeldung.
URL:https://www.kielregion.de/event/maritime-labore-des-instituts-fuer-schiffbau-und-maritime-technik-lab-tour-mitmachexperiment-4/
LOCATION:Fachhochschule Kiel\, Deutschland
CATEGORIES:Science Day
END:VEVENT
BEGIN:VEVENT
DTSTART;TZID=Europe/Berlin:20240927T090000
DTEND;TZID=Europe/Berlin:20240927T100000
DTSTAMP:20260420T042031
CREATED:20240822T091252Z
LAST-MODIFIED:20240905T180737Z
UID:10000043-1727427600-1727431200@www.kielregion.de
SUMMARY:Strömungen im Wasserkanal sichtbar machen
DESCRIPTION:„Alles fließt“\, stellte der griechische Philosoph Heraklit schon vor 2500 Jahren fest\, aber wie kann man strömende Luft oder strömendes Wasser untersuchen? Für einen Entwurfsingenieur in der Wind- oder Schiffbauindustrie ist dies eine wichtige Frage. Schließlich möchte man wissen\, wie groß der Ertrag einer Windenergieanlage oder der Widerstand eines Schiffes ist. An einer modernen Version des historischen Prandtl-Kanals werden unterschiedliche Strömungszustände sichtbar und dadurch erlebbar gemacht.\nMitmach- und Vorführexperiment von Prof. Dr. Risius.\n\nTeilnahme nur mit Anmeldung.
URL:https://www.kielregion.de/event/stroemungen-im-wasserkanal-sichtbar-machen/
LOCATION:Fachhochschule Kiel\, Deutschland
CATEGORIES:Science Day
END:VEVENT
BEGIN:VEVENT
DTSTART;TZID=Europe/Berlin:20240927T090000
DTEND;TZID=Europe/Berlin:20240927T100000
DTSTAMP:20260420T042031
CREATED:20240822T084437Z
LAST-MODIFIED:20240905T180721Z
UID:10000035-1727427600-1727431200@www.kielregion.de
SUMMARY:Unendliche Weiten  | Filmvorführung im Mediendom
DESCRIPTION:„Das Universum ist unvorstellbar groß und schön. Diese Reise führt uns von der Erde bis in die Weiten des Alls. Das Ziel ist\, die unvorstellbaren Distanzen zu erfassen und ein Gefühl für die Vielfalt und die Schönheit zu bekommen\, die uns in den schier unendlichen Weiten begegnen.\nDie Live-Moderation und musikalisch unterlegte Sequenzen zum Staunen und Genießen sind wesentliche Punkte einer einfühlsamen Erkundungstour durch das Weltall.“\n\nTeilnahme nur mit Anmeldung.
URL:https://www.kielregion.de/event/unendliche-weiten-filmvorfuehrung-im-mediendom/
LOCATION:Fachhochschule Kiel\, Deutschland
CATEGORIES:Science Day
END:VEVENT
END:VCALENDAR