BEGIN:VCALENDAR
VERSION:2.0
PRODID:-//KielRegion - ECPv6.15.20//NONSGML v1.0//EN
CALSCALE:GREGORIAN
METHOD:PUBLISH
X-WR-CALNAME:KielRegion
X-ORIGINAL-URL:https://www.kielregion.de
X-WR-CALDESC:Veranstaltungen für KielRegion
REFRESH-INTERVAL;VALUE=DURATION:PT1H
X-Robots-Tag:noindex
X-PUBLISHED-TTL:PT1H
BEGIN:VTIMEZONE
TZID:Europe/Berlin
BEGIN:DAYLIGHT
TZOFFSETFROM:+0100
TZOFFSETTO:+0200
TZNAME:CEST
DTSTART:20230326T010000
END:DAYLIGHT
BEGIN:STANDARD
TZOFFSETFROM:+0200
TZOFFSETTO:+0100
TZNAME:CET
DTSTART:20231029T010000
END:STANDARD
BEGIN:DAYLIGHT
TZOFFSETFROM:+0100
TZOFFSETTO:+0200
TZNAME:CEST
DTSTART:20240331T010000
END:DAYLIGHT
BEGIN:STANDARD
TZOFFSETFROM:+0200
TZOFFSETTO:+0100
TZNAME:CET
DTSTART:20241027T010000
END:STANDARD
BEGIN:DAYLIGHT
TZOFFSETFROM:+0100
TZOFFSETTO:+0200
TZNAME:CEST
DTSTART:20250330T010000
END:DAYLIGHT
BEGIN:STANDARD
TZOFFSETFROM:+0200
TZOFFSETTO:+0100
TZNAME:CET
DTSTART:20251026T010000
END:STANDARD
BEGIN:DAYLIGHT
TZOFFSETFROM:+0100
TZOFFSETTO:+0200
TZNAME:CEST
DTSTART:20260329T010000
END:DAYLIGHT
BEGIN:STANDARD
TZOFFSETFROM:+0200
TZOFFSETTO:+0100
TZNAME:CET
DTSTART:20261025T010000
END:STANDARD
END:VTIMEZONE
BEGIN:VEVENT
DTSTART;TZID=Europe/Berlin:20250926T183000
DTEND;TZID=Europe/Berlin:20250926T191500
DTSTAMP:20260421T131912
CREATED:20250904T081910Z
LAST-MODIFIED:20250908T120618Z
UID:10000217-1758911400-1758914100@www.kielregion.de
SUMMARY:Präsentation des Bildbands „ROOTS“
DESCRIPTION:Ausgrabungen\, die nach wenigen Stunden in den Fluten der Nordsee versinken. Geschichten\, die Hirten im anatolischen Tektek-Gebirge bei einem Glas Tee erzählen. Entdeckungen\, die neue Einblicke in den Alltag der antiken Stadt Pompeji gewähren: Die Arbeit der Wissenschaftler:innen im Exzellenzcluster ROOTS ist immer faszinierend. Mehr als 170 packende Fotografien öffnen in einem neuen Bildband ein Fenster in den Arbeitsalltag der ROOTS-Forschenden. Beim Science Day stellen wir ihn vor.
URL:https://www.kielregion.de/event/braucht-dein-lieblingsbaum-wasser-sensorik-zum-selber-ausprobieren/
LOCATION:RBZ Wirtschaft\, Kiel\, Schleswig-Holstein\, Deutschland
CATEGORIES:Science Day
END:VEVENT
BEGIN:VEVENT
DTSTART;TZID=Europe/Berlin:20250926T180000
DTEND;TZID=Europe/Berlin:20250926T193000
DTSTAMP:20260421T131912
CREATED:20250916T131421Z
LAST-MODIFIED:20250916T131431Z
UID:10000242-1758909600-1758915000@www.kielregion.de
SUMMARY:Braucht dein Lieblingsbaum Wasser? Sensorik zum selber Ausprobieren
DESCRIPTION:Im Workshop geben wir eine konkrete Einführung in das Internet-of-Things (IoT) und die Vernetzung von intelligenten Geräten und Sensoren. Was ist das „Internet der Dinge“\, wie kann es für die Optimierung von Prozessen genutzt werden und welche Rolle spielt dabei das schleswig-holstein-weite LoRaWan-Netz? Im praktischen Teil wird jeder Teilnehmer unter Anleitung einen eigenen Bodenfeuchte-Sensor konfigurieren und an das Internet anbinden. Der Sensor darf nach dem Workshop mit nachhause genommen werden.\n\nEs wird ein eigener Laptop / eigenes Tablet sowie Zugang zu einer persönlichen E-Mail-Adresse benötigt. Ansonsten sind keine Vorkenntnisse erforderlich.\n\nAnmeldung unter www.kielregion.de
URL:https://www.kielregion.de/event/braucht-dein-lieblingsbaum-wasser-sensorik-zum-selber-ausprobieren-2/
LOCATION:RBZ Wirtschaft\, Kiel\, Schleswig-Holstein\, Deutschland
CATEGORIES:Science Day,Smarte KielRegion
END:VEVENT
BEGIN:VEVENT
DTSTART;TZID=Europe/Berlin:20250926T170000
DTEND;TZID=Europe/Berlin:20250926T183000
DTSTAMP:20260421T131912
CREATED:20250904T081754Z
LAST-MODIFIED:20250916T131442Z
UID:10000216-1758906000-1758911400@www.kielregion.de
SUMMARY:Gemeinsam die Mobilitätsdaten der KielRegion verbessern –  OpenStreetMap & SH-Navi
DESCRIPTION:Eine gute Karte ist mehr als nur Straßen und Orte – sie ist ein Spiegel unserer Lebenswelt. In diesem Workshop zeigen wir\, wie jede*r mithelfen kann\, die Mobilitätsdatenbasis für die Region zu verbessern – mit OpenStreetMap (OSM)\, der freien Weltkarte\, die von Menschen wie dir und mir erstellt wird. Außerdem lernen wir das SH-Navi kennen: Wie nutzt es OSM-Daten\, welche Informationen fehlen oft – und wie kannst du gezielt dazu beitragen\, die Datenlage zu verbessern?\n\nFür alle\, die sich für digitale Karten\, regionale Entwicklung und offene Daten interessieren – Vorkenntnisse sind nicht erforderlich!\n\nAnmeldung unter www.kielregion.de
URL:https://www.kielregion.de/event/gemeinsam-die-mobilitaetsdaten-der-kielregion-verbessern-openstreetmap-sh-navi/
LOCATION:RBZ Wirtschaft\, Kiel\, Schleswig-Holstein\, Deutschland
CATEGORIES:Science Day,Smarte KielRegion
END:VEVENT
BEGIN:VEVENT
DTSTART;TZID=Europe/Berlin:20250926T160000
DTEND;TZID=Europe/Berlin:20250926T170000
DTSTAMP:20260421T131912
CREATED:20250904T081433Z
LAST-MODIFIED:20250908T123320Z
UID:10000214-1758902400-1758906000@www.kielregion.de
SUMMARY:Der Science Code - Ein interaktives Klassenzimmertheaterstück  zur Wissenschaftskommunikation
DESCRIPTION:KielSCN-Doktorandin Jane Momme und Anna Vollersen geben Einblicke in den Science Code\, ein interaktives Theaterstück für Schüler*innen\, das Wissenschaft\, Theater und Film in einem einzigartigen Bildungsformat vereint. Eine fesselnde Geschichte\, interaktive Rätsel und mediengestützte Zeitreisen lassen die Zuschauer*innen dabei in die Welt der Wissenschaft eintauchen. Erfahren Sie mehr und ergründen sie im Anschluss an eine kurze Aufführung gemeinsam vor Ort spielerisch Wissenschaftsverständnis
URL:https://www.kielregion.de/event/der-science-code-ein-interaktives-klassenzimmertheaterstueck-zur-wissenschaftskommunikation/
LOCATION:RBZ Wirtschaft\, Kiel\, Schleswig-Holstein\, Deutschland
CATEGORIES:Science Day
END:VEVENT
BEGIN:VEVENT
DTSTART;TZID=Europe/Berlin:20250926T150000
DTEND;TZID=Europe/Berlin:20250926T220000
DTSTAMP:20260421T131912
CREATED:20250904T075409Z
LAST-MODIFIED:20250908T123921Z
UID:10000211-1758898800-1758924000@www.kielregion.de
SUMMARY:Science Comes To Town – ein Ausblick auf 2026!
DESCRIPTION:Beim Science Day in Kiel öffnen wir erstmals den Vorhang für das\nProjekt Science Comes To Town – und ihr seid live dabei! Kiel wird\n2026 – zusammen mit Brest und Split – zur Bühne für die Wissenschaft zum Anfassen\, Mitmachen und Staunen. Freut euch auf\neinen ersten Vorgeschmack auf das\, was euch im kommenden Jahr\nerwartet: überraschende Formate\, spannende Aktionen und echte\nBegegnungen mit Wissenschaft und Innovation.\nSeid neugierig und lasst euch inspirieren!
URL:https://www.kielregion.de/event/science-comes-to-town-ein-ausblick-auf-2026/
LOCATION:RBZ Wirtschaft\, Kiel\, Schleswig-Holstein\, Deutschland
CATEGORIES:Science Day
END:VEVENT
BEGIN:VEVENT
DTSTART;TZID=Europe/Berlin:20250926T150000
DTEND;TZID=Europe/Berlin:20250926T220000
DTSTAMP:20260421T131912
CREATED:20250904T075233Z
LAST-MODIFIED:20250908T124131Z
UID:10000210-1758898800-1758924000@www.kielregion.de
SUMMARY:SmarterLeben in der KielRegion | Dein Digitalisierungsprojekt
DESCRIPTION:Als Modellprojekt Smart Cities entwickelt SmarterLeben | KielRegion gemeinsam mit Bürger*innen und Akteur*innen digitale Lösungen für eine nachhaltige\, lebenswerte Region – wir stellen unsere Projekte vor.
URL:https://www.kielregion.de/event/smarterleben-in-der-kielregion-dein-digitalisierungsprojekt/
LOCATION:RBZ Wirtschaft\, Kiel\, Schleswig-Holstein\, Deutschland
CATEGORIES:Science Day
END:VEVENT
BEGIN:VEVENT
DTSTART;TZID=Europe/Berlin:20250926T150000
DTEND;TZID=Europe/Berlin:20250926T220000
DTSTAMP:20260421T131912
CREATED:20250904T075044Z
LAST-MODIFIED:20250908T124257Z
UID:10000209-1758898800-1758924000@www.kielregion.de
SUMMARY:Die KielRegion in Bewegung
DESCRIPTION:Das Regionale Mobilitätsmanagement der KielRegion zeigt\, wie innovative Mobilitätslösungen für Stadt und Land entstehen – von der SprottenFlotte über Mobilitätsstationen bis hin zu digitalen Echtzeitanwendungen. Entdecke\, wie nachhaltige Mobilität konkret umgesetzt wird – für eine klimafreundliche und lebenswerte Region.
URL:https://www.kielregion.de/event/die-kielregion-in-bewegung/
LOCATION:RBZ Wirtschaft\, Kiel\, Schleswig-Holstein\, Deutschland
CATEGORIES:Science Day
END:VEVENT
BEGIN:VEVENT
DTSTART;TZID=Europe/Berlin:20250926T150000
DTEND;TZID=Europe/Berlin:20250926T220000
DTSTAMP:20260421T131912
CREATED:20250904T074800Z
LAST-MODIFIED:20250908T124559Z
UID:10000207-1758898800-1758924000@www.kielregion.de
SUMMARY:Schule der Zukunft mitgestalten
DESCRIPTION:Mit kreativen Aktionen aus den musikalischen\, künstlerischen und naturwissenschaftlichen Fächern und Studiengängen zeigen die Europa-Universität Flensburg\, die Christian-Albrechts-Universität zu Kiel\, die Musikhochschule Lübeck\, die Muthesius Kunsthochschule sowie das Leibniz-Institut für die Pädagogik der Naturwissenschaften und Mathematik\, wie innovativ die Lehrkräftebildung gestaltet werden kann. Lassen Sie sich inspirieren und gestalten Sie die Schule der Zukunft mit!
URL:https://www.kielregion.de/event/schule-der-zukunft-mitgestalten/
LOCATION:RBZ Wirtschaft\, Kiel\, Schleswig-Holstein\, Deutschland
CATEGORIES:Science Day
END:VEVENT
BEGIN:VEVENT
DTSTART;TZID=Europe/Berlin:20250926T150000
DTEND;TZID=Europe/Berlin:20250926T220000
DTSTAMP:20260421T131912
CREATED:20250904T074521Z
LAST-MODIFIED:20250908T124614Z
UID:10000206-1758898800-1758924000@www.kielregion.de
SUMMARY:Berufsperspektiven und digitale Medien im Schulunterricht
DESCRIPTION:Joborientierung im MINT-Unterricht der Primar- und Sekundarstufe.
URL:https://www.kielregion.de/event/berufsperspektiven-und-digitale-medien-im-schulunterricht/
LOCATION:RBZ Wirtschaft\, Kiel\, Schleswig-Holstein\, Deutschland
CATEGORIES:Science Day
END:VEVENT
BEGIN:VEVENT
DTSTART;TZID=Europe/Berlin:20250926T150000
DTEND;TZID=Europe/Berlin:20250926T220000
DTSTAMP:20260421T131912
CREATED:20250904T074403Z
LAST-MODIFIED:20250908T124727Z
UID:10000205-1758898800-1758924000@www.kielregion.de
SUMMARY:Mikrofauna in der Archäologie
DESCRIPTION:Was winzige Tierknochen über die Geschichte der Menschheit verraten.
URL:https://www.kielregion.de/event/mikrofauna-in-der-archaeologie/
LOCATION:RBZ Wirtschaft\, Kiel\, Schleswig-Holstein\, Deutschland
CATEGORIES:Science Day
END:VEVENT
BEGIN:VEVENT
DTSTART;TZID=Europe/Berlin:20250926T150000
DTEND;TZID=Europe/Berlin:20250926T220000
DTSTAMP:20260421T131912
CREATED:20250904T074043Z
LAST-MODIFIED:20250908T124835Z
UID:10000203-1758898800-1758924000@www.kielregion.de
SUMMARY:Challenges mit der Maker-Smartwatch
DESCRIPTION:An unserem Stand könnt ihr eine programmierbare Smartwatch ausprobieren und euch gegenseitig zu Bewegungschallenges herausfordern oder selber eine App programmieren. Wir haben einige Beispielapps programmiert\, die ihr einfach modifizieren könnt\, um loszulegen\, auch wenn ihr noch gar nicht programmieren könnt. Wir stellen die Uhr vor\, da wir herausfinden wollen\, wie die Uhr zu Bildungszwecken verwendet werden kann.
URL:https://www.kielregion.de/event/challenges-mit-der-maker-smartwatch/
LOCATION:RBZ Wirtschaft\, Kiel\, Schleswig-Holstein\, Deutschland
CATEGORIES:Science Day
END:VEVENT
BEGIN:VEVENT
DTSTART;TZID=Europe/Berlin:20250926T150000
DTEND;TZID=Europe/Berlin:20250926T220000
DTSTAMP:20260421T131912
CREATED:20250904T073905Z
LAST-MODIFIED:20250908T124949Z
UID:10000202-1758898800-1758924000@www.kielregion.de
SUMMARY:Mensch und Umwelt seit der Steinzeit
DESCRIPTION:Die Uni Kiel ist einer der weltweit führenden Standorte für die Forschung zum Verhältnis von Mensch und Umwelt in der Vergangenheit. Der Exzellenzcluster ROOTS bündelt diese Aktivitäten seit 2019. Am Science Day zeigen ROOTS und das Archäolabor der Kieler Forschungswerkstatt\, mit welchen Methoden sie die jüngere und ältere Vergangenheit entschlüsseln\, zu welchen Ergebnissen sie dabei kommen – und was wir möglicherweise für unsere Gegenwart daraus lernen können.
URL:https://www.kielregion.de/event/mensch-und-umwelt-seit-der-steinzeit/
LOCATION:RBZ Wirtschaft\, Kiel\, Schleswig-Holstein\, Deutschland
CATEGORIES:Science Day
END:VEVENT
BEGIN:VEVENT
DTSTART;TZID=Europe/Berlin:20250926T150000
DTEND;TZID=Europe/Berlin:20250926T220000
DTSTAMP:20260421T131912
CREATED:20250904T073733Z
LAST-MODIFIED:20250908T125250Z
UID:10000201-1758898800-1758924000@www.kielregion.de
SUMMARY:KiKo - BNE kofferweise in Kitas und Grundschulen bringen
DESCRIPTION:Die 17 Nachhaltigkeitsziele der Vereinten Nationen werden durch unsere Koffer spielerisch und altersgerecht aufbereitet und fördern naturwissenschaftliche Kompetenzen. Das KiKo-Projekt des Leibniz-Instituts für die Pädagogik der Naturwissenschaften und Mathematik bietet Materialiensets zur Thematisierung verschiedener Nachhaltigkeitsziele mit jungen Kindern im Vor- und Grundschulalter.
URL:https://www.kielregion.de/event/kiko-bne-kofferweise-in-kitas-und-grundschulen-bringen/
LOCATION:RBZ Wirtschaft\, Kiel\, Schleswig-Holstein\, Deutschland
CATEGORIES:Science Day
END:VEVENT
BEGIN:VEVENT
DTSTART;TZID=Europe/Berlin:20250926T150000
DTEND;TZID=Europe/Berlin:20250926T220000
DTSTAMP:20260421T131912
CREATED:20250903T142341Z
LAST-MODIFIED:20250908T125320Z
UID:10000200-1758898800-1758924000@www.kielregion.de
SUMMARY:Die stille Flamme: Forschung gegen chronische Entzündung
DESCRIPTION:Entzündungen erforschen und verstehen!
URL:https://www.kielregion.de/event/die-stille-flamme-forschung-gegen-chronische-entzuendung/
LOCATION:RBZ Wirtschaft\, Kiel\, Schleswig-Holstein\, Deutschland
CATEGORIES:Science Day
END:VEVENT
BEGIN:VEVENT
DTSTART;TZID=Europe/Berlin:20250926T150000
DTEND;TZID=Europe/Berlin:20250926T220000
DTSTAMP:20260421T131912
CREATED:20250903T142116Z
LAST-MODIFIED:20250908T125406Z
UID:10000199-1758898800-1758924000@www.kielregion.de
SUMMARY:Die Welt der visuellen Wissenschaftskommunikation entdecken
DESCRIPTION:Im KielSCN entwickeln Wissenschaftler:innen interdisziplinär neue Ansätze für die visuelle Kommunikation von wissenschaftlichen Inhalten. Beim Science Day erhalten alle Interessierten einen Einblick in Projekte des Forschungszentrums\, mit denen das Team verschiedene visuelle Wissenschaftskommunikations-Produkte erprobt. Gleichzeitig sind diese Projekte immer auch eng mit der KielSCN-Forschung verwoben. Kommen Sie vorbei\, erfahren Sie mehr über unsere Arbeit und erleben Sie die Produkte!
URL:https://www.kielregion.de/event/die-welt-der-visuellen-wissenschaftskommunikation-entdecken/
LOCATION:RBZ Wirtschaft\, Kiel\, Schleswig-Holstein\, Deutschland
CATEGORIES:Science Day
END:VEVENT
BEGIN:VEVENT
DTSTART;TZID=Europe/Berlin:20250926T150000
DTEND;TZID=Europe/Berlin:20250926T220000
DTSTAMP:20260421T131912
CREATED:20250903T141832Z
LAST-MODIFIED:20250908T125430Z
UID:10000198-1758898800-1758924000@www.kielregion.de
SUMMARY:Wie wir mit unseren Sinnesorganen die Umwelt wahrnehmen  und sich der Körper flexibel anpasst
DESCRIPTION:An Mitmachstationen zum Ausprobieren die eigenen sensorischen\nFähigkeiten testen
URL:https://www.kielregion.de/event/wie-wir-mit-unseren-sinnesorganen-die-umwelt-wahrnehmen-und-sich-der-koerper-flexibel-anpasst/
LOCATION:RBZ Wirtschaft\, Kiel\, Schleswig-Holstein\, Deutschland
CATEGORIES:Science Day
END:VEVENT
BEGIN:VEVENT
DTSTART;TZID=Europe/Berlin:20250926T150000
DTEND;TZID=Europe/Berlin:20250926T210000
DTSTAMP:20260421T131912
CREATED:20250904T075942Z
LAST-MODIFIED:20250908T133037Z
UID:10000212-1758898800-1758920400@www.kielregion.de
SUMMARY:Swing Vision: VR-Schauke
DESCRIPTION:Das Virtual Reality Erlebnis „Swing Vision“ bietet virtuelle Urlaubsmomente auf einer echten Schaukel
URL:https://www.kielregion.de/event/swing-vision-vr-schauke/
LOCATION:RBZ Wirtschaft\, Kiel\, Schleswig-Holstein\, Deutschland
CATEGORIES:Science Day
END:VEVENT
BEGIN:VEVENT
DTSTART;TZID=Europe/Berlin:20250926T150000
DTEND;TZID=Europe/Berlin:20250926T200000
DTSTAMP:20260421T131912
CREATED:20250904T081258Z
LAST-MODIFIED:20250908T132927Z
UID:10000213-1758898800-1758916800@www.kielregion.de
SUMMARY:Digitales Wissenschaftsposter Digital Meta
DESCRIPTION:In Form einer interaktiven Touchscreen-Präsentation können Nutzerinnen und Nutzer die Interaktion von bakteriellen Symbionten und vielzelligen Wirtsorganismen am Beispiel von fünf Modellorganismen (Mensch\, Fadenwurm\, Hydra\, Schwamm\, Weizenpflanzen) erkunden. Die innovative Visualisierung des digitalen Wissenschaftsposters macht die unsichtbare Welt der Wirts-Mikroben-Beziehungen sichtbar. So gelingt es\, die Bedeutung von Metaorganismen für Gesundheit\, Umwelt und Ernährung zu kommunizieren.
URL:https://www.kielregion.de/event/digitales-wissenschaftsposter-digital-meta/
LOCATION:RBZ Wirtschaft\, Kiel\, Schleswig-Holstein\, Deutschland
CATEGORIES:Science Day
END:VEVENT
BEGIN:VEVENT
DTSTART;TZID=Europe/Berlin:20250926T150000
DTEND;TZID=Europe/Berlin:20250926T200000
DTSTAMP:20260421T131912
CREATED:20250904T074921Z
LAST-MODIFIED:20250908T132808Z
UID:10000208-1758898800-1758916800@www.kielregion.de
SUMMARY:One Health\, One Future – Wie können wir im Unterricht auf  zukünftige Pandemien vorbereiten?
DESCRIPTION:Das Leibniz Lab Pandemic Preparedness ist ein Think-and-Do-Tank von 41 Leibniz-Instituten. Am Leibniz-Institut für die Pädagogik der Naturwissenschaften und Mathematik (IPN) wird ein Bildungsprogramm entwickelt\, das zur Förderung von Kompetenzen im Umgang mit Mensch-Tier-Umwelt-Gesundheitszusammenhängen (One Health) im Pandemiekontext beiträgt. Ziel ist es\, Lernende und Lehrende zu befähigen\, informiert\, reflektiert und handlungsfähig auf zukünftige Pandemien zu reagieren.
URL:https://www.kielregion.de/event/one-health-one-future-wie-koennen-wir-im-unterricht-auf-zukuenftige-pandemien-vorbereiten/
LOCATION:RBZ Wirtschaft\, Kiel\, Schleswig-Holstein\, Deutschland
CATEGORIES:Science Day
END:VEVENT
BEGIN:VEVENT
DTSTART;TZID=Europe/Berlin:20250926T150000
DTEND;TZID=Europe/Berlin:20250926T190000
DTSTAMP:20260421T131912
CREATED:20250904T074232Z
LAST-MODIFIED:20250908T132707Z
UID:10000204-1758898800-1758913200@www.kielregion.de
SUMMARY:Wie lernen eigentlich Maschinen?
DESCRIPTION:Mit dem KI-Labor verschiedene maschinelle Lernstrategien in digitalen Lernumgebungen ausprobieren.
URL:https://www.kielregion.de/event/wie-lernen-eigentlich-maschinen/
LOCATION:RBZ Wirtschaft\, Kiel\, Schleswig-Holstein\, Deutschland
CATEGORIES:Science Day
END:VEVENT
BEGIN:VEVENT
DTSTART;TZID=Europe/Berlin:20240927T210000
DTEND;TZID=Europe/Berlin:20240927T220000
DTSTAMP:20260421T131912
CREATED:20240822T112324Z
LAST-MODIFIED:20240822T112324Z
UID:10000100-1727470800-1727474400@www.kielregion.de
SUMMARY:Wer hat’s erschaffen? Mensch oder KI?
DESCRIPTION:Bei diesem Spiel können Sie testen\, wie gut Ihr KI-Sensor bereits funktioniert. KI-Experte Prof. Dr. Ralf Krestel und sein Team zeigen KI-generierte und von Menschen generierte Inhalte und diskutieren mit Ihnen die Stärken und Schwächen heutiger KIs und wie man KI-generierte Inhalte (Texte\, Bilder\, Audio) möglicherweise erkennen kann.
URL:https://www.kielregion.de/event/wer-hats-erschaffen-mensch-oder-ki/
LOCATION:RBZ Wirtschaft\, Kiel\, Schleswig-Holstein\, Deutschland
CATEGORIES:Science Day
END:VEVENT
BEGIN:VEVENT
DTSTART;TZID=Europe/Berlin:20240927T190000
DTEND;TZID=Europe/Berlin:20240927T210000
DTSTAMP:20260421T131912
CREATED:20240822T111817Z
LAST-MODIFIED:20240822T111817Z
UID:10000099-1727463600-1727470800@www.kielregion.de
SUMMARY:XXL-Memory: Wissenschaftliche Publikationen entdecken
DESCRIPTION:Veröffentlichungen sind das Rückgrat der Wissenschaft\, aber nicht immer handelt es sich um Bücher. Kennen Sie alle Arten wissenschaftlicher Veröffentlichungen? Spielen Sie mit uns XXL-Memory und finden Sie unter den extragroßen Karten die passenden Paare. Eine unterhaltsame Herausforderung sowohl für Neugierige als auch für Expert:innen!
URL:https://www.kielregion.de/event/xxl-memory-wissenschaftliche-publikationen-entdecken/
LOCATION:RBZ Wirtschaft\, Kiel\, Schleswig-Holstein\, Deutschland
CATEGORIES:Science Day
END:VEVENT
BEGIN:VEVENT
DTSTART;TZID=Europe/Berlin:20240927T180000
DTEND;TZID=Europe/Berlin:20240927T190000
DTSTAMP:20260421T131912
CREATED:20240822T110412Z
LAST-MODIFIED:20240909T150216Z
UID:10000093-1727460000-1727463600@www.kielregion.de
SUMMARY:Sensorik verstehen
DESCRIPTION:Das Projekt SmarterLeben stellt verschiedene Anwendungsfälle von Sensorik im Smart City Kontext vor und erläutert das Projekt der regionalen Datenplattform. Im Mitmachexperiment kalibrieren wir gemeinsam einen LoRaWAN Sensor und schließen ihn an die Datenplattform der KielRegion an. Alle Teilnehmenden erhalten einen eigenen Sensor\, der im Nachgang zuhause\, z.B. zur Temperatur- oder Luftfeuchtigkeitsmessung\, eingesetzt werden kann.\n\nTeilnahme nur mit Anmeldung. 
URL:https://www.kielregion.de/event/sensorik-verstehen/
LOCATION:RBZ Wirtschaft\, Kiel\, Schleswig-Holstein\, Deutschland
CATEGORIES:Science Day
ORGANIZER;CN="Smarte KielRegion":MAILTO:team@smarte-kielregion.de
END:VEVENT
BEGIN:VEVENT
DTSTART;TZID=Europe/Berlin:20240927T170000
DTEND;TZID=Europe/Berlin:20240927T200000
DTSTAMP:20260421T131912
CREATED:20240822T111717Z
LAST-MODIFIED:20240924T154942Z
UID:10000098-1727456400-1727467200@www.kielregion.de
SUMMARY:Stricken und Coden // Knit and Code
DESCRIPTION: \n\nJoin us for a fun talk that reveals surprising parallels between knitting and coding. In this workshop you will learn how these two seemingly disparate activities are connected and how simple principles from knitting can make it easier to get started with coding. Bring your own knitting if you have one and be inspired by the creative connection. Immerse yourself in the world of data science and discover how text mining quantifies and analyses digital text in a new way.\n\nEnglischsprachiges Mitmachexperiment\n\nTalk 1:  17:00 bis 17:45 Uhr\n\nTalk 2:  18:00 bis 18:45 Uhr\n\nTalk 3:  19:00 bis 19:45 Uhr\n\n 
URL:https://www.kielregion.de/event/stricken-und-coden-knit-and-code-engl/
LOCATION:RBZ Wirtschaft\, Kiel\, Schleswig-Holstein\, Deutschland
CATEGORIES:Science Day
END:VEVENT
BEGIN:VEVENT
DTSTART;TZID=Europe/Berlin:20240927T170000
DTEND;TZID=Europe/Berlin:20240927T190000
DTSTAMP:20260421T131912
CREATED:20240822T110908Z
LAST-MODIFIED:20240822T111156Z
UID:10000097-1727456400-1727463600@www.kielregion.de
SUMMARY:Reproduzierbare Forschung mit LEGO
DESCRIPTION:Die Methode „LEGO® Metadaten für die Reproduzierbarkeit“ vermittelt eindrücklich und fachunabhängig\, wie wichtig gute Dokumentation für die Reproduzierbarkeit von Forschungsergebnissen ist. Sie wird daher besonders im Rahmen von umfangreichen Forschungsdatenmanagement-Schulungen und Aktionstagen angewendet.
URL:https://www.kielregion.de/event/reproduzierbare-forschung-mit-lego/
LOCATION:RBZ Wirtschaft\, Kiel\, Schleswig-Holstein\, Deutschland
CATEGORIES:Science Day
END:VEVENT
BEGIN:VEVENT
DTSTART;TZID=Europe/Berlin:20240927T170000
DTEND;TZID=Europe/Berlin:20240927T174500
DTSTAMP:20260421T131912
CREATED:20240822T120722Z
LAST-MODIFIED:20240822T121722Z
UID:10000116-1727456400-1727459100@www.kielregion.de
SUMMARY:Kreislaufwirtschaft anfassbar gemacht – von der Arbeit bis nach Hause
DESCRIPTION:
URL:https://www.kielregion.de/event/kreislaufwirtschaft-anfassbar-gemacht-von-der-arbeit-bis-nach-hause/
LOCATION:RBZ Wirtschaft\, Kiel\, Schleswig-Holstein\, Deutschland
CATEGORIES:Science Day
END:VEVENT
BEGIN:VEVENT
DTSTART;TZID=Europe/Berlin:20240927T170000
DTEND;TZID=Europe/Berlin:20240927T174500
DTSTAMP:20260421T131912
CREATED:20240822T120551Z
LAST-MODIFIED:20240822T120551Z
UID:10000115-1727456400-1727459100@www.kielregion.de
SUMMARY:Fortnite: Das Geschäftsmodell hinter der Kulisse
DESCRIPTION:
URL:https://www.kielregion.de/event/fortnite-das-geschaeftsmodell-hinter-der-kulisse/
LOCATION:RBZ Wirtschaft\, Kiel\, Schleswig-Holstein\, Deutschland
CATEGORIES:Science Day
END:VEVENT
BEGIN:VEVENT
DTSTART;TZID=Europe/Berlin:20240927T160000
DTEND;TZID=Europe/Berlin:20240927T220000
DTSTAMP:20260421T131912
CREATED:20240909T162333Z
LAST-MODIFIED:20240909T162333Z
UID:10000136-1727452800-1727474400@www.kielregion.de
SUMMARY:Plantastic colors and where to find them
DESCRIPTION:Performance of some small experiments involving plants and pigments\, to explain concepts like transpiration\, fluorescence and pH.\n\n1) We insert celery stalks into coloured water\, that over time is „called“ at the top of the stem by the process of transpiration. People can observe different stages of the process and then section the celery and observe the plant vases where the water is transported. Here we can explain the process of transpiration and plant structure\n\n2 ) We let the visitors prepare a mixture of mashed spinach leaves and alcohol until all chlorophyll is released\, and pour it into a glass. We then shine a uv-/black light on the glass and show them that it’s fluorescent. Here we can explain what is chlorophyll and the process of fluorescence\n\n3) We prepare beforehand some water in which red cabbage was cooked. This mixture changes colour depending on the pH of the liquid it is mixed into. Here we can explain what pigments are in the red cabbage and what is pH.\n\nEnglischsprachige Mitmachexperimente
URL:https://www.kielregion.de/event/plantastic-colors-and-where-to-find-them/
LOCATION:RBZ Wirtschaft\, Kiel\, Schleswig-Holstein\, Deutschland
CATEGORIES:Science Day
END:VEVENT
BEGIN:VEVENT
DTSTART;TZID=Europe/Berlin:20240927T160000
DTEND;TZID=Europe/Berlin:20240927T220000
DTSTAMP:20260421T131912
CREATED:20240822T121910Z
LAST-MODIFIED:20240822T121910Z
UID:10000117-1727452800-1727474400@www.kielregion.de
SUMMARY:Home Physics: Experiments with Everyday Items
DESCRIPTION:„Discover the wonders of physics right in your kitchen or your bathroom! In this engaging talk\, we’ll explore how to conduct fascinating physics experiments using common household items. From demonstrating fundamental principles like fluiddynamics and waves\, or optics and sound\, you’ll learn how everyday objects can reveal the mysteries of the physical world. Get ready to see science in a whole new light and be inspired to experiment on your own!“\n\nEnglischsprachige Mitmachaktion
URL:https://www.kielregion.de/event/home-physics-experiments-with-everyday-items/
LOCATION:RBZ Wirtschaft\, Kiel\, Schleswig-Holstein\, Deutschland
CATEGORIES:Science Day
END:VEVENT
BEGIN:VEVENT
DTSTART;TZID=Europe/Berlin:20240927T160000
DTEND;TZID=Europe/Berlin:20240927T220000
DTSTAMP:20260421T131912
CREATED:20240822T115920Z
LAST-MODIFIED:20240822T115920Z
UID:10000114-1727452800-1727474400@www.kielregion.de
SUMMARY:Entzündungsforschung entdecken - Von Haut bis Darm\, von Molekularbiologie bis Präzisionsmedizin.
DESCRIPTION:Im Exzellenzcluster „Präzisionsmedizin bei chronischen Entzündungserkrankungen/Precision Medicine in Chronic Inflammation“ (PMI) wird an Ursache\, Behandlung und Prävention von chronischen Entzündungserkrankungen geforscht. Erfahrt an unseren Stand mehr über diese Erkrankungen\, die immer mehr Menschen betreffen. Entdeckt\, was Präzisionsmedizin eigentlich ist\, und welche Rolle zum Beispiel unsere Darmbakterien bei chronischen Entzündungen spielen.
URL:https://www.kielregion.de/event/entzuendungsforschung-entdecken-von-haut-bis-darm-von-molekularbiologie-bis-praezisionsmedizin/
LOCATION:RBZ Wirtschaft\, Kiel\, Schleswig-Holstein\, Deutschland
CATEGORIES:Science Day
END:VEVENT
END:VCALENDAR