BEGIN:VCALENDAR
VERSION:2.0
PRODID:-//KielRegion - ECPv6.15.20//NONSGML v1.0//EN
CALSCALE:GREGORIAN
METHOD:PUBLISH
X-WR-CALNAME:KielRegion
X-ORIGINAL-URL:https://www.kielregion.de
X-WR-CALDESC:Veranstaltungen für KielRegion
REFRESH-INTERVAL;VALUE=DURATION:PT1H
X-Robots-Tag:noindex
X-PUBLISHED-TTL:PT1H
BEGIN:VTIMEZONE
TZID:Europe/Berlin
BEGIN:DAYLIGHT
TZOFFSETFROM:+0100
TZOFFSETTO:+0200
TZNAME:CEST
DTSTART:20230326T010000
END:DAYLIGHT
BEGIN:STANDARD
TZOFFSETFROM:+0200
TZOFFSETTO:+0100
TZNAME:CET
DTSTART:20231029T010000
END:STANDARD
BEGIN:DAYLIGHT
TZOFFSETFROM:+0100
TZOFFSETTO:+0200
TZNAME:CEST
DTSTART:20240331T010000
END:DAYLIGHT
BEGIN:STANDARD
TZOFFSETFROM:+0200
TZOFFSETTO:+0100
TZNAME:CET
DTSTART:20241027T010000
END:STANDARD
BEGIN:DAYLIGHT
TZOFFSETFROM:+0100
TZOFFSETTO:+0200
TZNAME:CEST
DTSTART:20250330T010000
END:DAYLIGHT
BEGIN:STANDARD
TZOFFSETFROM:+0200
TZOFFSETTO:+0100
TZNAME:CET
DTSTART:20251026T010000
END:STANDARD
END:VTIMEZONE
BEGIN:VEVENT
DTSTART;TZID=Europe/Berlin:20240927T160000
DTEND;TZID=Europe/Berlin:20240927T220000
DTSTAMP:20260420T164604
CREATED:20240822T181813Z
LAST-MODIFIED:20240822T181813Z
UID:10000129-1727452800-1727474400@www.kielregion.de
SUMMARY:Birds in Archaeological Research
DESCRIPTION:„The study of bird bones is a relatively recent addition to the array of proxies we use to inform us about ancient humans. Birds were not only hunted and consumed in the past\, they were also a source of materials such as feathers and talons used for symbolic purposes.\nWe can also can use the ecological habitat preferences of each species to infer past climate conditions and the environments in which past humans existed. “\n\nenglischsprachiges Vorführungsexperiement
URL:https://www.kielregion.de/event/birds-in-archaeological-research/
LOCATION:Wissenschaftszentrum\, Fraunhoferstr. 13\, Kiel\, Schleswig-Holstein\, 24118\, Deutschland
CATEGORIES:Science Day
END:VEVENT
BEGIN:VEVENT
DTSTART;TZID=Europe/Berlin:20240927T160000
DTEND;TZID=Europe/Berlin:20240927T220000
DTSTAMP:20260420T164604
CREATED:20240822T181403Z
LAST-MODIFIED:20240822T181403Z
UID:10000128-1727452800-1727474400@www.kielregion.de
SUMMARY:Reise ins Innere der Gesteine
DESCRIPTION:Gesteine bestehen aus Mineralen und Fossilien\, die aber mit dem bloßen Auge meist nicht zu erkennen sind. Die Betrachtung von hauchdünn polierten Gesteinsschliffen mit dem Mikroskop macht diese normalerweise unsichtbaren Strukturen sichtbar. So können wir auf eine Reise in die erstaunlich bunte Welt im Inneren der Gesteine gehen und bekommen eine ganz neue Sichtweise auf den Aufbau der Erde.
URL:https://www.kielregion.de/event/reise-ins-innere-der-gesteine/
LOCATION:Wissenschaftszentrum\, Fraunhoferstr. 13\, Kiel\, Schleswig-Holstein\, 24118\, Deutschland
CATEGORIES:Science Day
END:VEVENT
BEGIN:VEVENT
DTSTART;TZID=Europe/Berlin:20240927T160000
DTEND;TZID=Europe/Berlin:20240927T220000
DTSTAMP:20260420T164604
CREATED:20240822T181223Z
LAST-MODIFIED:20240822T184443Z
UID:10000127-1727452800-1727474400@www.kielregion.de
SUMMARY:Past Climate Miroscopy: Diving into Deep Time with Fossils
DESCRIPTION:Discover how ancient climates shaped the world we live in today and led to the „Big Five“ mass extinctions that drastically altered life on our planet. From tropical jungles to ice ages\, this journey through deep time reveals how the past climate has influenced the evolution and survival of countless species. Join us as we delve into the secrets held in fossils to better understand the Earth’s climate history and its profound impact on life.\n\nenglischsprachiges Mitmachexperiment
URL:https://www.kielregion.de/event/past-climate-miroscopy-diving-into-deep-time-with-fossils/
LOCATION:Wissenschaftszentrum\, Fraunhoferstr. 13\, Kiel\, Schleswig-Holstein\, 24118\, Deutschland
CATEGORIES:Science Day
END:VEVENT
BEGIN:VEVENT
DTSTART;TZID=Europe/Berlin:20240927T160000
DTEND;TZID=Europe/Berlin:20240927T220000
DTSTAMP:20260420T164604
CREATED:20240822T180904Z
LAST-MODIFIED:20240822T180904Z
UID:10000126-1727452800-1727474400@www.kielregion.de
SUMMARY:SEA-EU und die Europäische Union
DESCRIPTION:
URL:https://www.kielregion.de/event/sea-eu-und-die-europaeische-union/
LOCATION:Wissenschaftszentrum\, Fraunhoferstr. 13\, Kiel\, Schleswig-Holstein\, 24118\, Deutschland
CATEGORIES:Science Day
END:VEVENT
BEGIN:VEVENT
DTSTART;TZID=Europe/Berlin:20240927T160000
DTEND;TZID=Europe/Berlin:20240927T220000
DTSTAMP:20260420T164604
CREATED:20240822T180656Z
LAST-MODIFIED:20240822T180656Z
UID:10000125-1727452800-1727474400@www.kielregion.de
SUMMARY:Die Entwicklung erneuerbarer Energien in der KielRegion - Wasserstoff und Co auf dem Vormarsch?
DESCRIPTION:
URL:https://www.kielregion.de/event/die-entwicklung-erneuerbarer-energien-in-der-kielregion-wasserstoff-und-co-auf-dem-vormarsch/
LOCATION:Wissenschaftszentrum\, Fraunhoferstr. 13\, Kiel\, Schleswig-Holstein\, 24118\, Deutschland
CATEGORIES:Science Day
END:VEVENT
BEGIN:VEVENT
DTSTART;TZID=Europe/Berlin:20240927T160000
DTEND;TZID=Europe/Berlin:20240927T220000
DTSTAMP:20260420T164604
CREATED:20240822T180534Z
LAST-MODIFIED:20240822T180534Z
UID:10000124-1727452800-1727474400@www.kielregion.de
SUMMARY:Stadtraumgestaltung für Kinder- Spielerische Planung des Straßenraumes
DESCRIPTION:
URL:https://www.kielregion.de/event/stadtraumgestaltung-fuer-kinder-spielerische-planung-des-strassenraumes/
LOCATION:Wissenschaftszentrum\, Fraunhoferstr. 13\, Kiel\, Schleswig-Holstein\, 24118\, Deutschland
CATEGORIES:Science Day
END:VEVENT
BEGIN:VEVENT
DTSTART;TZID=Europe/Berlin:20240927T160000
DTEND;TZID=Europe/Berlin:20240927T220000
DTSTAMP:20260420T164604
CREATED:20240822T180140Z
LAST-MODIFIED:20240822T184141Z
UID:10000123-1727452800-1727474400@www.kielregion.de
SUMMARY:Neurotronics - Kann man ein Gehirn nachbauen?
DESCRIPTION:Die Forschenden des Sonderforschungsbereichs (SFB) 1461 untersuchen die Nervensysteme und das Wachstum der Nervensysteme\, um solche nachbauen zu können. Hierfür arbeiten viele verschiedene Forschende aus unterschiedlichen Fachbereichen\, u.a. Materialwissenschaften\, Informatik\, Biologie und Elektrotechnik\, zusammen. Durch die interdisziplinäre Zusammenarbeit soll das Ziel erreicht werden neuronale Netze nachzubauen\, bspw. für medizinische Bereiche\, Robotik und das autonome Fahren.
URL:https://www.kielregion.de/event/neurotronics-kann-man-ein-gehirn-nachbauen/
LOCATION:Wissenschaftszentrum\, Fraunhoferstr. 13\, Kiel\, Schleswig-Holstein\, 24118\, Deutschland
CATEGORIES:Science Day
END:VEVENT
BEGIN:VEVENT
DTSTART;TZID=Europe/Berlin:20240927T160000
DTEND;TZID=Europe/Berlin:20240927T220000
DTSTAMP:20260420T164604
CREATED:20240822T175604Z
LAST-MODIFIED:20240829T124258Z
UID:10000135-1727452800-1727474400@www.kielregion.de
SUMMARY:Mitmachangebote rund um die Themen Robotik und Sensorik mit der nawi:werft der Kieler Forschungswerkstatt
DESCRIPTION:Gemeinsam mit der nawi:werft taucht Ihr beim Science Day in die Welt der Robotik und des Programmierens ein. Findet an verschiedenen Stationen heraus\, wie ein Logistikroboter arbeitet\, programmiert ein Arduino Roboterfahrzeug oder den kugeligen Miniroboter Ozobot und erfahrt mehr über selbst gebaute Messgeräte. Zum Entdecken lädt ein Ausstellungsbereich mit Informationen zum Angebot der nawi:werft sowie kreativen Roboterfahrzeugen von Schülerinnen und Schülern ein.
URL:https://www.kielregion.de/event/mitmachangebote-rund-um-die-themen-robotik-und-sensorik-mit-der-nawiwerft-der-kieler-forschungswerkstatt/
LOCATION:Wissenschaftszentrum\, Fraunhoferstr. 13\, Kiel\, Schleswig-Holstein\, 24118\, Deutschland
CATEGORIES:Science Day
END:VEVENT
BEGIN:VEVENT
DTSTART;TZID=Europe/Berlin:20240927T160000
DTEND;TZID=Europe/Berlin:20240927T220000
DTSTAMP:20260420T164604
CREATED:20240822T175424Z
LAST-MODIFIED:20240822T175424Z
UID:10000121-1727452800-1727474400@www.kielregion.de
SUMMARY:Schlagende Argumente für die Jungsteinzeit
DESCRIPTION:„Wie haben Menschen in der Steinzeit ihre Werkzeuge hergestellt – und wie können wir mit Experimenten und Analysen mehr darüber erfahren? Antworten auf diese Fragen bietet am Science Day der Exzellenzcluster\nROOTS. Erleben Sie\, wie der Archäologe Dr. Daniele Moscone aus Feuersteinknollen Klingen und andere Geräte herstellt. Anschließend demonstriert das Team\, wie es die Ergebnisse der Experimente für Analysen nutzt\, die einen Einblick in das Leben der Menschen vor tausenden von Jahren gewähren.“
URL:https://www.kielregion.de/event/schlagende-argumente-fuer-die-jungsteinzeit-2/
LOCATION:Wissenschaftszentrum\, Fraunhoferstr. 13\, Kiel\, Schleswig-Holstein\, 24118\, Deutschland
CATEGORIES:Science Day
END:VEVENT
BEGIN:VEVENT
DTSTART;TZID=Europe/Berlin:20240927T160000
DTEND;TZID=Europe/Berlin:20240927T220000
DTSTAMP:20260420T164604
CREATED:20240822T175314Z
LAST-MODIFIED:20240822T190144Z
UID:10000120-1727452800-1727474400@www.kielregion.de
SUMMARY:Eine Reise in die Vergangenheit
DESCRIPTION:Kommt mit ROOTS und dem archäo:labor der Kieler Forschungswerkstatt auf Zeitreise! Erforscht mit uns\, wie Menschen in früheren Jahrtausenden gelebt haben\, wie sie ihre Umwelt beeinflusst haben und wie die Umwelt die Menschen beeinflusst hat. Gemeinsam mit euch diskutieren wir\, was man heute aus der Vergangenheit lernen kann. Euch erwarten Archäologie zum Mitmachen\, virtuelle Expeditionen und spannende Einsichten in die Welt von der Steinzeit bis ins Mittelalter.
URL:https://www.kielregion.de/event/schlagende-argumente-fuer-die-jungsteinzeit/
LOCATION:Wissenschaftszentrum\, Fraunhoferstr. 13\, Kiel\, Schleswig-Holstein\, 24118\, Deutschland
CATEGORIES:Science Day
END:VEVENT
BEGIN:VEVENT
DTSTART;TZID=Europe/Berlin:20240927T160000
DTEND;TZID=Europe/Berlin:20240927T200000
DTSTAMP:20260420T164604
CREATED:20240822T175109Z
LAST-MODIFIED:20240822T175109Z
UID:10000119-1727452800-1727467200@www.kielregion.de
SUMMARY:Show-Versuche zum Thema "Feuer und Farben"
DESCRIPTION:Mithilfe der Show-Versuche soll die Vielseitigkeit der Chemie für alle Altersgruppen zugänglich gemacht werden. Wir bieten aufregende Versuche\, welche verschiedene chemische Konzepte für alle greifbar machen sollen. Hierbei werden verschiedene Sinne angesprochen und das komplexe Feld der Chemie nahbar gemacht. Wir bieten für unsere kleinen Gäste zudem Versuche zum Mitmachen an\, die Begeisterung für die Chemie wecken.\n\n20-minütige Show um jeweils: 16:00|17:00|18:00|19:00|20:00
URL:https://www.kielregion.de/event/show-versuche-zum-thema-feuer-und-farben/
LOCATION:Wissenschaftszentrum\, Fraunhoferstr. 13\, Kiel\, Schleswig-Holstein\, 24118\, Deutschland
CATEGORIES:Science Day
END:VEVENT
BEGIN:VEVENT
DTSTART;TZID=Europe/Berlin:20240927T160000
DTEND;TZID=Europe/Berlin:20240927T160000
DTSTAMP:20260420T164604
CREATED:20240822T180023Z
LAST-MODIFIED:20240822T180023Z
UID:10000122-1727452800-1727452800@www.kielregion.de
SUMMARY:Mit dem ozean:labor der Kieler Forschungswerkstatt in die Unterwasserwelt eintauchen
DESCRIPTION:Wie sieht Meeresleuchten aus? Kann ich Meeresleuchten auch in der Ostsee erleben? Warum leuchten Tiere in der Tiefsee und wie funktionieren Knicklichter? Auf all diese Fragen findet Ihr beim Science Day Antworten. Alle Interessierten erfahren mehr über das spannende Phänomen Meeresleuchten und tauchen dabei auch in die Unterwasserwelt ein. Außerdem sind Groß und Klein eingeladen\, mit fluoreszierenden Farben selbst kreative Kunstwerke zu erschaffen\, die im Schwarzlicht leuchten.
URL:https://www.kielregion.de/event/mit-dem-ozeanlabor-der-kieler-forschungswerkstatt-in-die-unterwasserwelt-eintauchen/
LOCATION:Wissenschaftszentrum\, Fraunhoferstr. 13\, Kiel\, Schleswig-Holstein\, 24118\, Deutschland
CATEGORIES:Science Day
END:VEVENT
END:VCALENDAR